{"text_format":"1","workbook":"xlsx","n_sheets":3,"sheets":["減価償却費","日付","genka_shokyaku"],"not_rendered":{"charts":0,"images":0,"macros":1,"external_links":0,"defined_names":0,"comments":0,"pivot_tables":0},"unopened":[],"bounds":{"document_bytes":16777216,"sheet_cells":100000,"rows_first":2000,"rows_last":500,"rows_between":2000,"halvings":0,"cell_chars":16384,"cell_head_chars":4096},"cells_cut":0,"cells_raw":0,"read":"whole","date_system":"1900"}

{"sheet":"減価償却費","index":0,"n_rows":4,"n_cols":7,"rows_kept":4,"cut":false,"hidden":false,"merged":[]}
[]
[null,null,"年間","1か月あたり","12か月分","決算","合計"]
[null,"一般管理費",434755,{"$f":"ROUNDDOWN(C3/12,0)","v":36229},{"$f":"D3*12","v":434748},{"$f":"C3-E3","v":7},{"$f":"E3+F3","v":434755}]
[null,"製造経費",104535,{"$f":"ROUNDDOWN(C4/12,0)","v":8711},{"$f":"D4*12","v":104532},{"$f":"C4-E4","v":3},{"$f":"E4+F4","v":104535}]

{"sheet":"日付","index":1,"n_rows":27,"n_cols":3,"rows_kept":27,"cut":false,"hidden":false,"merged":[]}
[]
[null,"2023-01-31",{"$f":"TEXT(B2,\"yyyymmdd\")","v":"20230131"}]
[null,"2023-01-31",{"$f":"TEXT(B3,\"yyyymmdd\")","v":"20230131"}]
[null,{"$f":"EOMONTH(B2,1)","v":"2023-02-28"},"20230228"]
[null,{"$f":"EOMONTH(B3,1)","v":"2023-02-28"},"20230228"]
[null,{"$f":"EOMONTH(B4,1)","v":"2023-03-31"},"20230331"]
[null,{"$f":"EOMONTH(B5,1)","v":"2023-03-31"},"20230331"]
[null,{"$f":"EOMONTH(B6,1)","v":"2023-04-30"},"20230430"]
[null,{"$f":"EOMONTH(B7,1)","v":"2023-04-30"},"20230430"]
[null,{"$f":"EOMONTH(B8,1)","v":"2023-05-31"},"20230531"]
[null,{"$f":"EOMONTH(B9,1)","v":"2023-05-31"},"20230531"]
[null,{"$f":"EOMONTH(B10,1)","v":"2023-06-30"},"20230630"]
[null,{"$f":"EOMONTH(B11,1)","v":"2023-06-30"},"20230630"]
[null,{"$f":"EOMONTH(B12,1)","v":"2023-07-31"},"20230731"]
[null,{"$f":"EOMONTH(B13,1)","v":"2023-07-31"},"20230731"]
[null,{"$f":"EOMONTH(B14,1)","v":"2023-08-31"},"20230831"]
[null,{"$f":"EOMONTH(B15,1)","v":"2023-08-31"},"20230831"]
[null,{"$f":"EOMONTH(B16,1)","v":"2023-09-30"},"20230930"]
[null,{"$f":"EOMONTH(B17,1)","v":"2023-09-30"},"20230930"]
[null,{"$f":"EOMONTH(B18,1)","v":"2023-10-31"},"20231031"]
[null,{"$f":"EOMONTH(B19,1)","v":"2023-10-31"},"20231031"]
[null,{"$f":"EOMONTH(B20,1)","v":"2023-11-30"},"20231130"]
[null,{"$f":"EOMONTH(B21,1)","v":"2023-11-30"},"20231130"]
[null,{"$f":"EOMONTH(B22,1)","v":"2023-12-31"},"20231231"]
[null,{"$f":"EOMONTH(B23,1)","v":"2023-12-31"},"20231231"]
[null,{"$f":"B24","v":"2023-12-31"},{"$f":"LEFT(C24,4)&\"13\"&RIGHT(C24,2)","v":"20231331"}]
[null,{"$f":"B25","v":"2023-12-31"},{"$f":"LEFT(C25,4)&\"13\"&RIGHT(C25,2)","v":"20231331"}]

{"sheet":"genka_shokyaku","index":2,"n_rows":30,"n_cols":30,"rows_kept":30,"cut":false,"hidden":false,"merged":[]}
["// xxxx 瀧本哲司郎税理士事務所 令和 5年12月31日決算"]
["// 出力期間 ： 20230101 ～ 20231231 "]
[]
["//識別フラグ","伝番","日付","借方科目","借方科目名称","借方科目正式名称","借方補助","借方補助名称","借方課区","借方税区","借方税入力方法","借方金額","借方消費税","貸方科目","貸方科目名称","貸方科目正式名称","貸方補助","貸方補助名称","貸方課区","貸方税区","貸方税入力方法","貸方金額","貸方消費税","摘要","借方取引科目","貸方取引科目","借方部門コード","借方部門名称","貸方部門コード","貸方部門名称"]
[1110,null,{"$f":"日付!C2","v":"20230131"},845,"減価償却","減価償却費",null,null,null,null,null,{"$f":"減価償却費!$D$3","v":36229},0,251,"減価累計","減価償却累計額",null,null,null,null,null,{"$f":"L5","v":36229},0,"減価償却費",null,null,0,null,0]
[1101,null,{"$f":"日付!C3","v":"20230131"},745,"減価償却","減価償却費",null,null,null,null,null,{"$f":"減価償却費!$D$4","v":8711},0,251,"減価累計","減価償却累計額",null,null,null,null,null,8711,0,"減価償却費",null,null,0,null,0]
[1110,null,{"$f":"日付!C4","v":"20230228"},845,"減価償却","減価償却費",null,null,null,null,null,{"$f":"減価償却費!$D$3","v":36229},0,251,"減価累計","減価償却累計額",null,null,null,null,null,36229,0,"減価償却費",null,null,0,null,0]
[1101,null,{"$f":"日付!C5","v":"20230228"},745,"減価償却","減価償却費",null,null,null,null,null,{"$f":"減価償却費!$D$4","v":8711},0,251,"減価累計","減価償却累計額",null,null,null,null,null,8711,0,"減価償却費",null,null,0,null,0]
[1110,null,{"$f":"日付!C6","v":"20230331"},845,"減価償却","減価償却費",null,null,null,null,null,{"$f":"減価償却費!$D$3","v":36229},0,251,"減価累計","減価償却累計額",null,null,null,null,null,36229,0,"減価償却費",null,null,0,null,0]
[1101,null,{"$f":"日付!C7","v":"20230331"},745,"減価償却","減価償却費",null,null,null,null,null,{"$f":"減価償却費!$D$4","v":8711},0,251,"減価累計","減価償却累計額",null,null,null,null,null,8711,0,"減価償却費",null,null,0,null,0]
[1110,null,{"$f":"日付!C8","v":"20230430"},845,"減価償却","減価償却費",null,null,null,null,null,{"$f":"減価償却費!$D$3","v":36229},0,251,"減価累計","減価償却累計額",null,null,null,null,null,36229,0,"減価償却費",null,null,0,null,0]
[1101,null,{"$f":"日付!C9","v":"20230430"},745,"減価償却","減価償却費",null,null,null,null,null,{"$f":"減価償却費!$D$4","v":8711},0,251,"減価累計","減価償却累計額",null,null,null,null,null,8711,0,"減価償却費",null,null,0,null,0]
[1110,null,{"$f":"日付!C10","v":"20230531"},845,"減価償却","減価償却費",null,null,null,null,null,{"$f":"減価償却費!$D$3","v":36229},0,251,"減価累計","減価償却累計額",null,null,null,null,null,36229,0,"減価償却費",null,null,0,null,0]
[1101,null,{"$f":"日付!C11","v":"20230531"},745,"減価償却","減価償却費",null,null,null,null,null,{"$f":"減価償却費!$D$4","v":8711},0,251,"減価累計","減価償却累計額",null,null,null,null,null,8711,0,"減価償却費",null,null,0,null,0]
[1110,null,{"$f":"日付!C12","v":"20230630"},845,"減価償却","減価償却費",null,null,null,null,null,{"$f":"減価償却費!$D$3","v":36229},0,251,"減価累計","減価償却累計額",null,null,null,null,null,36229,0,"減価償却費",null,null,0,null,0]
[1101,null,{"$f":"日付!C13","v":"20230630"},745,"減価償却","減価償却費",null,null,null,null,null,{"$f":"減価償却費!$D$4","v":8711},0,251,"減価累計","減価償却累計額",null,null,null,null,null,8711,0,"減価償却費",null,null,0,null,0]
[1110,null,{"$f":"日付!C14","v":"20230731"},845,"減価償却","減価償却費",null,null,null,null,null,{"$f":"減価償却費!$D$3","v":36229},0,251,"減価累計","減価償却累計額",null,null,null,null,null,36229,0,"減価償却費",null,null,0,null,0]
[1101,null,{"$f":"日付!C15","v":"20230731"},745,"減価償却","減価償却費",null,null,null,null,null,{"$f":"減価償却費!$D$4","v":8711},0,251,"減価累計","減価償却累計額",null,null,null,null,null,8711,0,"減価償却費",null,null,0,null,0]
[1110,null,{"$f":"日付!C16","v":"20230831"},845,"減価償却","減価償却費",null,null,null,null,null,{"$f":"減価償却費!$D$3","v":36229},0,251,"減価累計","減価償却累計額",null,null,null,null,null,36229,0,"減価償却費",null,null,0,null,0]
[1101,null,{"$f":"日付!C17","v":"20230831"},745,"減価償却","減価償却費",null,null,null,null,null,{"$f":"減価償却費!$D$4","v":8711},0,251,"減価累計","減価償却累計額",null,null,null,null,null,8711,0,"減価償却費",null,null,0,null,0]
[1110,null,{"$f":"日付!C18","v":"20230930"},845,"減価償却","減価償却費",null,null,null,null,null,{"$f":"減価償却費!$D$3","v":36229},0,251,"減価累計","減価償却累計額",null,null,null,null,null,36229,0,"減価償却費",null,null,0,null,0]
[1101,null,{"$f":"日付!C19","v":"20230930"},745,"減価償却","減価償却費",null,null,null,null,null,{"$f":"減価償却費!$D$4","v":8711},0,251,"減価累計","減価償却累計額",null,null,null,null,null,8711,0,"減価償却費",null,null,0,null,0]
[1110,null,{"$f":"日付!C20","v":"20231031"},845,"減価償却","減価償却費",null,null,null,null,null,{"$f":"減価償却費!$D$3","v":36229},0,251,"減価累計","減価償却累計額",null,null,null,null,null,36229,0,"減価償却費",null,null,0,null,0]
[1101,null,{"$f":"日付!C21","v":"20231031"},745,"減価償却","減価償却費",null,null,null,null,null,{"$f":"減価償却費!$D$4","v":8711},0,251,"減価累計","減価償却累計額",null,null,null,null,null,8711,0,"減価償却費",null,null,0,null,0]
[1110,null,{"$f":"日付!C22","v":"20231130"},845,"減価償却","減価償却費",null,null,null,null,null,{"$f":"減価償却費!$D$3","v":36229},0,251,"減価累計","減価償却累計額",null,null,null,null,null,36229,0,"減価償却費",null,null,0,null,0]
[1101,null,{"$f":"日付!C23","v":"20231130"},745,"減価償却","減価償却費",null,null,null,null,null,{"$f":"減価償却費!$D$4","v":8711},0,251,"減価累計","減価償却累計額",null,null,null,null,null,8711,0,"減価償却費",null,null,0,null,0]
[1110,null,{"$f":"日付!C24","v":"20231231"},845,"減価償却","減価償却費",null,null,null,null,null,{"$f":"減価償却費!$D$3","v":36229},0,251,"減価累計","減価償却累計額",null,null,null,null,null,36229,0,"減価償却費",null,null,0,null,0]
[1101,null,{"$f":"日付!C25","v":"20231231"},745,"減価償却","減価償却費",null,null,null,null,null,{"$f":"減価償却費!$D$4","v":8711},0,251,"減価累計","減価償却累計額",null,null,null,null,null,8711,0,"減価償却費",null,null,0,null,0]
[1110,null,{"$f":"日付!C26","v":"20231331"},845,"減価償却","減価償却費",null,null,null,null,null,{"$f":"減価償却費!$F$3","v":7},0,251,"減価累計","減価償却累計額",null,null,null,null,null,7,0,"減価償却費",null,null,0,null,0]
[1101,null,{"$f":"日付!C27","v":"20231331"},745,"減価償却","減価償却費",null,null,null,null,null,{"$f":"減価償却費!F4","v":3},0,251,"減価累計","減価償却累計額",null,null,null,null,null,3,0,"減価償却費",null,null,0,null,0]