{"text_format":"1","workbook":"xlsx","n_sheets":3,"sheets":["Sheet1","Sheet2","Sheet3"],"not_rendered":{"charts":0,"images":0,"macros":1,"external_links":0,"defined_names":0,"comments":0,"pivot_tables":0},"unopened":[],"bounds":{"document_bytes":16777216,"sheet_cells":100000,"rows_first":2000,"rows_last":500,"rows_between":2000,"halvings":0,"cell_chars":16384,"cell_head_chars":4096},"cells_cut":0,"cells_raw":0,"read":"whole","date_system":"1900"}

{"sheet":"Sheet1","index":0,"n_rows":15,"n_cols":5,"rows_kept":15,"cut":false,"hidden":false,"merged":[]}
[]
[null,"相手先コード","0001","0002","0003"]
[null,"相手先名称","相手先A","相手先B","相手先C"]
[null,"料金_1",10000,20000,15000]
[null,"料金_2",{"$f":"C4*4","v":40000},{"$f":"D4*4","v":80000},60000]
[null,"料金_3",{"$f":"C4/2","v":5000},{"$f":"D4/2","v":10000},"対象外"]
[]
[null,"料金_4",3000,"対象外",0]
[null,"数量","3","対象外","0"]
[null,"計",{"$f":"C8*C9","v":9000},"対象外",{"$f":"E8*E9","v":0}]
[]
[null,"料金_5　基本料",5000,5000,3000]
[null,"料金_5　単価",500,500,500]
[null,"数量","6","5","0"]
[null,"計",{"$f":"C12+C13*C14","v":8000},{"$f":"D12+D13*D14","v":7500},3000]

{"sheet":"Sheet2","index":1,"n_rows":15,"n_cols":5,"rows_kept":15,"cut":false,"hidden":false,"merged":[]}
[]
[null,"相手先コード","0001","0002","0003"]
[null,"相手先名称","相手先A","相手先B","相手先C"]
[null,"料金_1",{"$f":"IF(ISNUMBER(Sheet1!C4),Sheet1!C4*1.1,Sheet1!C4&\"\")","v":11000},{"$f":"IF(ISNUMBER(Sheet1!D4),Sheet1!D4*1.1,Sheet1!D4&\"\")","v":22000},{"$f":"IF(ISNUMBER(Sheet1!E4),Sheet1!E4*1.1,Sheet1!E4&\"\")","v":16500}]
[null,"料金_2",{"$f":"IF(ISNUMBER(Sheet1!C5),Sheet1!C5*1.1,Sheet1!C5&\"\")","v":44000},{"$f":"IF(ISNUMBER(Sheet1!D5),Sheet1!D5*1.1,Sheet1!D5&\"\")","v":88000},{"$f":"IF(ISNUMBER(Sheet1!E5),Sheet1!E5*1.1,Sheet1!E5&\"\")","v":66000}]
[null,"料金_3",{"$f":"IF(ISNUMBER(Sheet1!C6),Sheet1!C6*1.1,Sheet1!C6&\"\")","v":5500},{"$f":"IF(ISNUMBER(Sheet1!D6),Sheet1!D6*1.1,Sheet1!D6&\"\")","v":11000},{"$f":"IF(ISNUMBER(Sheet1!E6),Sheet1!E6*1.1,Sheet1!E6&\"\")","v":"対象外"}]
[null,null,{"$f":"IF(ISNUMBER(Sheet1!C7),Sheet1!C7*1.1,Sheet1!C7&\"\")","v":""},{"$f":"IF(ISNUMBER(Sheet1!D7),Sheet1!D7*1.1,Sheet1!D7&\"\")","v":""},{"$f":"IF(ISNUMBER(Sheet1!E7),Sheet1!E7*1.1,Sheet1!E7&\"\")","v":""}]
[null,"料金_4",{"$f":"IF(ISNUMBER(Sheet1!C8),Sheet1!C8*1.1,Sheet1!C8&\"\")","v":3300.0000000000005},{"$f":"IF(ISNUMBER(Sheet1!D8),Sheet1!D8*1.1,Sheet1!D8&\"\")","v":"対象外"},{"$f":"IF(ISNUMBER(Sheet1!E8),Sheet1!E8*1.1,Sheet1!E8&\"\")","v":0}]
[null,"数量",{"$f":"IF(ISNUMBER(Sheet1!C9),Sheet1!C9*1.1,Sheet1!C9&\"\")","v":"3"},{"$f":"IF(ISNUMBER(Sheet1!D9),Sheet1!D9*1.1,Sheet1!D9&\"\")","v":"対象外"},{"$f":"IF(ISNUMBER(Sheet1!E9),Sheet1!E9*1.1,Sheet1!E9&\"\")","v":"0"}]
[null,"計",{"$f":"IF(ISNUMBER(Sheet1!C10),Sheet1!C10*1.1,Sheet1!C10&\"\")","v":9900},{"$f":"IF(ISNUMBER(Sheet1!D10),Sheet1!D10*1.1,Sheet1!D10&\"\")","v":"対象外"},{"$f":"IF(ISNUMBER(Sheet1!E10),Sheet1!E10*1.1,Sheet1!E10&\"\")","v":0}]
[null,null,{"$f":"IF(ISNUMBER(Sheet1!C11),Sheet1!C11*1.1,Sheet1!C11&\"\")","v":""},{"$f":"IF(ISNUMBER(Sheet1!D11),Sheet1!D11*1.1,Sheet1!D11&\"\")","v":""},{"$f":"IF(ISNUMBER(Sheet1!E11),Sheet1!E11*1.1,Sheet1!E11&\"\")","v":""}]
[null,"料金_5　基本料",{"$f":"IF(ISNUMBER(Sheet1!C12),Sheet1!C12*1.1,Sheet1!C12&\"\")","v":5500},{"$f":"IF(ISNUMBER(Sheet1!D12),Sheet1!D12*1.1,Sheet1!D12&\"\")","v":5500},{"$f":"IF(ISNUMBER(Sheet1!E12),Sheet1!E12*1.1,Sheet1!E12&\"\")","v":3300.0000000000005}]
[null,"料金_5　単価",{"$f":"IF(ISNUMBER(Sheet1!C13),Sheet1!C13*1.1,Sheet1!C13&\"\")","v":550},{"$f":"IF(ISNUMBER(Sheet1!D13),Sheet1!D13*1.1,Sheet1!D13&\"\")","v":550},{"$f":"IF(ISNUMBER(Sheet1!E13),Sheet1!E13*1.1,Sheet1!E13&\"\")","v":550}]
[null,"数量",{"$f":"IF(ISNUMBER(Sheet1!C14),Sheet1!C14*1.1,Sheet1!C14&\"\")","v":"6"},{"$f":"IF(ISNUMBER(Sheet1!D14),Sheet1!D14*1.1,Sheet1!D14&\"\")","v":"5"},{"$f":"IF(ISNUMBER(Sheet1!E14),Sheet1!E14*1.1,Sheet1!E14&\"\")","v":"0"}]
[null,"計",{"$f":"IF(ISNUMBER(Sheet1!C15),Sheet1!C15*1.1,Sheet1!C15&\"\")","v":8800},{"$f":"IF(ISNUMBER(Sheet1!D15),Sheet1!D15*1.1,Sheet1!D15&\"\")","v":8250},{"$f":"IF(ISNUMBER(Sheet1!E15),Sheet1!E15*1.1,Sheet1!E15&\"\")","v":3300.0000000000005}]

{"sheet":"Sheet3","index":2,"n_rows":15,"n_cols":5,"rows_kept":15,"cut":false,"hidden":false,"merged":[]}
[]
[null,"相手先コード","0001","0001","0001"]
[null,"相手先名称","相手先A","相手先B","相手先C"]
[null,"料金_1",{"$f":"Sheet1!C4*1.1","v":11000},{"$f":"Sheet1!D4*1.1","v":22000},{"$f":"Sheet1!E4*1.1","v":16500}]
[null,"料金_2",{"$f":"Sheet1!C5*1.1","v":44000},{"$f":"Sheet1!D5*1.1","v":88000},{"$f":"Sheet1!E5*1.1","v":66000}]
[null,"料金_3",{"$f":"Sheet1!C6*1.1","v":5500},{"$f":"Sheet1!D6*1.1","v":11000},{"$f":"Sheet1!E6*1.1","v":{"$error":"#VALUE!"}}]
[null,null,{"$f":"Sheet1!C7*1.1","v":0},{"$f":"Sheet1!D7*1.1","v":0},{"$f":"Sheet1!E7*1.1","v":0}]
[null,"料金_4",{"$f":"Sheet1!C8*1.1","v":3300.0000000000005},{"$f":"Sheet1!D8*1.1","v":{"$error":"#VALUE!"}},{"$f":"Sheet1!E8*1.1","v":0}]
[null,"数量",{"$f":"Sheet1!C9*1.1","v":3.3000000000000003},{"$f":"Sheet1!D9*1.1","v":{"$error":"#VALUE!"}},{"$f":"Sheet1!E9*1.1","v":0}]
[null,"計",{"$f":"Sheet1!C10*1.1","v":9900},{"$f":"Sheet1!D10*1.1","v":{"$error":"#VALUE!"}},{"$f":"Sheet1!E10*1.1","v":0}]
[null,null,{"$f":"Sheet1!C11*1.1","v":0},{"$f":"Sheet1!D11*1.1","v":0},{"$f":"Sheet1!E11*1.1","v":0}]
[null,"料金_5　基本料",{"$f":"Sheet1!C12*1.1","v":5500},{"$f":"Sheet1!D12*1.1","v":5500},{"$f":"Sheet1!E12*1.1","v":3300.0000000000005}]
[null,"料金_5　単価",{"$f":"Sheet1!C13*1.1","v":550},{"$f":"Sheet1!D13*1.1","v":550},{"$f":"Sheet1!E13*1.1","v":550}]
[null,"数量",{"$f":"Sheet1!C14*1.1","v":6.6000000000000005},{"$f":"Sheet1!D14*1.1","v":5.5},{"$f":"Sheet1!E14*1.1","v":0}]
[null,"計",{"$f":"Sheet1!C15*1.1","v":8800},{"$f":"Sheet1!D15*1.1","v":8250},{"$f":"Sheet1!E15*1.1","v":3300.0000000000005}]