{"text_format":"1","workbook":"xlsx","n_sheets":6,"sheets":["export","export_copy","temp","kamoku","shukei","getsuji"],"not_rendered":{"charts":0,"images":0,"macros":1,"external_links":0,"defined_names":0,"comments":0,"pivot_tables":0},"unopened":[],"bounds":{"document_bytes":16777216,"sheet_cells":100000,"rows_first":2000,"rows_last":500,"rows_between":2000,"halvings":0,"cell_chars":16384,"cell_head_chars":4096},"cells_cut":0,"cells_raw":0,"read":"whole","date_system":"1900"}

{"sheet":"export","index":0,"n_rows":0,"n_cols":0,"rows_kept":0,"cut":false,"hidden":false,"merged":[]}

{"sheet":"export_copy","index":1,"n_rows":0,"n_cols":0,"rows_kept":0,"cut":false,"hidden":false,"merged":[]}

{"sheet":"temp","index":2,"n_rows":0,"n_cols":0,"rows_kept":0,"cut":false,"hidden":false,"merged":[]}

{"sheet":"kamoku","index":3,"n_rows":0,"n_cols":0,"rows_kept":0,"cut":false,"hidden":false,"merged":[]}

{"sheet":"shukei","index":4,"n_rows":0,"n_cols":0,"rows_kept":0,"cut":false,"hidden":false,"merged":[]}

{"sheet":"getsuji","index":5,"n_rows":44,"n_cols":42,"rows_kept":44,"cut":false,"hidden":false,"merged":[]}
[]
[null,null,null,"2016-04-01",{"$f":"EDATE(D2,1)","v":"2016-05-01"},{"$f":"EDATE(E2,1)","v":"2016-06-01"},"2016-07-01","2016-08-01","2016-09-01","2016-10-01","2016-11-01","2016-12-01","2017-01-01","2017-02-01","2017-03-01",{"$f":"O2","v":"2017-03-01"},"2017-04-01",{"$f":"EDATE(Q2,1)","v":"2017-05-01"},"2017-06-01","2017-07-01","2017-08-01","2017-09-01","2017-10-01","2017-11-01","2017-12-01","2018-01-01","2018-02-01","2018-03-01",{"$f":"AB2","v":"2018-03-01"},"2018-04-01",{"$f":"EDATE(AD2,1)","v":"2018-05-01"},"2018-06-01","2018-07-01","2018-08-01","2018-09-01","2018-10-01","2018-11-01","2018-12-01","2019-01-01","2019-02-01","2019-03-01",{"$f":"AO2","v":"2019-03-01"}]
[null,null,null,{"$f":"SUMIFS(shukei!$C:$C,shukei!$B:$B,\"=\"&getsuji!$B3,shukei!$A:$A,TEXT(D$2,\"yyyymm\"))","v":0},{"$f":"SUMIFS(shukei!$C:$C,shukei!$B:$B,\"=\"&getsuji!$B3,shukei!$A:$A,TEXT(E$2,\"yyyymm\"))","v":0},{"$f":"SUMIFS(shukei!$C:$C,shukei!$B:$B,\"=\"&getsuji!$B3,shukei!$A:$A,TEXT(F$2,\"yyyymm\"))","v":0},{"$f":"SUMIFS(shukei!$C:$C,shukei!$B:$B,\"=\"&getsuji!$B3,shukei!$A:$A,TEXT(G$2,\"yyyymm\"))","v":0},{"$f":"SUMIFS(shukei!$C:$C,shukei!$B:$B,\"=\"&getsuji!$B3,shukei!$A:$A,TEXT(H$2,\"yyyymm\"))","v":0},{"$f":"SUMIFS(shukei!$C:$C,shukei!$B:$B,\"=\"&getsuji!$B3,shukei!$A:$A,TEXT(I$2,\"yyyymm\"))","v":0},{"$f":"SUMIFS(shukei!$C:$C,shukei!$B:$B,\"=\"&getsuji!$B3,shukei!$A:$A,TEXT(J$2,\"yyyymm\"))","v":0},{"$f":"SUMIFS(shukei!$C:$C,shukei!$B:$B,\"=\"&getsuji!$B3,shukei!$A:$A,TEXT(K$2,\"yyyymm\"))","v":0},{"$f":"SUMIFS(shukei!$C:$C,shukei!$B:$B,\"=\"&getsuji!$B3,shukei!$A:$A,TEXT(L$2,\"yyyymm\"))","v":0},{"$f":"SUMIFS(shukei!$C:$C,shukei!$B:$B,\"=\"&getsuji!$B3,shukei!$A:$A,TEXT(M$2,\"yyyymm\"))","v":0},{"$f":"SUMIFS(shukei!$C:$C,shukei!$B:$B,\"=\"&getsuji!$B3,shukei!$A:$A,TEXT(N$2,\"yyyymm\"))","v":0},{"$f":"SUMIFS(shukei!$C:$C,shukei!$B:$B,\"=\"&getsuji!$B3,shukei!$A:$A,TEXT(O$2,\"yyyymm\"))","v":0},{"$f":"SUMIFS(shukei!$C:$C,shukei!$B:$B,\"=\"&getsuji!$B3,shukei!$A:$A,TEXT(P$2,\"yyyy\")&\"13\")","v":0},{"$f":"SUMIFS(shukei!$C:$C,shukei!$B:$B,\"=\"&getsuji!$B3,shukei!$A:$A,TEXT(Q$2,\"yyyymm\"))","v":0},{"$f":"SUMIFS(shukei!$C:$C,shukei!$B:$B,\"=\"&getsuji!$B3,shukei!$A:$A,TEXT(R$2,\"yyyymm\"))","v":0},{"$f":"SUMIFS(shukei!$C:$C,shukei!$B:$B,\"=\"&getsuji!$B3,shukei!$A:$A,TEXT(S$2,\"yyyymm\"))","v":0},{"$f":"SUMIFS(shukei!$C:$C,shukei!$B:$B,\"=\"&getsuji!$B3,shukei!$A:$A,TEXT(T$2,\"yyyymm\"))","v":0},{"$f":"SUMIFS(shukei!$C:$C,shukei!$B:$B,\"=\"&getsuji!$B3,shukei!$A:$A,TEXT(U$2,\"yyyymm\"))","v":0},{"$f":"SUMIFS(shukei!$C:$C,shukei!$B:$B,\"=\"&getsuji!$B3,shukei!$A:$A,TEXT(V$2,\"yyyymm\"))","v":0},{"$f":"SUMIFS(shukei!$C:$C,shukei!$B:$B,\"=\"&getsuji!$B3,shukei!$A:$A,TEXT(W$2,\"yyyymm\"))","v":0},{"$f":"SUMIFS(shukei!$C:$C,shukei!$B:$B,\"=\"&getsuji!$B3,shukei!$A:$A,TEXT(X$2,\"yyyymm\"))","v":0},{"$f":"SUMIFS(shukei!$C:$C,shukei!$B:$B,\"=\"&getsuji!$B3,shukei!$A:$A,TEXT(Y$2,\"yyyymm\"))","v":0},{"$f":"SUMIFS(shukei!$C:$C,shukei!$B:$B,\"=\"&getsuji!$B3,shukei!$A:$A,TEXT(Z$2,\"yyyymm\"))","v":0},{"$f":"SUMIFS(shukei!$C:$C,shukei!$B:$B,\"=\"&getsuji!$B3,shukei!$A:$A,TEXT(AA$2,\"yyyymm\"))","v":0},{"$f":"SUMIFS(shukei!$C:$C,shukei!$B:$B,\"=\"&getsuji!$B3,shukei!$A:$A,TEXT(AB$2,\"yyyymm\"))","v":0},{"$f":"SUMIFS(shukei!$C:$C,shukei!$B:$B,\"=\"&getsuji!$B3,shukei!$A:$A,TEXT(AC$2,\"yyyy\")&\"13\")","v":0},{"$f":"SUMIFS(shukei!$C:$C,shukei!$B:$B,\"=\"&getsuji!$B3,shukei!$A:$A,TEXT(AD$2,\"yyyymm\"))","v":0},{"$f":"SUMIFS(shukei!$C:$C,shukei!$B:$B,\"=\"&getsuji!$B3,shukei!$A:$A,TEXT(AE$2,\"yyyymm\"))","v":0},{"$f":"SUMIFS(shukei!$C:$C,shukei!$B:$B,\"=\"&getsuji!$B3,shukei!$A:$A,TEXT(AF$2,\"yyyymm\"))","v":0},{"$f":"SUMIFS(shukei!$C:$C,shukei!$B:$B,\"=\"&getsuji!$B3,shukei!$A:$A,TEXT(AG$2,\"yyyymm\"))","v":0},{"$f":"SUMIFS(shukei!$C:$C,shukei!$B:$B,\"=\"&getsuji!$B3,shukei!$A:$A,TEXT(AH$2,\"yyyymm\"))","v":0},{"$f":"SUMIFS(shukei!$C:$C,shukei!$B:$B,\"=\"&getsuji!$B3,shukei!$A:$A,TEXT(AI$2,\"yyyymm\"))","v":0},{"$f":"SUMIFS(shukei!$C:$C,shukei!$B:$B,\"=\"&getsuji!$B3,shukei!$A:$A,TEXT(AJ$2,\"yyyymm\"))","v":0},{"$f":"SUMIFS(shukei!$C:$C,shukei!$B:$B,\"=\"&getsuji!$B3,shukei!$A:$A,TEXT(AK$2,\"yyyymm\"))","v":0},{"$f":"SUMIFS(shukei!$C:$C,shukei!$B:$B,\"=\"&getsuji!$B3,shukei!$A:$A,TEXT(AL$2,\"yyyymm\"))","v":0},{"$f":"SUMIFS(shukei!$C:$C,shukei!$B:$B,\"=\"&getsuji!$B3,shukei!$A:$A,TEXT(AM$2,\"yyyymm\"))","v":0},{"$f":"SUMIFS(shukei!$C:$C,shukei!$B:$B,\"=\"&getsuji!$B3,shukei!$A:$A,TEXT(AN$2,\"yyyymm\"))","v":0},{"$f":"SUMIFS(shukei!$C:$C,shukei!$B:$B,\"=\"&getsuji!$B3,shukei!$A:$A,TEXT(AO$2,\"yyyymm\"))","v":0},{"$f":"SUMIFS(shukei!$C:$C,shukei!$B:$B,\"=\"&getsuji!$B3,shukei!$A:$A,TEXT(AP$2,\"yyyy\")&\"13\")","v":0}]
[null,null,null,{"$f":"SUMIFS(shukei!$C:$C,shukei!$B:$B,\"=\"&getsuji!$B4,shukei!$A:$A,TEXT(D$2,\"yyyymm\"))","v":0},{"$f":"SUMIFS(shukei!$C:$C,shukei!$B:$B,\"=\"&getsuji!$B4,shukei!$A:$A,TEXT(E$2,\"yyyymm\"))","v":0},{"$f":"SUMIFS(shukei!$C:$C,shukei!$B:$B,\"=\"&getsuji!$B4,shukei!$A:$A,TEXT(F$2,\"yyyymm\"))","v":0},{"$f":"SUMIFS(shukei!$C:$C,shukei!$B:$B,\"=\"&getsuji!$B4,shukei!$A:$A,TEXT(G$2,\"yyyymm\"))","v":0},{"$f":"SUMIFS(shukei!$C:$C,shukei!$B:$B,\"=\"&getsuji!$B4,shukei!$A:$A,TEXT(H$2,\"yyyymm\"))","v":0},{"$f":"SUMIFS(shukei!$C:$C,shukei!$B:$B,\"=\"&getsuji!$B4,shukei!$A:$A,TEXT(I$2,\"yyyymm\"))","v":0},{"$f":"SUMIFS(shukei!$C:$C,shukei!$B:$B,\"=\"&getsuji!$B4,shukei!$A:$A,TEXT(J$2,\"yyyymm\"))","v":0},{"$f":"SUMIFS(shukei!$C:$C,shukei!$B:$B,\"=\"&getsuji!$B4,shukei!$A:$A,TEXT(K$2,\"yyyymm\"))","v":0},{"$f":"SUMIFS(shukei!$C:$C,shukei!$B:$B,\"=\"&getsuji!$B4,shukei!$A:$A,TEXT(L$2,\"yyyymm\"))","v":0},{"$f":"SUMIFS(shukei!$C:$C,shukei!$B:$B,\"=\"&getsuji!$B4,shukei!$A:$A,TEXT(M$2,\"yyyymm\"))","v":0},{"$f":"SUMIFS(shukei!$C:$C,shukei!$B:$B,\"=\"&getsuji!$B4,shukei!$A:$A,TEXT(N$2,\"yyyymm\"))","v":0},{"$f":"SUMIFS(shukei!$C:$C,shukei!$B:$B,\"=\"&getsuji!$B4,shukei!$A:$A,TEXT(O$2,\"yyyymm\"))","v":0},{"$f":"SUMIFS(shukei!$C:$C,shukei!$B:$B,\"=\"&getsuji!$B4,shukei!$A:$A,TEXT(P$2,\"yyyy\")&\"13\")","v":0},{"$f":"SUMIFS(shukei!$C:$C,shukei!$B:$B,\"=\"&getsuji!$B4,shukei!$A:$A,TEXT(Q$2,\"yyyymm\"))","v":0},{"$f":"SUMIFS(shukei!$C:$C,shukei!$B:$B,\"=\"&getsuji!$B4,shukei!$A:$A,TEXT(R$2,\"yyyymm\"))","v":0},{"$f":"SUMIFS(shukei!$C:$C,shukei!$B:$B,\"=\"&getsuji!$B4,shukei!$A:$A,TEXT(S$2,\"yyyymm\"))","v":0},{"$f":"SUMIFS(shukei!$C:$C,shukei!$B:$B,\"=\"&getsuji!$B4,shukei!$A:$A,TEXT(T$2,\"yyyymm\"))","v":0},{"$f":"SUMIFS(shukei!$C:$C,shukei!$B:$B,\"=\"&getsuji!$B4,shukei!$A:$A,TEXT(U$2,\"yyyymm\"))","v":0},{"$f":"SUMIFS(shukei!$C:$C,shukei!$B:$B,\"=\"&getsuji!$B4,shukei!$A:$A,TEXT(V$2,\"yyyymm\"))","v":0},{"$f":"SUMIFS(shukei!$C:$C,shukei!$B:$B,\"=\"&getsuji!$B4,shukei!$A:$A,TEXT(W$2,\"yyyymm\"))","v":0},{"$f":"SUMIFS(shukei!$C:$C,shukei!$B:$B,\"=\"&getsuji!$B4,shukei!$A:$A,TEXT(X$2,\"yyyymm\"))","v":0},{"$f":"SUMIFS(shukei!$C:$C,shukei!$B:$B,\"=\"&getsuji!$B4,shukei!$A:$A,TEXT(Y$2,\"yyyymm\"))","v":0},{"$f":"SUMIFS(shukei!$C:$C,shukei!$B:$B,\"=\"&getsuji!$B4,shukei!$A:$A,TEXT(Z$2,\"yyyymm\"))","v":0},{"$f":"SUMIFS(shukei!$C:$C,shukei!$B:$B,\"=\"&getsuji!$B4,shukei!$A:$A,TEXT(AA$2,\"yyyymm\"))","v":0},{"$f":"SUMIFS(shukei!$C:$C,shukei!$B:$B,\"=\"&getsuji!$B4,shukei!$A:$A,TEXT(AB$2,\"yyyymm\"))","v":0},{"$f":"SUMIFS(shukei!$C:$C,shukei!$B:$B,\"=\"&getsuji!$B4,shukei!$A:$A,TEXT(AC$2,\"yyyy\")&\"13\")","v":0},{"$f":"SUMIFS(shukei!$C:$C,shukei!$B:$B,\"=\"&getsuji!$B4,shukei!$A:$A,TEXT(AD$2,\"yyyymm\"))","v":0},{"$f":"SUMIFS(shukei!$C:$C,shukei!$B:$B,\"=\"&getsuji!$B4,shukei!$A:$A,TEXT(AE$2,\"yyyymm\"))","v":0},{"$f":"SUMIFS(shukei!$C:$C,shukei!$B:$B,\"=\"&getsuji!$B4,shukei!$A:$A,TEXT(AF$2,\"yyyymm\"))","v":0},{"$f":"SUMIFS(shukei!$C:$C,shukei!$B:$B,\"=\"&getsuji!$B4,shukei!$A:$A,TEXT(AG$2,\"yyyymm\"))","v":0},{"$f":"SUMIFS(shukei!$C:$C,shukei!$B:$B,\"=\"&getsuji!$B4,shukei!$A:$A,TEXT(AH$2,\"yyyymm\"))","v":0},{"$f":"SUMIFS(shukei!$C:$C,shukei!$B:$B,\"=\"&getsuji!$B4,shukei!$A:$A,TEXT(AI$2,\"yyyymm\"))","v":0},{"$f":"SUMIFS(shukei!$C:$C,shukei!$B:$B,\"=\"&getsuji!$B4,shukei!$A:$A,TEXT(AJ$2,\"yyyymm\"))","v":0},{"$f":"SUMIFS(shukei!$C:$C,shukei!$B:$B,\"=\"&getsuji!$B4,shukei!$A:$A,TEXT(AK$2,\"yyyymm\"))","v":0},{"$f":"SUMIFS(shukei!$C:$C,shukei!$B:$B,\"=\"&getsuji!$B4,shukei!$A:$A,TEXT(AL$2,\"yyyymm\"))","v":0},{"$f":"SUMIFS(shukei!$C:$C,shukei!$B:$B,\"=\"&getsuji!$B4,shukei!$A:$A,TEXT(AM$2,\"yyyymm\"))","v":0},{"$f":"SUMIFS(shukei!$C:$C,shukei!$B:$B,\"=\"&getsuji!$B4,shukei!$A:$A,TEXT(AN$2,\"yyyymm\"))","v":0},{"$f":"SUMIFS(shukei!$C:$C,shukei!$B:$B,\"=\"&getsuji!$B4,shukei!$A:$A,TEXT(AO$2,\"yyyymm\"))","v":0},{"$f":"SUMIFS(shukei!$C:$C,shukei!$B:$B,\"=\"&getsuji!$B4,shukei!$A:$A,TEXT(AP$2,\"yyyy\")&\"13\")","v":0}]
[null,null,null,{"$f":"SUMIFS(shukei!$C:$C,shukei!$B:$B,\"=\"&getsuji!$B5,shukei!$A:$A,TEXT(D$2,\"yyyymm\"))","v":0},{"$f":"SUMIFS(shukei!$C:$C,shukei!$B:$B,\"=\"&getsuji!$B5,shukei!$A:$A,TEXT(E$2,\"yyyymm\"))","v":0},{"$f":"SUMIFS(shukei!$C:$C,shukei!$B:$B,\"=\"&getsuji!$B5,shukei!$A:$A,TEXT(F$2,\"yyyymm\"))","v":0},{"$f":"SUMIFS(shukei!$C:$C,shukei!$B:$B,\"=\"&getsuji!$B5,shukei!$A:$A,TEXT(G$2,\"yyyymm\"))","v":0},{"$f":"SUMIFS(shukei!$C:$C,shukei!$B:$B,\"=\"&getsuji!$B5,shukei!$A:$A,TEXT(H$2,\"yyyymm\"))","v":0},{"$f":"SUMIFS(shukei!$C:$C,shukei!$B:$B,\"=\"&getsuji!$B5,shukei!$A:$A,TEXT(I$2,\"yyyymm\"))","v":0},{"$f":"SUMIFS(shukei!$C:$C,shukei!$B:$B,\"=\"&getsuji!$B5,shukei!$A:$A,TEXT(J$2,\"yyyymm\"))","v":0},{"$f":"SUMIFS(shukei!$C:$C,shukei!$B:$B,\"=\"&getsuji!$B5,shukei!$A:$A,TEXT(K$2,\"yyyymm\"))","v":0},{"$f":"SUMIFS(shukei!$C:$C,shukei!$B:$B,\"=\"&getsuji!$B5,shukei!$A:$A,TEXT(L$2,\"yyyymm\"))","v":0},{"$f":"SUMIFS(shukei!$C:$C,shukei!$B:$B,\"=\"&getsuji!$B5,shukei!$A:$A,TEXT(M$2,\"yyyymm\"))","v":0},{"$f":"SUMIFS(shukei!$C:$C,shukei!$B:$B,\"=\"&getsuji!$B5,shukei!$A:$A,TEXT(N$2,\"yyyymm\"))","v":0},{"$f":"SUMIFS(shukei!$C:$C,shukei!$B:$B,\"=\"&getsuji!$B5,shukei!$A:$A,TEXT(O$2,\"yyyymm\"))","v":0},{"$f":"SUMIFS(shukei!$C:$C,shukei!$B:$B,\"=\"&getsuji!$B5,shukei!$A:$A,TEXT(P$2,\"yyyy\")&\"13\")","v":0},{"$f":"SUMIFS(shukei!$C:$C,shukei!$B:$B,\"=\"&getsuji!$B5,shukei!$A:$A,TEXT(Q$2,\"yyyymm\"))","v":0},{"$f":"SUMIFS(shukei!$C:$C,shukei!$B:$B,\"=\"&getsuji!$B5,shukei!$A:$A,TEXT(R$2,\"yyyymm\"))","v":0},{"$f":"SUMIFS(shukei!$C:$C,shukei!$B:$B,\"=\"&getsuji!$B5,shukei!$A:$A,TEXT(S$2,\"yyyymm\"))","v":0},{"$f":"SUMIFS(shukei!$C:$C,shukei!$B:$B,\"=\"&getsuji!$B5,shukei!$A:$A,TEXT(T$2,\"yyyymm\"))","v":0},{"$f":"SUMIFS(shukei!$C:$C,shukei!$B:$B,\"=\"&getsuji!$B5,shukei!$A:$A,TEXT(U$2,\"yyyymm\"))","v":0},{"$f":"SUMIFS(shukei!$C:$C,shukei!$B:$B,\"=\"&getsuji!$B5,shukei!$A:$A,TEXT(V$2,\"yyyymm\"))","v":0},{"$f":"SUMIFS(shukei!$C:$C,shukei!$B:$B,\"=\"&getsuji!$B5,shukei!$A:$A,TEXT(W$2,\"yyyymm\"))","v":0},{"$f":"SUMIFS(shukei!$C:$C,shukei!$B:$B,\"=\"&getsuji!$B5,shukei!$A:$A,TEXT(X$2,\"yyyymm\"))","v":0},{"$f":"SUMIFS(shukei!$C:$C,shukei!$B:$B,\"=\"&getsuji!$B5,shukei!$A:$A,TEXT(Y$2,\"yyyymm\"))","v":0},{"$f":"SUMIFS(shukei!$C:$C,shukei!$B:$B,\"=\"&getsuji!$B5,shukei!$A:$A,TEXT(Z$2,\"yyyymm\"))","v":0},{"$f":"SUMIFS(shukei!$C:$C,shukei!$B:$B,\"=\"&getsuji!$B5,shukei!$A:$A,TEXT(AA$2,\"yyyymm\"))","v":0},{"$f":"SUMIFS(shukei!$C:$C,shukei!$B:$B,\"=\"&getsuji!$B5,shukei!$A:$A,TEXT(AB$2,\"yyyymm\"))","v":0},{"$f":"SUMIFS(shukei!$C:$C,shukei!$B:$B,\"=\"&getsuji!$B5,shukei!$A:$A,TEXT(AC$2,\"yyyy\")&\"13\")","v":0},{"$f":"SUMIFS(shukei!$C:$C,shukei!$B:$B,\"=\"&getsuji!$B5,shukei!$A:$A,TEXT(AD$2,\"yyyymm\"))","v":0},{"$f":"SUMIFS(shukei!$C:$C,shukei!$B:$B,\"=\"&getsuji!$B5,shukei!$A:$A,TEXT(AE$2,\"yyyymm\"))","v":0},{"$f":"SUMIFS(shukei!$C:$C,shukei!$B:$B,\"=\"&getsuji!$B5,shukei!$A:$A,TEXT(AF$2,\"yyyymm\"))","v":0},{"$f":"SUMIFS(shukei!$C:$C,shukei!$B:$B,\"=\"&getsuji!$B5,shukei!$A:$A,TEXT(AG$2,\"yyyymm\"))","v":0},{"$f":"SUMIFS(shukei!$C:$C,shukei!$B:$B,\"=\"&getsuji!$B5,shukei!$A:$A,TEXT(AH$2,\"yyyymm\"))","v":0},{"$f":"SUMIFS(shukei!$C:$C,shukei!$B:$B,\"=\"&getsuji!$B5,shukei!$A:$A,TEXT(AI$2,\"yyyymm\"))","v":0},{"$f":"SUMIFS(shukei!$C:$C,shukei!$B:$B,\"=\"&getsuji!$B5,shukei!$A:$A,TEXT(AJ$2,\"yyyymm\"))","v":0},{"$f":"SUMIFS(shukei!$C:$C,shukei!$B:$B,\"=\"&getsuji!$B5,shukei!$A:$A,TEXT(AK$2,\"yyyymm\"))","v":0},{"$f":"SUMIFS(shukei!$C:$C,shukei!$B:$B,\"=\"&getsuji!$B5,shukei!$A:$A,TEXT(AL$2,\"yyyymm\"))","v":0},{"$f":"SUMIFS(shukei!$C:$C,shukei!$B:$B,\"=\"&getsuji!$B5,shukei!$A:$A,TEXT(AM$2,\"yyyymm\"))","v":0},{"$f":"SUMIFS(shukei!$C:$C,shukei!$B:$B,\"=\"&getsuji!$B5,shukei!$A:$A,TEXT(AN$2,\"yyyymm\"))","v":0},{"$f":"SUMIFS(shukei!$C:$C,shukei!$B:$B,\"=\"&getsuji!$B5,shukei!$A:$A,TEXT(AO$2,\"yyyymm\"))","v":0},{"$f":"SUMIFS(shukei!$C:$C,shukei!$B:$B,\"=\"&getsuji!$B5,shukei!$A:$A,TEXT(AP$2,\"yyyy\")&\"13\")","v":0}]
[null,null,null,{"$f":"SUMIFS(shukei!$C:$C,shukei!$B:$B,\"=\"&getsuji!$B6,shukei!$A:$A,TEXT(D$2,\"yyyymm\"))","v":0},{"$f":"SUMIFS(shukei!$C:$C,shukei!$B:$B,\"=\"&getsuji!$B6,shukei!$A:$A,TEXT(E$2,\"yyyymm\"))","v":0},{"$f":"SUMIFS(shukei!$C:$C,shukei!$B:$B,\"=\"&getsuji!$B6,shukei!$A:$A,TEXT(F$2,\"yyyymm\"))","v":0},{"$f":"SUMIFS(shukei!$C:$C,shukei!$B:$B,\"=\"&getsuji!$B6,shukei!$A:$A,TEXT(G$2,\"yyyymm\"))","v":0},{"$f":"SUMIFS(shukei!$C:$C,shukei!$B:$B,\"=\"&getsuji!$B6,shukei!$A:$A,TEXT(H$2,\"yyyymm\"))","v":0},{"$f":"SUMIFS(shukei!$C:$C,shukei!$B:$B,\"=\"&getsuji!$B6,shukei!$A:$A,TEXT(I$2,\"yyyymm\"))","v":0},{"$f":"SUMIFS(shukei!$C:$C,shukei!$B:$B,\"=\"&getsuji!$B6,shukei!$A:$A,TEXT(J$2,\"yyyymm\"))","v":0},{"$f":"SUMIFS(shukei!$C:$C,shukei!$B:$B,\"=\"&getsuji!$B6,shukei!$A:$A,TEXT(K$2,\"yyyymm\"))","v":0},{"$f":"SUMIFS(shukei!$C:$C,shukei!$B:$B,\"=\"&getsuji!$B6,shukei!$A:$A,TEXT(L$2,\"yyyymm\"))","v":0},{"$f":"SUMIFS(shukei!$C:$C,shukei!$B:$B,\"=\"&getsuji!$B6,shukei!$A:$A,TEXT(M$2,\"yyyymm\"))","v":0},{"$f":"SUMIFS(shukei!$C:$C,shukei!$B:$B,\"=\"&getsuji!$B6,shukei!$A:$A,TEXT(N$2,\"yyyymm\"))","v":0},{"$f":"SUMIFS(shukei!$C:$C,shukei!$B:$B,\"=\"&getsuji!$B6,shukei!$A:$A,TEXT(O$2,\"yyyymm\"))","v":0},{"$f":"SUMIFS(shukei!$C:$C,shukei!$B:$B,\"=\"&getsuji!$B6,shukei!$A:$A,TEXT(P$2,\"yyyy\")&\"13\")","v":0},{"$f":"SUMIFS(shukei!$C:$C,shukei!$B:$B,\"=\"&getsuji!$B6,shukei!$A:$A,TEXT(Q$2,\"yyyymm\"))","v":0},{"$f":"SUMIFS(shukei!$C:$C,shukei!$B:$B,\"=\"&getsuji!$B6,shukei!$A:$A,TEXT(R$2,\"yyyymm\"))","v":0},{"$f":"SUMIFS(shukei!$C:$C,shukei!$B:$B,\"=\"&getsuji!$B6,shukei!$A:$A,TEXT(S$2,\"yyyymm\"))","v":0},{"$f":"SUMIFS(shukei!$C:$C,shukei!$B:$B,\"=\"&getsuji!$B6,shukei!$A:$A,TEXT(T$2,\"yyyymm\"))","v":0},{"$f":"SUMIFS(shukei!$C:$C,shukei!$B:$B,\"=\"&getsuji!$B6,shukei!$A:$A,TEXT(U$2,\"yyyymm\"))","v":0},{"$f":"SUMIFS(shukei!$C:$C,shukei!$B:$B,\"=\"&getsuji!$B6,shukei!$A:$A,TEXT(V$2,\"yyyymm\"))","v":0},{"$f":"SUMIFS(shukei!$C:$C,shukei!$B:$B,\"=\"&getsuji!$B6,shukei!$A:$A,TEXT(W$2,\"yyyymm\"))","v":0},{"$f":"SUMIFS(shukei!$C:$C,shukei!$B:$B,\"=\"&getsuji!$B6,shukei!$A:$A,TEXT(X$2,\"yyyymm\"))","v":0},{"$f":"SUMIFS(shukei!$C:$C,shukei!$B:$B,\"=\"&getsuji!$B6,shukei!$A:$A,TEXT(Y$2,\"yyyymm\"))","v":0},{"$f":"SUMIFS(shukei!$C:$C,shukei!$B:$B,\"=\"&getsuji!$B6,shukei!$A:$A,TEXT(Z$2,\"yyyymm\"))","v":0},{"$f":"SUMIFS(shukei!$C:$C,shukei!$B:$B,\"=\"&getsuji!$B6,shukei!$A:$A,TEXT(AA$2,\"yyyymm\"))","v":0},{"$f":"SUMIFS(shukei!$C:$C,shukei!$B:$B,\"=\"&getsuji!$B6,shukei!$A:$A,TEXT(AB$2,\"yyyymm\"))","v":0},{"$f":"SUMIFS(shukei!$C:$C,shukei!$B:$B,\"=\"&getsuji!$B6,shukei!$A:$A,TEXT(AC$2,\"yyyy\")&\"13\")","v":0},{"$f":"SUMIFS(shukei!$C:$C,shukei!$B:$B,\"=\"&getsuji!$B6,shukei!$A:$A,TEXT(AD$2,\"yyyymm\"))","v":0},{"$f":"SUMIFS(shukei!$C:$C,shukei!$B:$B,\"=\"&getsuji!$B6,shukei!$A:$A,TEXT(AE$2,\"yyyymm\"))","v":0},{"$f":"SUMIFS(shukei!$C:$C,shukei!$B:$B,\"=\"&getsuji!$B6,shukei!$A:$A,TEXT(AF$2,\"yyyymm\"))","v":0},{"$f":"SUMIFS(shukei!$C:$C,shukei!$B:$B,\"=\"&getsuji!$B6,shukei!$A:$A,TEXT(AG$2,\"yyyymm\"))","v":0},{"$f":"SUMIFS(shukei!$C:$C,shukei!$B:$B,\"=\"&getsuji!$B6,shukei!$A:$A,TEXT(AH$2,\"yyyymm\"))","v":0},{"$f":"SUMIFS(shukei!$C:$C,shukei!$B:$B,\"=\"&getsuji!$B6,shukei!$A:$A,TEXT(AI$2,\"yyyymm\"))","v":0},{"$f":"SUMIFS(shukei!$C:$C,shukei!$B:$B,\"=\"&getsuji!$B6,shukei!$A:$A,TEXT(AJ$2,\"yyyymm\"))","v":0},{"$f":"SUMIFS(shukei!$C:$C,shukei!$B:$B,\"=\"&getsuji!$B6,shukei!$A:$A,TEXT(AK$2,\"yyyymm\"))","v":0},{"$f":"SUMIFS(shukei!$C:$C,shukei!$B:$B,\"=\"&getsuji!$B6,shukei!$A:$A,TEXT(AL$2,\"yyyymm\"))","v":0},{"$f":"SUMIFS(shukei!$C:$C,shukei!$B:$B,\"=\"&getsuji!$B6,shukei!$A:$A,TEXT(AM$2,\"yyyymm\"))","v":0},{"$f":"SUMIFS(shukei!$C:$C,shukei!$B:$B,\"=\"&getsuji!$B6,shukei!$A:$A,TEXT(AN$2,\"yyyymm\"))","v":0},{"$f":"SUMIFS(shukei!$C:$C,shukei!$B:$B,\"=\"&getsuji!$B6,shukei!$A:$A,TEXT(AO$2,\"yyyymm\"))","v":0},{"$f":"SUMIFS(shukei!$C:$C,shukei!$B:$B,\"=\"&getsuji!$B6,shukei!$A:$A,TEXT(AP$2,\"yyyy\")&\"13\")","v":0}]
[null,null,null,{"$f":"SUMIFS(shukei!$C:$C,shukei!$B:$B,\"=\"&getsuji!$B7,shukei!$A:$A,TEXT(D$2,\"yyyymm\"))","v":0},{"$f":"SUMIFS(shukei!$C:$C,shukei!$B:$B,\"=\"&getsuji!$B7,shukei!$A:$A,TEXT(E$2,\"yyyymm\"))","v":0},{"$f":"SUMIFS(shukei!$C:$C,shukei!$B:$B,\"=\"&getsuji!$B7,shukei!$A:$A,TEXT(F$2,\"yyyymm\"))","v":0},{"$f":"SUMIFS(shukei!$C:$C,shukei!$B:$B,\"=\"&getsuji!$B7,shukei!$A:$A,TEXT(G$2,\"yyyymm\"))","v":0},{"$f":"SUMIFS(shukei!$C:$C,shukei!$B:$B,\"=\"&getsuji!$B7,shukei!$A:$A,TEXT(H$2,\"yyyymm\"))","v":0},{"$f":"SUMIFS(shukei!$C:$C,shukei!$B:$B,\"=\"&getsuji!$B7,shukei!$A:$A,TEXT(I$2,\"yyyymm\"))","v":0},{"$f":"SUMIFS(shukei!$C:$C,shukei!$B:$B,\"=\"&getsuji!$B7,shukei!$A:$A,TEXT(J$2,\"yyyymm\"))","v":0},{"$f":"SUMIFS(shukei!$C:$C,shukei!$B:$B,\"=\"&getsuji!$B7,shukei!$A:$A,TEXT(K$2,\"yyyymm\"))","v":0},{"$f":"SUMIFS(shukei!$C:$C,shukei!$B:$B,\"=\"&getsuji!$B7,shukei!$A:$A,TEXT(L$2,\"yyyymm\"))","v":0},{"$f":"SUMIFS(shukei!$C:$C,shukei!$B:$B,\"=\"&getsuji!$B7,shukei!$A:$A,TEXT(M$2,\"yyyymm\"))","v":0},{"$f":"SUMIFS(shukei!$C:$C,shukei!$B:$B,\"=\"&getsuji!$B7,shukei!$A:$A,TEXT(N$2,\"yyyymm\"))","v":0},{"$f":"SUMIFS(shukei!$C:$C,shukei!$B:$B,\"=\"&getsuji!$B7,shukei!$A:$A,TEXT(O$2,\"yyyymm\"))","v":0},{"$f":"SUMIFS(shukei!$C:$C,shukei!$B:$B,\"=\"&getsuji!$B7,shukei!$A:$A,TEXT(P$2,\"yyyy\")&\"13\")","v":0},{"$f":"SUMIFS(shukei!$C:$C,shukei!$B:$B,\"=\"&getsuji!$B7,shukei!$A:$A,TEXT(Q$2,\"yyyymm\"))","v":0},{"$f":"SUMIFS(shukei!$C:$C,shukei!$B:$B,\"=\"&getsuji!$B7,shukei!$A:$A,TEXT(R$2,\"yyyymm\"))","v":0},{"$f":"SUMIFS(shukei!$C:$C,shukei!$B:$B,\"=\"&getsuji!$B7,shukei!$A:$A,TEXT(S$2,\"yyyymm\"))","v":0},{"$f":"SUMIFS(shukei!$C:$C,shukei!$B:$B,\"=\"&getsuji!$B7,shukei!$A:$A,TEXT(T$2,\"yyyymm\"))","v":0},{"$f":"SUMIFS(shukei!$C:$C,shukei!$B:$B,\"=\"&getsuji!$B7,shukei!$A:$A,TEXT(U$2,\"yyyymm\"))","v":0},{"$f":"SUMIFS(shukei!$C:$C,shukei!$B:$B,\"=\"&getsuji!$B7,shukei!$A:$A,TEXT(V$2,\"yyyymm\"))","v":0},{"$f":"SUMIFS(shukei!$C:$C,shukei!$B:$B,\"=\"&getsuji!$B7,shukei!$A:$A,TEXT(W$2,\"yyyymm\"))","v":0},{"$f":"SUMIFS(shukei!$C:$C,shukei!$B:$B,\"=\"&getsuji!$B7,shukei!$A:$A,TEXT(X$2,\"yyyymm\"))","v":0},{"$f":"SUMIFS(shukei!$C:$C,shukei!$B:$B,\"=\"&getsuji!$B7,shukei!$A:$A,TEXT(Y$2,\"yyyymm\"))","v":0},{"$f":"SUMIFS(shukei!$C:$C,shukei!$B:$B,\"=\"&getsuji!$B7,shukei!$A:$A,TEXT(Z$2,\"yyyymm\"))","v":0},{"$f":"SUMIFS(shukei!$C:$C,shukei!$B:$B,\"=\"&getsuji!$B7,shukei!$A:$A,TEXT(AA$2,\"yyyymm\"))","v":0},{"$f":"SUMIFS(shukei!$C:$C,shukei!$B:$B,\"=\"&getsuji!$B7,shukei!$A:$A,TEXT(AB$2,\"yyyymm\"))","v":0},{"$f":"SUMIFS(shukei!$C:$C,shukei!$B:$B,\"=\"&getsuji!$B7,shukei!$A:$A,TEXT(AC$2,\"yyyy\")&\"13\")","v":0},{"$f":"SUMIFS(shukei!$C:$C,shukei!$B:$B,\"=\"&getsuji!$B7,shukei!$A:$A,TEXT(AD$2,\"yyyymm\"))","v":0},{"$f":"SUMIFS(shukei!$C:$C,shukei!$B:$B,\"=\"&getsuji!$B7,shukei!$A:$A,TEXT(AE$2,\"yyyymm\"))","v":0},{"$f":"SUMIFS(shukei!$C:$C,shukei!$B:$B,\"=\"&getsuji!$B7,shukei!$A:$A,TEXT(AF$2,\"yyyymm\"))","v":0},{"$f":"SUMIFS(shukei!$C:$C,shukei!$B:$B,\"=\"&getsuji!$B7,shukei!$A:$A,TEXT(AG$2,\"yyyymm\"))","v":0},{"$f":"SUMIFS(shukei!$C:$C,shukei!$B:$B,\"=\"&getsuji!$B7,shukei!$A:$A,TEXT(AH$2,\"yyyymm\"))","v":0},{"$f":"SUMIFS(shukei!$C:$C,shukei!$B:$B,\"=\"&getsuji!$B7,shukei!$A:$A,TEXT(AI$2,\"yyyymm\"))","v":0},{"$f":"SUMIFS(shukei!$C:$C,shukei!$B:$B,\"=\"&getsuji!$B7,shukei!$A:$A,TEXT(AJ$2,\"yyyymm\"))","v":0},{"$f":"SUMIFS(shukei!$C:$C,shukei!$B:$B,\"=\"&getsuji!$B7,shukei!$A:$A,TEXT(AK$2,\"yyyymm\"))","v":0},{"$f":"SUMIFS(shukei!$C:$C,shukei!$B:$B,\"=\"&getsuji!$B7,shukei!$A:$A,TEXT(AL$2,\"yyyymm\"))","v":0},{"$f":"SUMIFS(shukei!$C:$C,shukei!$B:$B,\"=\"&getsuji!$B7,shukei!$A:$A,TEXT(AM$2,\"yyyymm\"))","v":0},{"$f":"SUMIFS(shukei!$C:$C,shukei!$B:$B,\"=\"&getsuji!$B7,shukei!$A:$A,TEXT(AN$2,\"yyyymm\"))","v":0},{"$f":"SUMIFS(shukei!$C:$C,shukei!$B:$B,\"=\"&getsuji!$B7,shukei!$A:$A,TEXT(AO$2,\"yyyymm\"))","v":0},{"$f":"SUMIFS(shukei!$C:$C,shukei!$B:$B,\"=\"&getsuji!$B7,shukei!$A:$A,TEXT(AP$2,\"yyyy\")&\"13\")","v":0}]
[null,null,null,{"$f":"SUMIFS(shukei!$C:$C,shukei!$B:$B,\"=\"&getsuji!$B8,shukei!$A:$A,TEXT(D$2,\"yyyymm\"))","v":0},{"$f":"SUMIFS(shukei!$C:$C,shukei!$B:$B,\"=\"&getsuji!$B8,shukei!$A:$A,TEXT(E$2,\"yyyymm\"))","v":0},{"$f":"SUMIFS(shukei!$C:$C,shukei!$B:$B,\"=\"&getsuji!$B8,shukei!$A:$A,TEXT(F$2,\"yyyymm\"))","v":0},{"$f":"SUMIFS(shukei!$C:$C,shukei!$B:$B,\"=\"&getsuji!$B8,shukei!$A:$A,TEXT(G$2,\"yyyymm\"))","v":0},{"$f":"SUMIFS(shukei!$C:$C,shukei!$B:$B,\"=\"&getsuji!$B8,shukei!$A:$A,TEXT(H$2,\"yyyymm\"))","v":0},{"$f":"SUMIFS(shukei!$C:$C,shukei!$B:$B,\"=\"&getsuji!$B8,shukei!$A:$A,TEXT(I$2,\"yyyymm\"))","v":0},{"$f":"SUMIFS(shukei!$C:$C,shukei!$B:$B,\"=\"&getsuji!$B8,shukei!$A:$A,TEXT(J$2,\"yyyymm\"))","v":0},{"$f":"SUMIFS(shukei!$C:$C,shukei!$B:$B,\"=\"&getsuji!$B8,shukei!$A:$A,TEXT(K$2,\"yyyymm\"))","v":0},{"$f":"SUMIFS(shukei!$C:$C,shukei!$B:$B,\"=\"&getsuji!$B8,shukei!$A:$A,TEXT(L$2,\"yyyymm\"))","v":0},{"$f":"SUMIFS(shukei!$C:$C,shukei!$B:$B,\"=\"&getsuji!$B8,shukei!$A:$A,TEXT(M$2,\"yyyymm\"))","v":0},{"$f":"SUMIFS(shukei!$C:$C,shukei!$B:$B,\"=\"&getsuji!$B8,shukei!$A:$A,TEXT(N$2,\"yyyymm\"))","v":0},{"$f":"SUMIFS(shukei!$C:$C,shukei!$B:$B,\"=\"&getsuji!$B8,shukei!$A:$A,TEXT(O$2,\"yyyymm\"))","v":0},{"$f":"SUMIFS(shukei!$C:$C,shukei!$B:$B,\"=\"&getsuji!$B8,shukei!$A:$A,TEXT(P$2,\"yyyy\")&\"13\")","v":0},{"$f":"SUMIFS(shukei!$C:$C,shukei!$B:$B,\"=\"&getsuji!$B8,shukei!$A:$A,TEXT(Q$2,\"yyyymm\"))","v":0},{"$f":"SUMIFS(shukei!$C:$C,shukei!$B:$B,\"=\"&getsuji!$B8,shukei!$A:$A,TEXT(R$2,\"yyyymm\"))","v":0},{"$f":"SUMIFS(shukei!$C:$C,shukei!$B:$B,\"=\"&getsuji!$B8,shukei!$A:$A,TEXT(S$2,\"yyyymm\"))","v":0},{"$f":"SUMIFS(shukei!$C:$C,shukei!$B:$B,\"=\"&getsuji!$B8,shukei!$A:$A,TEXT(T$2,\"yyyymm\"))","v":0},{"$f":"SUMIFS(shukei!$C:$C,shukei!$B:$B,\"=\"&getsuji!$B8,shukei!$A:$A,TEXT(U$2,\"yyyymm\"))","v":0},{"$f":"SUMIFS(shukei!$C:$C,shukei!$B:$B,\"=\"&getsuji!$B8,shukei!$A:$A,TEXT(V$2,\"yyyymm\"))","v":0},{"$f":"SUMIFS(shukei!$C:$C,shukei!$B:$B,\"=\"&getsuji!$B8,shukei!$A:$A,TEXT(W$2,\"yyyymm\"))","v":0},{"$f":"SUMIFS(shukei!$C:$C,shukei!$B:$B,\"=\"&getsuji!$B8,shukei!$A:$A,TEXT(X$2,\"yyyymm\"))","v":0},{"$f":"SUMIFS(shukei!$C:$C,shukei!$B:$B,\"=\"&getsuji!$B8,shukei!$A:$A,TEXT(Y$2,\"yyyymm\"))","v":0},{"$f":"SUMIFS(shukei!$C:$C,shukei!$B:$B,\"=\"&getsuji!$B8,shukei!$A:$A,TEXT(Z$2,\"yyyymm\"))","v":0},{"$f":"SUMIFS(shukei!$C:$C,shukei!$B:$B,\"=\"&getsuji!$B8,shukei!$A:$A,TEXT(AA$2,\"yyyymm\"))","v":0},{"$f":"SUMIFS(shukei!$C:$C,shukei!$B:$B,\"=\"&getsuji!$B8,shukei!$A:$A,TEXT(AB$2,\"yyyymm\"))","v":0},{"$f":"SUMIFS(shukei!$C:$C,shukei!$B:$B,\"=\"&getsuji!$B8,shukei!$A:$A,TEXT(AC$2,\"yyyy\")&\"13\")","v":0},{"$f":"SUMIFS(shukei!$C:$C,shukei!$B:$B,\"=\"&getsuji!$B8,shukei!$A:$A,TEXT(AD$2,\"yyyymm\"))","v":0},{"$f":"SUMIFS(shukei!$C:$C,shukei!$B:$B,\"=\"&getsuji!$B8,shukei!$A:$A,TEXT(AE$2,\"yyyymm\"))","v":0},{"$f":"SUMIFS(shukei!$C:$C,shukei!$B:$B,\"=\"&getsuji!$B8,shukei!$A:$A,TEXT(AF$2,\"yyyymm\"))","v":0},{"$f":"SUMIFS(shukei!$C:$C,shukei!$B:$B,\"=\"&getsuji!$B8,shukei!$A:$A,TEXT(AG$2,\"yyyymm\"))","v":0},{"$f":"SUMIFS(shukei!$C:$C,shukei!$B:$B,\"=\"&getsuji!$B8,shukei!$A:$A,TEXT(AH$2,\"yyyymm\"))","v":0},{"$f":"SUMIFS(shukei!$C:$C,shukei!$B:$B,\"=\"&getsuji!$B8,shukei!$A:$A,TEXT(AI$2,\"yyyymm\"))","v":0},{"$f":"SUMIFS(shukei!$C:$C,shukei!$B:$B,\"=\"&getsuji!$B8,shukei!$A:$A,TEXT(AJ$2,\"yyyymm\"))","v":0},{"$f":"SUMIFS(shukei!$C:$C,shukei!$B:$B,\"=\"&getsuji!$B8,shukei!$A:$A,TEXT(AK$2,\"yyyymm\"))","v":0},{"$f":"SUMIFS(shukei!$C:$C,shukei!$B:$B,\"=\"&getsuji!$B8,shukei!$A:$A,TEXT(AL$2,\"yyyymm\"))","v":0},{"$f":"SUMIFS(shukei!$C:$C,shukei!$B:$B,\"=\"&getsuji!$B8,shukei!$A:$A,TEXT(AM$2,\"yyyymm\"))","v":0},{"$f":"SUMIFS(shukei!$C:$C,shukei!$B:$B,\"=\"&getsuji!$B8,shukei!$A:$A,TEXT(AN$2,\"yyyymm\"))","v":0},{"$f":"SUMIFS(shukei!$C:$C,shukei!$B:$B,\"=\"&getsuji!$B8,shukei!$A:$A,TEXT(AO$2,\"yyyymm\"))","v":0},{"$f":"SUMIFS(shukei!$C:$C,shukei!$B:$B,\"=\"&getsuji!$B8,shukei!$A:$A,TEXT(AP$2,\"yyyy\")&\"13\")","v":0}]
[null,null,null,{"$f":"SUMIFS(shukei!$C:$C,shukei!$B:$B,\"=\"&getsuji!$B9,shukei!$A:$A,TEXT(D$2,\"yyyymm\"))","v":0},{"$f":"SUMIFS(shukei!$C:$C,shukei!$B:$B,\"=\"&getsuji!$B9,shukei!$A:$A,TEXT(E$2,\"yyyymm\"))","v":0},{"$f":"SUMIFS(shukei!$C:$C,shukei!$B:$B,\"=\"&getsuji!$B9,shukei!$A:$A,TEXT(F$2,\"yyyymm\"))","v":0},{"$f":"SUMIFS(shukei!$C:$C,shukei!$B:$B,\"=\"&getsuji!$B9,shukei!$A:$A,TEXT(G$2,\"yyyymm\"))","v":0},{"$f":"SUMIFS(shukei!$C:$C,shukei!$B:$B,\"=\"&getsuji!$B9,shukei!$A:$A,TEXT(H$2,\"yyyymm\"))","v":0},{"$f":"SUMIFS(shukei!$C:$C,shukei!$B:$B,\"=\"&getsuji!$B9,shukei!$A:$A,TEXT(I$2,\"yyyymm\"))","v":0},{"$f":"SUMIFS(shukei!$C:$C,shukei!$B:$B,\"=\"&getsuji!$B9,shukei!$A:$A,TEXT(J$2,\"yyyymm\"))","v":0},{"$f":"SUMIFS(shukei!$C:$C,shukei!$B:$B,\"=\"&getsuji!$B9,shukei!$A:$A,TEXT(K$2,\"yyyymm\"))","v":0},{"$f":"SUMIFS(shukei!$C:$C,shukei!$B:$B,\"=\"&getsuji!$B9,shukei!$A:$A,TEXT(L$2,\"yyyymm\"))","v":0},{"$f":"SUMIFS(shukei!$C:$C,shukei!$B:$B,\"=\"&getsuji!$B9,shukei!$A:$A,TEXT(M$2,\"yyyymm\"))","v":0},{"$f":"SUMIFS(shukei!$C:$C,shukei!$B:$B,\"=\"&getsuji!$B9,shukei!$A:$A,TEXT(N$2,\"yyyymm\"))","v":0},{"$f":"SUMIFS(shukei!$C:$C,shukei!$B:$B,\"=\"&getsuji!$B9,shukei!$A:$A,TEXT(O$2,\"yyyymm\"))","v":0},{"$f":"SUMIFS(shukei!$C:$C,shukei!$B:$B,\"=\"&getsuji!$B9,shukei!$A:$A,TEXT(P$2,\"yyyy\")&\"13\")","v":0},{"$f":"SUMIFS(shukei!$C:$C,shukei!$B:$B,\"=\"&getsuji!$B9,shukei!$A:$A,TEXT(Q$2,\"yyyymm\"))","v":0},{"$f":"SUMIFS(shukei!$C:$C,shukei!$B:$B,\"=\"&getsuji!$B9,shukei!$A:$A,TEXT(R$2,\"yyyymm\"))","v":0},{"$f":"SUMIFS(shukei!$C:$C,shukei!$B:$B,\"=\"&getsuji!$B9,shukei!$A:$A,TEXT(S$2,\"yyyymm\"))","v":0},{"$f":"SUMIFS(shukei!$C:$C,shukei!$B:$B,\"=\"&getsuji!$B9,shukei!$A:$A,TEXT(T$2,\"yyyymm\"))","v":0},{"$f":"SUMIFS(shukei!$C:$C,shukei!$B:$B,\"=\"&getsuji!$B9,shukei!$A:$A,TEXT(U$2,\"yyyymm\"))","v":0},{"$f":"SUMIFS(shukei!$C:$C,shukei!$B:$B,\"=\"&getsuji!$B9,shukei!$A:$A,TEXT(V$2,\"yyyymm\"))","v":0},{"$f":"SUMIFS(shukei!$C:$C,shukei!$B:$B,\"=\"&getsuji!$B9,shukei!$A:$A,TEXT(W$2,\"yyyymm\"))","v":0},{"$f":"SUMIFS(shukei!$C:$C,shukei!$B:$B,\"=\"&getsuji!$B9,shukei!$A:$A,TEXT(X$2,\"yyyymm\"))","v":0},{"$f":"SUMIFS(shukei!$C:$C,shukei!$B:$B,\"=\"&getsuji!$B9,shukei!$A:$A,TEXT(Y$2,\"yyyymm\"))","v":0},{"$f":"SUMIFS(shukei!$C:$C,shukei!$B:$B,\"=\"&getsuji!$B9,shukei!$A:$A,TEXT(Z$2,\"yyyymm\"))","v":0},{"$f":"SUMIFS(shukei!$C:$C,shukei!$B:$B,\"=\"&getsuji!$B9,shukei!$A:$A,TEXT(AA$2,\"yyyymm\"))","v":0},{"$f":"SUMIFS(shukei!$C:$C,shukei!$B:$B,\"=\"&getsuji!$B9,shukei!$A:$A,TEXT(AB$2,\"yyyymm\"))","v":0},{"$f":"SUMIFS(shukei!$C:$C,shukei!$B:$B,\"=\"&getsuji!$B9,shukei!$A:$A,TEXT(AC$2,\"yyyy\")&\"13\")","v":0},{"$f":"SUMIFS(shukei!$C:$C,shukei!$B:$B,\"=\"&getsuji!$B9,shukei!$A:$A,TEXT(AD$2,\"yyyymm\"))","v":0},{"$f":"SUMIFS(shukei!$C:$C,shukei!$B:$B,\"=\"&getsuji!$B9,shukei!$A:$A,TEXT(AE$2,\"yyyymm\"))","v":0},{"$f":"SUMIFS(shukei!$C:$C,shukei!$B:$B,\"=\"&getsuji!$B9,shukei!$A:$A,TEXT(AF$2,\"yyyymm\"))","v":0},{"$f":"SUMIFS(shukei!$C:$C,shukei!$B:$B,\"=\"&getsuji!$B9,shukei!$A:$A,TEXT(AG$2,\"yyyymm\"))","v":0},{"$f":"SUMIFS(shukei!$C:$C,shukei!$B:$B,\"=\"&getsuji!$B9,shukei!$A:$A,TEXT(AH$2,\"yyyymm\"))","v":0},{"$f":"SUMIFS(shukei!$C:$C,shukei!$B:$B,\"=\"&getsuji!$B9,shukei!$A:$A,TEXT(AI$2,\"yyyymm\"))","v":0},{"$f":"SUMIFS(shukei!$C:$C,shukei!$B:$B,\"=\"&getsuji!$B9,shukei!$A:$A,TEXT(AJ$2,\"yyyymm\"))","v":0},{"$f":"SUMIFS(shukei!$C:$C,shukei!$B:$B,\"=\"&getsuji!$B9,shukei!$A:$A,TEXT(AK$2,\"yyyymm\"))","v":0},{"$f":"SUMIFS(shukei!$C:$C,shukei!$B:$B,\"=\"&getsuji!$B9,shukei!$A:$A,TEXT(AL$2,\"yyyymm\"))","v":0},{"$f":"SUMIFS(shukei!$C:$C,shukei!$B:$B,\"=\"&getsuji!$B9,shukei!$A:$A,TEXT(AM$2,\"yyyymm\"))","v":0},{"$f":"SUMIFS(shukei!$C:$C,shukei!$B:$B,\"=\"&getsuji!$B9,shukei!$A:$A,TEXT(AN$2,\"yyyymm\"))","v":0},{"$f":"SUMIFS(shukei!$C:$C,shukei!$B:$B,\"=\"&getsuji!$B9,shukei!$A:$A,TEXT(AO$2,\"yyyymm\"))","v":0},{"$f":"SUMIFS(shukei!$C:$C,shukei!$B:$B,\"=\"&getsuji!$B9,shukei!$A:$A,TEXT(AP$2,\"yyyy\")&\"13\")","v":0}]
[null,null,null,{"$f":"SUMIFS(shukei!$C:$C,shukei!$B:$B,\"=\"&getsuji!$B10,shukei!$A:$A,TEXT(D$2,\"yyyymm\"))","v":0},{"$f":"SUMIFS(shukei!$C:$C,shukei!$B:$B,\"=\"&getsuji!$B10,shukei!$A:$A,TEXT(E$2,\"yyyymm\"))","v":0},{"$f":"SUMIFS(shukei!$C:$C,shukei!$B:$B,\"=\"&getsuji!$B10,shukei!$A:$A,TEXT(F$2,\"yyyymm\"))","v":0},{"$f":"SUMIFS(shukei!$C:$C,shukei!$B:$B,\"=\"&getsuji!$B10,shukei!$A:$A,TEXT(G$2,\"yyyymm\"))","v":0},{"$f":"SUMIFS(shukei!$C:$C,shukei!$B:$B,\"=\"&getsuji!$B10,shukei!$A:$A,TEXT(H$2,\"yyyymm\"))","v":0},{"$f":"SUMIFS(shukei!$C:$C,shukei!$B:$B,\"=\"&getsuji!$B10,shukei!$A:$A,TEXT(I$2,\"yyyymm\"))","v":0},{"$f":"SUMIFS(shukei!$C:$C,shukei!$B:$B,\"=\"&getsuji!$B10,shukei!$A:$A,TEXT(J$2,\"yyyymm\"))","v":0},{"$f":"SUMIFS(shukei!$C:$C,shukei!$B:$B,\"=\"&getsuji!$B10,shukei!$A:$A,TEXT(K$2,\"yyyymm\"))","v":0},{"$f":"SUMIFS(shukei!$C:$C,shukei!$B:$B,\"=\"&getsuji!$B10,shukei!$A:$A,TEXT(L$2,\"yyyymm\"))","v":0},{"$f":"SUMIFS(shukei!$C:$C,shukei!$B:$B,\"=\"&getsuji!$B10,shukei!$A:$A,TEXT(M$2,\"yyyymm\"))","v":0},{"$f":"SUMIFS(shukei!$C:$C,shukei!$B:$B,\"=\"&getsuji!$B10,shukei!$A:$A,TEXT(N$2,\"yyyymm\"))","v":0},{"$f":"SUMIFS(shukei!$C:$C,shukei!$B:$B,\"=\"&getsuji!$B10,shukei!$A:$A,TEXT(O$2,\"yyyymm\"))","v":0},{"$f":"SUMIFS(shukei!$C:$C,shukei!$B:$B,\"=\"&getsuji!$B10,shukei!$A:$A,TEXT(P$2,\"yyyy\")&\"13\")","v":0},{"$f":"SUMIFS(shukei!$C:$C,shukei!$B:$B,\"=\"&getsuji!$B10,shukei!$A:$A,TEXT(Q$2,\"yyyymm\"))","v":0},{"$f":"SUMIFS(shukei!$C:$C,shukei!$B:$B,\"=\"&getsuji!$B10,shukei!$A:$A,TEXT(R$2,\"yyyymm\"))","v":0},{"$f":"SUMIFS(shukei!$C:$C,shukei!$B:$B,\"=\"&getsuji!$B10,shukei!$A:$A,TEXT(S$2,\"yyyymm\"))","v":0},{"$f":"SUMIFS(shukei!$C:$C,shukei!$B:$B,\"=\"&getsuji!$B10,shukei!$A:$A,TEXT(T$2,\"yyyymm\"))","v":0},{"$f":"SUMIFS(shukei!$C:$C,shukei!$B:$B,\"=\"&getsuji!$B10,shukei!$A:$A,TEXT(U$2,\"yyyymm\"))","v":0},{"$f":"SUMIFS(shukei!$C:$C,shukei!$B:$B,\"=\"&getsuji!$B10,shukei!$A:$A,TEXT(V$2,\"yyyymm\"))","v":0},{"$f":"SUMIFS(shukei!$C:$C,shukei!$B:$B,\"=\"&getsuji!$B10,shukei!$A:$A,TEXT(W$2,\"yyyymm\"))","v":0},{"$f":"SUMIFS(shukei!$C:$C,shukei!$B:$B,\"=\"&getsuji!$B10,shukei!$A:$A,TEXT(X$2,\"yyyymm\"))","v":0},{"$f":"SUMIFS(shukei!$C:$C,shukei!$B:$B,\"=\"&getsuji!$B10,shukei!$A:$A,TEXT(Y$2,\"yyyymm\"))","v":0},{"$f":"SUMIFS(shukei!$C:$C,shukei!$B:$B,\"=\"&getsuji!$B10,shukei!$A:$A,TEXT(Z$2,\"yyyymm\"))","v":0},{"$f":"SUMIFS(shukei!$C:$C,shukei!$B:$B,\"=\"&getsuji!$B10,shukei!$A:$A,TEXT(AA$2,\"yyyymm\"))","v":0},{"$f":"SUMIFS(shukei!$C:$C,shukei!$B:$B,\"=\"&getsuji!$B10,shukei!$A:$A,TEXT(AB$2,\"yyyymm\"))","v":0},{"$f":"SUMIFS(shukei!$C:$C,shukei!$B:$B,\"=\"&getsuji!$B10,shukei!$A:$A,TEXT(AC$2,\"yyyy\")&\"13\")","v":0},{"$f":"SUMIFS(shukei!$C:$C,shukei!$B:$B,\"=\"&getsuji!$B10,shukei!$A:$A,TEXT(AD$2,\"yyyymm\"))","v":0},{"$f":"SUMIFS(shukei!$C:$C,shukei!$B:$B,\"=\"&getsuji!$B10,shukei!$A:$A,TEXT(AE$2,\"yyyymm\"))","v":0},{"$f":"SUMIFS(shukei!$C:$C,shukei!$B:$B,\"=\"&getsuji!$B10,shukei!$A:$A,TEXT(AF$2,\"yyyymm\"))","v":0},{"$f":"SUMIFS(shukei!$C:$C,shukei!$B:$B,\"=\"&getsuji!$B10,shukei!$A:$A,TEXT(AG$2,\"yyyymm\"))","v":0},{"$f":"SUMIFS(shukei!$C:$C,shukei!$B:$B,\"=\"&getsuji!$B10,shukei!$A:$A,TEXT(AH$2,\"yyyymm\"))","v":0},{"$f":"SUMIFS(shukei!$C:$C,shukei!$B:$B,\"=\"&getsuji!$B10,shukei!$A:$A,TEXT(AI$2,\"yyyymm\"))","v":0},{"$f":"SUMIFS(shukei!$C:$C,shukei!$B:$B,\"=\"&getsuji!$B10,shukei!$A:$A,TEXT(AJ$2,\"yyyymm\"))","v":0},{"$f":"SUMIFS(shukei!$C:$C,shukei!$B:$B,\"=\"&getsuji!$B10,shukei!$A:$A,TEXT(AK$2,\"yyyymm\"))","v":0},{"$f":"SUMIFS(shukei!$C:$C,shukei!$B:$B,\"=\"&getsuji!$B10,shukei!$A:$A,TEXT(AL$2,\"yyyymm\"))","v":0},{"$f":"SUMIFS(shukei!$C:$C,shukei!$B:$B,\"=\"&getsuji!$B10,shukei!$A:$A,TEXT(AM$2,\"yyyymm\"))","v":0},{"$f":"SUMIFS(shukei!$C:$C,shukei!$B:$B,\"=\"&getsuji!$B10,shukei!$A:$A,TEXT(AN$2,\"yyyymm\"))","v":0},{"$f":"SUMIFS(shukei!$C:$C,shukei!$B:$B,\"=\"&getsuji!$B10,shukei!$A:$A,TEXT(AO$2,\"yyyymm\"))","v":0},{"$f":"SUMIFS(shukei!$C:$C,shukei!$B:$B,\"=\"&getsuji!$B10,shukei!$A:$A,TEXT(AP$2,\"yyyy\")&\"13\")","v":0}]
[null,null,null,{"$f":"SUMIFS(shukei!$C:$C,shukei!$B:$B,\"=\"&getsuji!$B11,shukei!$A:$A,TEXT(D$2,\"yyyymm\"))","v":0},{"$f":"SUMIFS(shukei!$C:$C,shukei!$B:$B,\"=\"&getsuji!$B11,shukei!$A:$A,TEXT(E$2,\"yyyymm\"))","v":0},{"$f":"SUMIFS(shukei!$C:$C,shukei!$B:$B,\"=\"&getsuji!$B11,shukei!$A:$A,TEXT(F$2,\"yyyymm\"))","v":0},{"$f":"SUMIFS(shukei!$C:$C,shukei!$B:$B,\"=\"&getsuji!$B11,shukei!$A:$A,TEXT(G$2,\"yyyymm\"))","v":0},{"$f":"SUMIFS(shukei!$C:$C,shukei!$B:$B,\"=\"&getsuji!$B11,shukei!$A:$A,TEXT(H$2,\"yyyymm\"))","v":0},{"$f":"SUMIFS(shukei!$C:$C,shukei!$B:$B,\"=\"&getsuji!$B11,shukei!$A:$A,TEXT(I$2,\"yyyymm\"))","v":0},{"$f":"SUMIFS(shukei!$C:$C,shukei!$B:$B,\"=\"&getsuji!$B11,shukei!$A:$A,TEXT(J$2,\"yyyymm\"))","v":0},{"$f":"SUMIFS(shukei!$C:$C,shukei!$B:$B,\"=\"&getsuji!$B11,shukei!$A:$A,TEXT(K$2,\"yyyymm\"))","v":0},{"$f":"SUMIFS(shukei!$C:$C,shukei!$B:$B,\"=\"&getsuji!$B11,shukei!$A:$A,TEXT(L$2,\"yyyymm\"))","v":0},{"$f":"SUMIFS(shukei!$C:$C,shukei!$B:$B,\"=\"&getsuji!$B11,shukei!$A:$A,TEXT(M$2,\"yyyymm\"))","v":0},{"$f":"SUMIFS(shukei!$C:$C,shukei!$B:$B,\"=\"&getsuji!$B11,shukei!$A:$A,TEXT(N$2,\"yyyymm\"))","v":0},{"$f":"SUMIFS(shukei!$C:$C,shukei!$B:$B,\"=\"&getsuji!$B11,shukei!$A:$A,TEXT(O$2,\"yyyymm\"))","v":0},{"$f":"SUMIFS(shukei!$C:$C,shukei!$B:$B,\"=\"&getsuji!$B11,shukei!$A:$A,TEXT(P$2,\"yyyy\")&\"13\")","v":0},{"$f":"SUMIFS(shukei!$C:$C,shukei!$B:$B,\"=\"&getsuji!$B11,shukei!$A:$A,TEXT(Q$2,\"yyyymm\"))","v":0},{"$f":"SUMIFS(shukei!$C:$C,shukei!$B:$B,\"=\"&getsuji!$B11,shukei!$A:$A,TEXT(R$2,\"yyyymm\"))","v":0},{"$f":"SUMIFS(shukei!$C:$C,shukei!$B:$B,\"=\"&getsuji!$B11,shukei!$A:$A,TEXT(S$2,\"yyyymm\"))","v":0},{"$f":"SUMIFS(shukei!$C:$C,shukei!$B:$B,\"=\"&getsuji!$B11,shukei!$A:$A,TEXT(T$2,\"yyyymm\"))","v":0},{"$f":"SUMIFS(shukei!$C:$C,shukei!$B:$B,\"=\"&getsuji!$B11,shukei!$A:$A,TEXT(U$2,\"yyyymm\"))","v":0},{"$f":"SUMIFS(shukei!$C:$C,shukei!$B:$B,\"=\"&getsuji!$B11,shukei!$A:$A,TEXT(V$2,\"yyyymm\"))","v":0},{"$f":"SUMIFS(shukei!$C:$C,shukei!$B:$B,\"=\"&getsuji!$B11,shukei!$A:$A,TEXT(W$2,\"yyyymm\"))","v":0},{"$f":"SUMIFS(shukei!$C:$C,shukei!$B:$B,\"=\"&getsuji!$B11,shukei!$A:$A,TEXT(X$2,\"yyyymm\"))","v":0},{"$f":"SUMIFS(shukei!$C:$C,shukei!$B:$B,\"=\"&getsuji!$B11,shukei!$A:$A,TEXT(Y$2,\"yyyymm\"))","v":0},{"$f":"SUMIFS(shukei!$C:$C,shukei!$B:$B,\"=\"&getsuji!$B11,shukei!$A:$A,TEXT(Z$2,\"yyyymm\"))","v":0},{"$f":"SUMIFS(shukei!$C:$C,shukei!$B:$B,\"=\"&getsuji!$B11,shukei!$A:$A,TEXT(AA$2,\"yyyymm\"))","v":0},{"$f":"SUMIFS(shukei!$C:$C,shukei!$B:$B,\"=\"&getsuji!$B11,shukei!$A:$A,TEXT(AB$2,\"yyyymm\"))","v":0},{"$f":"SUMIFS(shukei!$C:$C,shukei!$B:$B,\"=\"&getsuji!$B11,shukei!$A:$A,TEXT(AC$2,\"yyyy\")&\"13\")","v":0},{"$f":"SUMIFS(shukei!$C:$C,shukei!$B:$B,\"=\"&getsuji!$B11,shukei!$A:$A,TEXT(AD$2,\"yyyymm\"))","v":0},{"$f":"SUMIFS(shukei!$C:$C,shukei!$B:$B,\"=\"&getsuji!$B11,shukei!$A:$A,TEXT(AE$2,\"yyyymm\"))","v":0},{"$f":"SUMIFS(shukei!$C:$C,shukei!$B:$B,\"=\"&getsuji!$B11,shukei!$A:$A,TEXT(AF$2,\"yyyymm\"))","v":0},{"$f":"SUMIFS(shukei!$C:$C,shukei!$B:$B,\"=\"&getsuji!$B11,shukei!$A:$A,TEXT(AG$2,\"yyyymm\"))","v":0},{"$f":"SUMIFS(shukei!$C:$C,shukei!$B:$B,\"=\"&getsuji!$B11,shukei!$A:$A,TEXT(AH$2,\"yyyymm\"))","v":0},{"$f":"SUMIFS(shukei!$C:$C,shukei!$B:$B,\"=\"&getsuji!$B11,shukei!$A:$A,TEXT(AI$2,\"yyyymm\"))","v":0},{"$f":"SUMIFS(shukei!$C:$C,shukei!$B:$B,\"=\"&getsuji!$B11,shukei!$A:$A,TEXT(AJ$2,\"yyyymm\"))","v":0},{"$f":"SUMIFS(shukei!$C:$C,shukei!$B:$B,\"=\"&getsuji!$B11,shukei!$A:$A,TEXT(AK$2,\"yyyymm\"))","v":0},{"$f":"SUMIFS(shukei!$C:$C,shukei!$B:$B,\"=\"&getsuji!$B11,shukei!$A:$A,TEXT(AL$2,\"yyyymm\"))","v":0},{"$f":"SUMIFS(shukei!$C:$C,shukei!$B:$B,\"=\"&getsuji!$B11,shukei!$A:$A,TEXT(AM$2,\"yyyymm\"))","v":0},{"$f":"SUMIFS(shukei!$C:$C,shukei!$B:$B,\"=\"&getsuji!$B11,shukei!$A:$A,TEXT(AN$2,\"yyyymm\"))","v":0},{"$f":"SUMIFS(shukei!$C:$C,shukei!$B:$B,\"=\"&getsuji!$B11,shukei!$A:$A,TEXT(AO$2,\"yyyymm\"))","v":0},{"$f":"SUMIFS(shukei!$C:$C,shukei!$B:$B,\"=\"&getsuji!$B11,shukei!$A:$A,TEXT(AP$2,\"yyyy\")&\"13\")","v":0}]
[null,null,null,{"$f":"SUMIFS(shukei!$C:$C,shukei!$B:$B,\"=\"&getsuji!$B12,shukei!$A:$A,TEXT(D$2,\"yyyymm\"))","v":0},{"$f":"SUMIFS(shukei!$C:$C,shukei!$B:$B,\"=\"&getsuji!$B12,shukei!$A:$A,TEXT(E$2,\"yyyymm\"))","v":0},{"$f":"SUMIFS(shukei!$C:$C,shukei!$B:$B,\"=\"&getsuji!$B12,shukei!$A:$A,TEXT(F$2,\"yyyymm\"))","v":0},{"$f":"SUMIFS(shukei!$C:$C,shukei!$B:$B,\"=\"&getsuji!$B12,shukei!$A:$A,TEXT(G$2,\"yyyymm\"))","v":0},{"$f":"SUMIFS(shukei!$C:$C,shukei!$B:$B,\"=\"&getsuji!$B12,shukei!$A:$A,TEXT(H$2,\"yyyymm\"))","v":0},{"$f":"SUMIFS(shukei!$C:$C,shukei!$B:$B,\"=\"&getsuji!$B12,shukei!$A:$A,TEXT(I$2,\"yyyymm\"))","v":0},{"$f":"SUMIFS(shukei!$C:$C,shukei!$B:$B,\"=\"&getsuji!$B12,shukei!$A:$A,TEXT(J$2,\"yyyymm\"))","v":0},{"$f":"SUMIFS(shukei!$C:$C,shukei!$B:$B,\"=\"&getsuji!$B12,shukei!$A:$A,TEXT(K$2,\"yyyymm\"))","v":0},{"$f":"SUMIFS(shukei!$C:$C,shukei!$B:$B,\"=\"&getsuji!$B12,shukei!$A:$A,TEXT(L$2,\"yyyymm\"))","v":0},{"$f":"SUMIFS(shukei!$C:$C,shukei!$B:$B,\"=\"&getsuji!$B12,shukei!$A:$A,TEXT(M$2,\"yyyymm\"))","v":0},{"$f":"SUMIFS(shukei!$C:$C,shukei!$B:$B,\"=\"&getsuji!$B12,shukei!$A:$A,TEXT(N$2,\"yyyymm\"))","v":0},{"$f":"SUMIFS(shukei!$C:$C,shukei!$B:$B,\"=\"&getsuji!$B12,shukei!$A:$A,TEXT(O$2,\"yyyymm\"))","v":0},{"$f":"SUMIFS(shukei!$C:$C,shukei!$B:$B,\"=\"&getsuji!$B12,shukei!$A:$A,TEXT(P$2,\"yyyy\")&\"13\")","v":0},{"$f":"SUMIFS(shukei!$C:$C,shukei!$B:$B,\"=\"&getsuji!$B12,shukei!$A:$A,TEXT(Q$2,\"yyyymm\"))","v":0},{"$f":"SUMIFS(shukei!$C:$C,shukei!$B:$B,\"=\"&getsuji!$B12,shukei!$A:$A,TEXT(R$2,\"yyyymm\"))","v":0},{"$f":"SUMIFS(shukei!$C:$C,shukei!$B:$B,\"=\"&getsuji!$B12,shukei!$A:$A,TEXT(S$2,\"yyyymm\"))","v":0},{"$f":"SUMIFS(shukei!$C:$C,shukei!$B:$B,\"=\"&getsuji!$B12,shukei!$A:$A,TEXT(T$2,\"yyyymm\"))","v":0},{"$f":"SUMIFS(shukei!$C:$C,shukei!$B:$B,\"=\"&getsuji!$B12,shukei!$A:$A,TEXT(U$2,\"yyyymm\"))","v":0},{"$f":"SUMIFS(shukei!$C:$C,shukei!$B:$B,\"=\"&getsuji!$B12,shukei!$A:$A,TEXT(V$2,\"yyyymm\"))","v":0},{"$f":"SUMIFS(shukei!$C:$C,shukei!$B:$B,\"=\"&getsuji!$B12,shukei!$A:$A,TEXT(W$2,\"yyyymm\"))","v":0},{"$f":"SUMIFS(shukei!$C:$C,shukei!$B:$B,\"=\"&getsuji!$B12,shukei!$A:$A,TEXT(X$2,\"yyyymm\"))","v":0},{"$f":"SUMIFS(shukei!$C:$C,shukei!$B:$B,\"=\"&getsuji!$B12,shukei!$A:$A,TEXT(Y$2,\"yyyymm\"))","v":0},{"$f":"SUMIFS(shukei!$C:$C,shukei!$B:$B,\"=\"&getsuji!$B12,shukei!$A:$A,TEXT(Z$2,\"yyyymm\"))","v":0},{"$f":"SUMIFS(shukei!$C:$C,shukei!$B:$B,\"=\"&getsuji!$B12,shukei!$A:$A,TEXT(AA$2,\"yyyymm\"))","v":0},{"$f":"SUMIFS(shukei!$C:$C,shukei!$B:$B,\"=\"&getsuji!$B12,shukei!$A:$A,TEXT(AB$2,\"yyyymm\"))","v":0},{"$f":"SUMIFS(shukei!$C:$C,shukei!$B:$B,\"=\"&getsuji!$B12,shukei!$A:$A,TEXT(AC$2,\"yyyy\")&\"13\")","v":0},{"$f":"SUMIFS(shukei!$C:$C,shukei!$B:$B,\"=\"&getsuji!$B12,shukei!$A:$A,TEXT(AD$2,\"yyyymm\"))","v":0},{"$f":"SUMIFS(shukei!$C:$C,shukei!$B:$B,\"=\"&getsuji!$B12,shukei!$A:$A,TEXT(AE$2,\"yyyymm\"))","v":0},{"$f":"SUMIFS(shukei!$C:$C,shukei!$B:$B,\"=\"&getsuji!$B12,shukei!$A:$A,TEXT(AF$2,\"yyyymm\"))","v":0},{"$f":"SUMIFS(shukei!$C:$C,shukei!$B:$B,\"=\"&getsuji!$B12,shukei!$A:$A,TEXT(AG$2,\"yyyymm\"))","v":0},{"$f":"SUMIFS(shukei!$C:$C,shukei!$B:$B,\"=\"&getsuji!$B12,shukei!$A:$A,TEXT(AH$2,\"yyyymm\"))","v":0},{"$f":"SUMIFS(shukei!$C:$C,shukei!$B:$B,\"=\"&getsuji!$B12,shukei!$A:$A,TEXT(AI$2,\"yyyymm\"))","v":0},{"$f":"SUMIFS(shukei!$C:$C,shukei!$B:$B,\"=\"&getsuji!$B12,shukei!$A:$A,TEXT(AJ$2,\"yyyymm\"))","v":0},{"$f":"SUMIFS(shukei!$C:$C,shukei!$B:$B,\"=\"&getsuji!$B12,shukei!$A:$A,TEXT(AK$2,\"yyyymm\"))","v":0},{"$f":"SUMIFS(shukei!$C:$C,shukei!$B:$B,\"=\"&getsuji!$B12,shukei!$A:$A,TEXT(AL$2,\"yyyymm\"))","v":0},{"$f":"SUMIFS(shukei!$C:$C,shukei!$B:$B,\"=\"&getsuji!$B12,shukei!$A:$A,TEXT(AM$2,\"yyyymm\"))","v":0},{"$f":"SUMIFS(shukei!$C:$C,shukei!$B:$B,\"=\"&getsuji!$B12,shukei!$A:$A,TEXT(AN$2,\"yyyymm\"))","v":0},{"$f":"SUMIFS(shukei!$C:$C,shukei!$B:$B,\"=\"&getsuji!$B12,shukei!$A:$A,TEXT(AO$2,\"yyyymm\"))","v":0},{"$f":"SUMIFS(shukei!$C:$C,shukei!$B:$B,\"=\"&getsuji!$B12,shukei!$A:$A,TEXT(AP$2,\"yyyy\")&\"13\")","v":0}]
[null,null,null,{"$f":"SUMIFS(shukei!$C:$C,shukei!$B:$B,\"=\"&getsuji!$B13,shukei!$A:$A,TEXT(D$2,\"yyyymm\"))","v":0},{"$f":"SUMIFS(shukei!$C:$C,shukei!$B:$B,\"=\"&getsuji!$B13,shukei!$A:$A,TEXT(E$2,\"yyyymm\"))","v":0},{"$f":"SUMIFS(shukei!$C:$C,shukei!$B:$B,\"=\"&getsuji!$B13,shukei!$A:$A,TEXT(F$2,\"yyyymm\"))","v":0},{"$f":"SUMIFS(shukei!$C:$C,shukei!$B:$B,\"=\"&getsuji!$B13,shukei!$A:$A,TEXT(G$2,\"yyyymm\"))","v":0},{"$f":"SUMIFS(shukei!$C:$C,shukei!$B:$B,\"=\"&getsuji!$B13,shukei!$A:$A,TEXT(H$2,\"yyyymm\"))","v":0},{"$f":"SUMIFS(shukei!$C:$C,shukei!$B:$B,\"=\"&getsuji!$B13,shukei!$A:$A,TEXT(I$2,\"yyyymm\"))","v":0},{"$f":"SUMIFS(shukei!$C:$C,shukei!$B:$B,\"=\"&getsuji!$B13,shukei!$A:$A,TEXT(J$2,\"yyyymm\"))","v":0},{"$f":"SUMIFS(shukei!$C:$C,shukei!$B:$B,\"=\"&getsuji!$B13,shukei!$A:$A,TEXT(K$2,\"yyyymm\"))","v":0},{"$f":"SUMIFS(shukei!$C:$C,shukei!$B:$B,\"=\"&getsuji!$B13,shukei!$A:$A,TEXT(L$2,\"yyyymm\"))","v":0},{"$f":"SUMIFS(shukei!$C:$C,shukei!$B:$B,\"=\"&getsuji!$B13,shukei!$A:$A,TEXT(M$2,\"yyyymm\"))","v":0},{"$f":"SUMIFS(shukei!$C:$C,shukei!$B:$B,\"=\"&getsuji!$B13,shukei!$A:$A,TEXT(N$2,\"yyyymm\"))","v":0},{"$f":"SUMIFS(shukei!$C:$C,shukei!$B:$B,\"=\"&getsuji!$B13,shukei!$A:$A,TEXT(O$2,\"yyyymm\"))","v":0},{"$f":"SUMIFS(shukei!$C:$C,shukei!$B:$B,\"=\"&getsuji!$B13,shukei!$A:$A,TEXT(P$2,\"yyyy\")&\"13\")","v":0},{"$f":"SUMIFS(shukei!$C:$C,shukei!$B:$B,\"=\"&getsuji!$B13,shukei!$A:$A,TEXT(Q$2,\"yyyymm\"))","v":0},{"$f":"SUMIFS(shukei!$C:$C,shukei!$B:$B,\"=\"&getsuji!$B13,shukei!$A:$A,TEXT(R$2,\"yyyymm\"))","v":0},{"$f":"SUMIFS(shukei!$C:$C,shukei!$B:$B,\"=\"&getsuji!$B13,shukei!$A:$A,TEXT(S$2,\"yyyymm\"))","v":0},{"$f":"SUMIFS(shukei!$C:$C,shukei!$B:$B,\"=\"&getsuji!$B13,shukei!$A:$A,TEXT(T$2,\"yyyymm\"))","v":0},{"$f":"SUMIFS(shukei!$C:$C,shukei!$B:$B,\"=\"&getsuji!$B13,shukei!$A:$A,TEXT(U$2,\"yyyymm\"))","v":0},{"$f":"SUMIFS(shukei!$C:$C,shukei!$B:$B,\"=\"&getsuji!$B13,shukei!$A:$A,TEXT(V$2,\"yyyymm\"))","v":0},{"$f":"SUMIFS(shukei!$C:$C,shukei!$B:$B,\"=\"&getsuji!$B13,shukei!$A:$A,TEXT(W$2,\"yyyymm\"))","v":0},{"$f":"SUMIFS(shukei!$C:$C,shukei!$B:$B,\"=\"&getsuji!$B13,shukei!$A:$A,TEXT(X$2,\"yyyymm\"))","v":0},{"$f":"SUMIFS(shukei!$C:$C,shukei!$B:$B,\"=\"&getsuji!$B13,shukei!$A:$A,TEXT(Y$2,\"yyyymm\"))","v":0},{"$f":"SUMIFS(shukei!$C:$C,shukei!$B:$B,\"=\"&getsuji!$B13,shukei!$A:$A,TEXT(Z$2,\"yyyymm\"))","v":0},{"$f":"SUMIFS(shukei!$C:$C,shukei!$B:$B,\"=\"&getsuji!$B13,shukei!$A:$A,TEXT(AA$2,\"yyyymm\"))","v":0},{"$f":"SUMIFS(shukei!$C:$C,shukei!$B:$B,\"=\"&getsuji!$B13,shukei!$A:$A,TEXT(AB$2,\"yyyymm\"))","v":0},{"$f":"SUMIFS(shukei!$C:$C,shukei!$B:$B,\"=\"&getsuji!$B13,shukei!$A:$A,TEXT(AC$2,\"yyyy\")&\"13\")","v":0},{"$f":"SUMIFS(shukei!$C:$C,shukei!$B:$B,\"=\"&getsuji!$B13,shukei!$A:$A,TEXT(AD$2,\"yyyymm\"))","v":0},{"$f":"SUMIFS(shukei!$C:$C,shukei!$B:$B,\"=\"&getsuji!$B13,shukei!$A:$A,TEXT(AE$2,\"yyyymm\"))","v":0},{"$f":"SUMIFS(shukei!$C:$C,shukei!$B:$B,\"=\"&getsuji!$B13,shukei!$A:$A,TEXT(AF$2,\"yyyymm\"))","v":0},{"$f":"SUMIFS(shukei!$C:$C,shukei!$B:$B,\"=\"&getsuji!$B13,shukei!$A:$A,TEXT(AG$2,\"yyyymm\"))","v":0},{"$f":"SUMIFS(shukei!$C:$C,shukei!$B:$B,\"=\"&getsuji!$B13,shukei!$A:$A,TEXT(AH$2,\"yyyymm\"))","v":0},{"$f":"SUMIFS(shukei!$C:$C,shukei!$B:$B,\"=\"&getsuji!$B13,shukei!$A:$A,TEXT(AI$2,\"yyyymm\"))","v":0},{"$f":"SUMIFS(shukei!$C:$C,shukei!$B:$B,\"=\"&getsuji!$B13,shukei!$A:$A,TEXT(AJ$2,\"yyyymm\"))","v":0},{"$f":"SUMIFS(shukei!$C:$C,shukei!$B:$B,\"=\"&getsuji!$B13,shukei!$A:$A,TEXT(AK$2,\"yyyymm\"))","v":0},{"$f":"SUMIFS(shukei!$C:$C,shukei!$B:$B,\"=\"&getsuji!$B13,shukei!$A:$A,TEXT(AL$2,\"yyyymm\"))","v":0},{"$f":"SUMIFS(shukei!$C:$C,shukei!$B:$B,\"=\"&getsuji!$B13,shukei!$A:$A,TEXT(AM$2,\"yyyymm\"))","v":0},{"$f":"SUMIFS(shukei!$C:$C,shukei!$B:$B,\"=\"&getsuji!$B13,shukei!$A:$A,TEXT(AN$2,\"yyyymm\"))","v":0},{"$f":"SUMIFS(shukei!$C:$C,shukei!$B:$B,\"=\"&getsuji!$B13,shukei!$A:$A,TEXT(AO$2,\"yyyymm\"))","v":0},{"$f":"SUMIFS(shukei!$C:$C,shukei!$B:$B,\"=\"&getsuji!$B13,shukei!$A:$A,TEXT(AP$2,\"yyyy\")&\"13\")","v":0}]
[null,null,null,{"$f":"SUMIFS(shukei!$C:$C,shukei!$B:$B,\"=\"&getsuji!$B14,shukei!$A:$A,TEXT(D$2,\"yyyymm\"))","v":0},{"$f":"SUMIFS(shukei!$C:$C,shukei!$B:$B,\"=\"&getsuji!$B14,shukei!$A:$A,TEXT(E$2,\"yyyymm\"))","v":0},{"$f":"SUMIFS(shukei!$C:$C,shukei!$B:$B,\"=\"&getsuji!$B14,shukei!$A:$A,TEXT(F$2,\"yyyymm\"))","v":0},{"$f":"SUMIFS(shukei!$C:$C,shukei!$B:$B,\"=\"&getsuji!$B14,shukei!$A:$A,TEXT(G$2,\"yyyymm\"))","v":0},{"$f":"SUMIFS(shukei!$C:$C,shukei!$B:$B,\"=\"&getsuji!$B14,shukei!$A:$A,TEXT(H$2,\"yyyymm\"))","v":0},{"$f":"SUMIFS(shukei!$C:$C,shukei!$B:$B,\"=\"&getsuji!$B14,shukei!$A:$A,TEXT(I$2,\"yyyymm\"))","v":0},{"$f":"SUMIFS(shukei!$C:$C,shukei!$B:$B,\"=\"&getsuji!$B14,shukei!$A:$A,TEXT(J$2,\"yyyymm\"))","v":0},{"$f":"SUMIFS(shukei!$C:$C,shukei!$B:$B,\"=\"&getsuji!$B14,shukei!$A:$A,TEXT(K$2,\"yyyymm\"))","v":0},{"$f":"SUMIFS(shukei!$C:$C,shukei!$B:$B,\"=\"&getsuji!$B14,shukei!$A:$A,TEXT(L$2,\"yyyymm\"))","v":0},{"$f":"SUMIFS(shukei!$C:$C,shukei!$B:$B,\"=\"&getsuji!$B14,shukei!$A:$A,TEXT(M$2,\"yyyymm\"))","v":0},{"$f":"SUMIFS(shukei!$C:$C,shukei!$B:$B,\"=\"&getsuji!$B14,shukei!$A:$A,TEXT(N$2,\"yyyymm\"))","v":0},{"$f":"SUMIFS(shukei!$C:$C,shukei!$B:$B,\"=\"&getsuji!$B14,shukei!$A:$A,TEXT(O$2,\"yyyymm\"))","v":0},{"$f":"SUMIFS(shukei!$C:$C,shukei!$B:$B,\"=\"&getsuji!$B14,shukei!$A:$A,TEXT(P$2,\"yyyy\")&\"13\")","v":0},{"$f":"SUMIFS(shukei!$C:$C,shukei!$B:$B,\"=\"&getsuji!$B14,shukei!$A:$A,TEXT(Q$2,\"yyyymm\"))","v":0},{"$f":"SUMIFS(shukei!$C:$C,shukei!$B:$B,\"=\"&getsuji!$B14,shukei!$A:$A,TEXT(R$2,\"yyyymm\"))","v":0},{"$f":"SUMIFS(shukei!$C:$C,shukei!$B:$B,\"=\"&getsuji!$B14,shukei!$A:$A,TEXT(S$2,\"yyyymm\"))","v":0},{"$f":"SUMIFS(shukei!$C:$C,shukei!$B:$B,\"=\"&getsuji!$B14,shukei!$A:$A,TEXT(T$2,\"yyyymm\"))","v":0},{"$f":"SUMIFS(shukei!$C:$C,shukei!$B:$B,\"=\"&getsuji!$B14,shukei!$A:$A,TEXT(U$2,\"yyyymm\"))","v":0},{"$f":"SUMIFS(shukei!$C:$C,shukei!$B:$B,\"=\"&getsuji!$B14,shukei!$A:$A,TEXT(V$2,\"yyyymm\"))","v":0},{"$f":"SUMIFS(shukei!$C:$C,shukei!$B:$B,\"=\"&getsuji!$B14,shukei!$A:$A,TEXT(W$2,\"yyyymm\"))","v":0},{"$f":"SUMIFS(shukei!$C:$C,shukei!$B:$B,\"=\"&getsuji!$B14,shukei!$A:$A,TEXT(X$2,\"yyyymm\"))","v":0},{"$f":"SUMIFS(shukei!$C:$C,shukei!$B:$B,\"=\"&getsuji!$B14,shukei!$A:$A,TEXT(Y$2,\"yyyymm\"))","v":0},{"$f":"SUMIFS(shukei!$C:$C,shukei!$B:$B,\"=\"&getsuji!$B14,shukei!$A:$A,TEXT(Z$2,\"yyyymm\"))","v":0},{"$f":"SUMIFS(shukei!$C:$C,shukei!$B:$B,\"=\"&getsuji!$B14,shukei!$A:$A,TEXT(AA$2,\"yyyymm\"))","v":0},{"$f":"SUMIFS(shukei!$C:$C,shukei!$B:$B,\"=\"&getsuji!$B14,shukei!$A:$A,TEXT(AB$2,\"yyyymm\"))","v":0},{"$f":"SUMIFS(shukei!$C:$C,shukei!$B:$B,\"=\"&getsuji!$B14,shukei!$A:$A,TEXT(AC$2,\"yyyy\")&\"13\")","v":0},{"$f":"SUMIFS(shukei!$C:$C,shukei!$B:$B,\"=\"&getsuji!$B14,shukei!$A:$A,TEXT(AD$2,\"yyyymm\"))","v":0},{"$f":"SUMIFS(shukei!$C:$C,shukei!$B:$B,\"=\"&getsuji!$B14,shukei!$A:$A,TEXT(AE$2,\"yyyymm\"))","v":0},{"$f":"SUMIFS(shukei!$C:$C,shukei!$B:$B,\"=\"&getsuji!$B14,shukei!$A:$A,TEXT(AF$2,\"yyyymm\"))","v":0},{"$f":"SUMIFS(shukei!$C:$C,shukei!$B:$B,\"=\"&getsuji!$B14,shukei!$A:$A,TEXT(AG$2,\"yyyymm\"))","v":0},{"$f":"SUMIFS(shukei!$C:$C,shukei!$B:$B,\"=\"&getsuji!$B14,shukei!$A:$A,TEXT(AH$2,\"yyyymm\"))","v":0},{"$f":"SUMIFS(shukei!$C:$C,shukei!$B:$B,\"=\"&getsuji!$B14,shukei!$A:$A,TEXT(AI$2,\"yyyymm\"))","v":0},{"$f":"SUMIFS(shukei!$C:$C,shukei!$B:$B,\"=\"&getsuji!$B14,shukei!$A:$A,TEXT(AJ$2,\"yyyymm\"))","v":0},{"$f":"SUMIFS(shukei!$C:$C,shukei!$B:$B,\"=\"&getsuji!$B14,shukei!$A:$A,TEXT(AK$2,\"yyyymm\"))","v":0},{"$f":"SUMIFS(shukei!$C:$C,shukei!$B:$B,\"=\"&getsuji!$B14,shukei!$A:$A,TEXT(AL$2,\"yyyymm\"))","v":0},{"$f":"SUMIFS(shukei!$C:$C,shukei!$B:$B,\"=\"&getsuji!$B14,shukei!$A:$A,TEXT(AM$2,\"yyyymm\"))","v":0},{"$f":"SUMIFS(shukei!$C:$C,shukei!$B:$B,\"=\"&getsuji!$B14,shukei!$A:$A,TEXT(AN$2,\"yyyymm\"))","v":0},{"$f":"SUMIFS(shukei!$C:$C,shukei!$B:$B,\"=\"&getsuji!$B14,shukei!$A:$A,TEXT(AO$2,\"yyyymm\"))","v":0},{"$f":"SUMIFS(shukei!$C:$C,shukei!$B:$B,\"=\"&getsuji!$B14,shukei!$A:$A,TEXT(AP$2,\"yyyy\")&\"13\")","v":0}]
[null,null,null,{"$f":"SUMIFS(shukei!$C:$C,shukei!$B:$B,\"=\"&getsuji!$B15,shukei!$A:$A,TEXT(D$2,\"yyyymm\"))","v":0},{"$f":"SUMIFS(shukei!$C:$C,shukei!$B:$B,\"=\"&getsuji!$B15,shukei!$A:$A,TEXT(E$2,\"yyyymm\"))","v":0},{"$f":"SUMIFS(shukei!$C:$C,shukei!$B:$B,\"=\"&getsuji!$B15,shukei!$A:$A,TEXT(F$2,\"yyyymm\"))","v":0},{"$f":"SUMIFS(shukei!$C:$C,shukei!$B:$B,\"=\"&getsuji!$B15,shukei!$A:$A,TEXT(G$2,\"yyyymm\"))","v":0},{"$f":"SUMIFS(shukei!$C:$C,shukei!$B:$B,\"=\"&getsuji!$B15,shukei!$A:$A,TEXT(H$2,\"yyyymm\"))","v":0},{"$f":"SUMIFS(shukei!$C:$C,shukei!$B:$B,\"=\"&getsuji!$B15,shukei!$A:$A,TEXT(I$2,\"yyyymm\"))","v":0},{"$f":"SUMIFS(shukei!$C:$C,shukei!$B:$B,\"=\"&getsuji!$B15,shukei!$A:$A,TEXT(J$2,\"yyyymm\"))","v":0},{"$f":"SUMIFS(shukei!$C:$C,shukei!$B:$B,\"=\"&getsuji!$B15,shukei!$A:$A,TEXT(K$2,\"yyyymm\"))","v":0},{"$f":"SUMIFS(shukei!$C:$C,shukei!$B:$B,\"=\"&getsuji!$B15,shukei!$A:$A,TEXT(L$2,\"yyyymm\"))","v":0},{"$f":"SUMIFS(shukei!$C:$C,shukei!$B:$B,\"=\"&getsuji!$B15,shukei!$A:$A,TEXT(M$2,\"yyyymm\"))","v":0},{"$f":"SUMIFS(shukei!$C:$C,shukei!$B:$B,\"=\"&getsuji!$B15,shukei!$A:$A,TEXT(N$2,\"yyyymm\"))","v":0},{"$f":"SUMIFS(shukei!$C:$C,shukei!$B:$B,\"=\"&getsuji!$B15,shukei!$A:$A,TEXT(O$2,\"yyyymm\"))","v":0},{"$f":"SUMIFS(shukei!$C:$C,shukei!$B:$B,\"=\"&getsuji!$B15,shukei!$A:$A,TEXT(P$2,\"yyyy\")&\"13\")","v":0},{"$f":"SUMIFS(shukei!$C:$C,shukei!$B:$B,\"=\"&getsuji!$B15,shukei!$A:$A,TEXT(Q$2,\"yyyymm\"))","v":0},{"$f":"SUMIFS(shukei!$C:$C,shukei!$B:$B,\"=\"&getsuji!$B15,shukei!$A:$A,TEXT(R$2,\"yyyymm\"))","v":0},{"$f":"SUMIFS(shukei!$C:$C,shukei!$B:$B,\"=\"&getsuji!$B15,shukei!$A:$A,TEXT(S$2,\"yyyymm\"))","v":0},{"$f":"SUMIFS(shukei!$C:$C,shukei!$B:$B,\"=\"&getsuji!$B15,shukei!$A:$A,TEXT(T$2,\"yyyymm\"))","v":0},{"$f":"SUMIFS(shukei!$C:$C,shukei!$B:$B,\"=\"&getsuji!$B15,shukei!$A:$A,TEXT(U$2,\"yyyymm\"))","v":0},{"$f":"SUMIFS(shukei!$C:$C,shukei!$B:$B,\"=\"&getsuji!$B15,shukei!$A:$A,TEXT(V$2,\"yyyymm\"))","v":0},{"$f":"SUMIFS(shukei!$C:$C,shukei!$B:$B,\"=\"&getsuji!$B15,shukei!$A:$A,TEXT(W$2,\"yyyymm\"))","v":0},{"$f":"SUMIFS(shukei!$C:$C,shukei!$B:$B,\"=\"&getsuji!$B15,shukei!$A:$A,TEXT(X$2,\"yyyymm\"))","v":0},{"$f":"SUMIFS(shukei!$C:$C,shukei!$B:$B,\"=\"&getsuji!$B15,shukei!$A:$A,TEXT(Y$2,\"yyyymm\"))","v":0},{"$f":"SUMIFS(shukei!$C:$C,shukei!$B:$B,\"=\"&getsuji!$B15,shukei!$A:$A,TEXT(Z$2,\"yyyymm\"))","v":0},{"$f":"SUMIFS(shukei!$C:$C,shukei!$B:$B,\"=\"&getsuji!$B15,shukei!$A:$A,TEXT(AA$2,\"yyyymm\"))","v":0},{"$f":"SUMIFS(shukei!$C:$C,shukei!$B:$B,\"=\"&getsuji!$B15,shukei!$A:$A,TEXT(AB$2,\"yyyymm\"))","v":0},{"$f":"SUMIFS(shukei!$C:$C,shukei!$B:$B,\"=\"&getsuji!$B15,shukei!$A:$A,TEXT(AC$2,\"yyyy\")&\"13\")","v":0},{"$f":"SUMIFS(shukei!$C:$C,shukei!$B:$B,\"=\"&getsuji!$B15,shukei!$A:$A,TEXT(AD$2,\"yyyymm\"))","v":0},{"$f":"SUMIFS(shukei!$C:$C,shukei!$B:$B,\"=\"&getsuji!$B15,shukei!$A:$A,TEXT(AE$2,\"yyyymm\"))","v":0},{"$f":"SUMIFS(shukei!$C:$C,shukei!$B:$B,\"=\"&getsuji!$B15,shukei!$A:$A,TEXT(AF$2,\"yyyymm\"))","v":0},{"$f":"SUMIFS(shukei!$C:$C,shukei!$B:$B,\"=\"&getsuji!$B15,shukei!$A:$A,TEXT(AG$2,\"yyyymm\"))","v":0},{"$f":"SUMIFS(shukei!$C:$C,shukei!$B:$B,\"=\"&getsuji!$B15,shukei!$A:$A,TEXT(AH$2,\"yyyymm\"))","v":0},{"$f":"SUMIFS(shukei!$C:$C,shukei!$B:$B,\"=\"&getsuji!$B15,shukei!$A:$A,TEXT(AI$2,\"yyyymm\"))","v":0},{"$f":"SUMIFS(shukei!$C:$C,shukei!$B:$B,\"=\"&getsuji!$B15,shukei!$A:$A,TEXT(AJ$2,\"yyyymm\"))","v":0},{"$f":"SUMIFS(shukei!$C:$C,shukei!$B:$B,\"=\"&getsuji!$B15,shukei!$A:$A,TEXT(AK$2,\"yyyymm\"))","v":0},{"$f":"SUMIFS(shukei!$C:$C,shukei!$B:$B,\"=\"&getsuji!$B15,shukei!$A:$A,TEXT(AL$2,\"yyyymm\"))","v":0},{"$f":"SUMIFS(shukei!$C:$C,shukei!$B:$B,\"=\"&getsuji!$B15,shukei!$A:$A,TEXT(AM$2,\"yyyymm\"))","v":0},{"$f":"SUMIFS(shukei!$C:$C,shukei!$B:$B,\"=\"&getsuji!$B15,shukei!$A:$A,TEXT(AN$2,\"yyyymm\"))","v":0},{"$f":"SUMIFS(shukei!$C:$C,shukei!$B:$B,\"=\"&getsuji!$B15,shukei!$A:$A,TEXT(AO$2,\"yyyymm\"))","v":0},{"$f":"SUMIFS(shukei!$C:$C,shukei!$B:$B,\"=\"&getsuji!$B15,shukei!$A:$A,TEXT(AP$2,\"yyyy\")&\"13\")","v":0}]
[null,null,null,{"$f":"SUMIFS(shukei!$C:$C,shukei!$B:$B,\"=\"&getsuji!$B16,shukei!$A:$A,TEXT(D$2,\"yyyymm\"))","v":0},{"$f":"SUMIFS(shukei!$C:$C,shukei!$B:$B,\"=\"&getsuji!$B16,shukei!$A:$A,TEXT(E$2,\"yyyymm\"))","v":0},{"$f":"SUMIFS(shukei!$C:$C,shukei!$B:$B,\"=\"&getsuji!$B16,shukei!$A:$A,TEXT(F$2,\"yyyymm\"))","v":0},{"$f":"SUMIFS(shukei!$C:$C,shukei!$B:$B,\"=\"&getsuji!$B16,shukei!$A:$A,TEXT(G$2,\"yyyymm\"))","v":0},{"$f":"SUMIFS(shukei!$C:$C,shukei!$B:$B,\"=\"&getsuji!$B16,shukei!$A:$A,TEXT(H$2,\"yyyymm\"))","v":0},{"$f":"SUMIFS(shukei!$C:$C,shukei!$B:$B,\"=\"&getsuji!$B16,shukei!$A:$A,TEXT(I$2,\"yyyymm\"))","v":0},{"$f":"SUMIFS(shukei!$C:$C,shukei!$B:$B,\"=\"&getsuji!$B16,shukei!$A:$A,TEXT(J$2,\"yyyymm\"))","v":0},{"$f":"SUMIFS(shukei!$C:$C,shukei!$B:$B,\"=\"&getsuji!$B16,shukei!$A:$A,TEXT(K$2,\"yyyymm\"))","v":0},{"$f":"SUMIFS(shukei!$C:$C,shukei!$B:$B,\"=\"&getsuji!$B16,shukei!$A:$A,TEXT(L$2,\"yyyymm\"))","v":0},{"$f":"SUMIFS(shukei!$C:$C,shukei!$B:$B,\"=\"&getsuji!$B16,shukei!$A:$A,TEXT(M$2,\"yyyymm\"))","v":0},{"$f":"SUMIFS(shukei!$C:$C,shukei!$B:$B,\"=\"&getsuji!$B16,shukei!$A:$A,TEXT(N$2,\"yyyymm\"))","v":0},{"$f":"SUMIFS(shukei!$C:$C,shukei!$B:$B,\"=\"&getsuji!$B16,shukei!$A:$A,TEXT(O$2,\"yyyymm\"))","v":0},{"$f":"SUMIFS(shukei!$C:$C,shukei!$B:$B,\"=\"&getsuji!$B16,shukei!$A:$A,TEXT(P$2,\"yyyy\")&\"13\")","v":0},{"$f":"SUMIFS(shukei!$C:$C,shukei!$B:$B,\"=\"&getsuji!$B16,shukei!$A:$A,TEXT(Q$2,\"yyyymm\"))","v":0},{"$f":"SUMIFS(shukei!$C:$C,shukei!$B:$B,\"=\"&getsuji!$B16,shukei!$A:$A,TEXT(R$2,\"yyyymm\"))","v":0},{"$f":"SUMIFS(shukei!$C:$C,shukei!$B:$B,\"=\"&getsuji!$B16,shukei!$A:$A,TEXT(S$2,\"yyyymm\"))","v":0},{"$f":"SUMIFS(shukei!$C:$C,shukei!$B:$B,\"=\"&getsuji!$B16,shukei!$A:$A,TEXT(T$2,\"yyyymm\"))","v":0},{"$f":"SUMIFS(shukei!$C:$C,shukei!$B:$B,\"=\"&getsuji!$B16,shukei!$A:$A,TEXT(U$2,\"yyyymm\"))","v":0},{"$f":"SUMIFS(shukei!$C:$C,shukei!$B:$B,\"=\"&getsuji!$B16,shukei!$A:$A,TEXT(V$2,\"yyyymm\"))","v":0},{"$f":"SUMIFS(shukei!$C:$C,shukei!$B:$B,\"=\"&getsuji!$B16,shukei!$A:$A,TEXT(W$2,\"yyyymm\"))","v":0},{"$f":"SUMIFS(shukei!$C:$C,shukei!$B:$B,\"=\"&getsuji!$B16,shukei!$A:$A,TEXT(X$2,\"yyyymm\"))","v":0},{"$f":"SUMIFS(shukei!$C:$C,shukei!$B:$B,\"=\"&getsuji!$B16,shukei!$A:$A,TEXT(Y$2,\"yyyymm\"))","v":0},{"$f":"SUMIFS(shukei!$C:$C,shukei!$B:$B,\"=\"&getsuji!$B16,shukei!$A:$A,TEXT(Z$2,\"yyyymm\"))","v":0},{"$f":"SUMIFS(shukei!$C:$C,shukei!$B:$B,\"=\"&getsuji!$B16,shukei!$A:$A,TEXT(AA$2,\"yyyymm\"))","v":0},{"$f":"SUMIFS(shukei!$C:$C,shukei!$B:$B,\"=\"&getsuji!$B16,shukei!$A:$A,TEXT(AB$2,\"yyyymm\"))","v":0},{"$f":"SUMIFS(shukei!$C:$C,shukei!$B:$B,\"=\"&getsuji!$B16,shukei!$A:$A,TEXT(AC$2,\"yyyy\")&\"13\")","v":0},{"$f":"SUMIFS(shukei!$C:$C,shukei!$B:$B,\"=\"&getsuji!$B16,shukei!$A:$A,TEXT(AD$2,\"yyyymm\"))","v":0},{"$f":"SUMIFS(shukei!$C:$C,shukei!$B:$B,\"=\"&getsuji!$B16,shukei!$A:$A,TEXT(AE$2,\"yyyymm\"))","v":0},{"$f":"SUMIFS(shukei!$C:$C,shukei!$B:$B,\"=\"&getsuji!$B16,shukei!$A:$A,TEXT(AF$2,\"yyyymm\"))","v":0},{"$f":"SUMIFS(shukei!$C:$C,shukei!$B:$B,\"=\"&getsuji!$B16,shukei!$A:$A,TEXT(AG$2,\"yyyymm\"))","v":0},{"$f":"SUMIFS(shukei!$C:$C,shukei!$B:$B,\"=\"&getsuji!$B16,shukei!$A:$A,TEXT(AH$2,\"yyyymm\"))","v":0},{"$f":"SUMIFS(shukei!$C:$C,shukei!$B:$B,\"=\"&getsuji!$B16,shukei!$A:$A,TEXT(AI$2,\"yyyymm\"))","v":0},{"$f":"SUMIFS(shukei!$C:$C,shukei!$B:$B,\"=\"&getsuji!$B16,shukei!$A:$A,TEXT(AJ$2,\"yyyymm\"))","v":0},{"$f":"SUMIFS(shukei!$C:$C,shukei!$B:$B,\"=\"&getsuji!$B16,shukei!$A:$A,TEXT(AK$2,\"yyyymm\"))","v":0},{"$f":"SUMIFS(shukei!$C:$C,shukei!$B:$B,\"=\"&getsuji!$B16,shukei!$A:$A,TEXT(AL$2,\"yyyymm\"))","v":0},{"$f":"SUMIFS(shukei!$C:$C,shukei!$B:$B,\"=\"&getsuji!$B16,shukei!$A:$A,TEXT(AM$2,\"yyyymm\"))","v":0},{"$f":"SUMIFS(shukei!$C:$C,shukei!$B:$B,\"=\"&getsuji!$B16,shukei!$A:$A,TEXT(AN$2,\"yyyymm\"))","v":0},{"$f":"SUMIFS(shukei!$C:$C,shukei!$B:$B,\"=\"&getsuji!$B16,shukei!$A:$A,TEXT(AO$2,\"yyyymm\"))","v":0},{"$f":"SUMIFS(shukei!$C:$C,shukei!$B:$B,\"=\"&getsuji!$B16,shukei!$A:$A,TEXT(AP$2,\"yyyy\")&\"13\")","v":0}]
[null,null,null,{"$f":"SUMIFS(shukei!$C:$C,shukei!$B:$B,\"=\"&getsuji!$B17,shukei!$A:$A,TEXT(D$2,\"yyyymm\"))","v":0},{"$f":"SUMIFS(shukei!$C:$C,shukei!$B:$B,\"=\"&getsuji!$B17,shukei!$A:$A,TEXT(E$2,\"yyyymm\"))","v":0},{"$f":"SUMIFS(shukei!$C:$C,shukei!$B:$B,\"=\"&getsuji!$B17,shukei!$A:$A,TEXT(F$2,\"yyyymm\"))","v":0},{"$f":"SUMIFS(shukei!$C:$C,shukei!$B:$B,\"=\"&getsuji!$B17,shukei!$A:$A,TEXT(G$2,\"yyyymm\"))","v":0},{"$f":"SUMIFS(shukei!$C:$C,shukei!$B:$B,\"=\"&getsuji!$B17,shukei!$A:$A,TEXT(H$2,\"yyyymm\"))","v":0},{"$f":"SUMIFS(shukei!$C:$C,shukei!$B:$B,\"=\"&getsuji!$B17,shukei!$A:$A,TEXT(I$2,\"yyyymm\"))","v":0},{"$f":"SUMIFS(shukei!$C:$C,shukei!$B:$B,\"=\"&getsuji!$B17,shukei!$A:$A,TEXT(J$2,\"yyyymm\"))","v":0},{"$f":"SUMIFS(shukei!$C:$C,shukei!$B:$B,\"=\"&getsuji!$B17,shukei!$A:$A,TEXT(K$2,\"yyyymm\"))","v":0},{"$f":"SUMIFS(shukei!$C:$C,shukei!$B:$B,\"=\"&getsuji!$B17,shukei!$A:$A,TEXT(L$2,\"yyyymm\"))","v":0},{"$f":"SUMIFS(shukei!$C:$C,shukei!$B:$B,\"=\"&getsuji!$B17,shukei!$A:$A,TEXT(M$2,\"yyyymm\"))","v":0},{"$f":"SUMIFS(shukei!$C:$C,shukei!$B:$B,\"=\"&getsuji!$B17,shukei!$A:$A,TEXT(N$2,\"yyyymm\"))","v":0},{"$f":"SUMIFS(shukei!$C:$C,shukei!$B:$B,\"=\"&getsuji!$B17,shukei!$A:$A,TEXT(O$2,\"yyyymm\"))","v":0},{"$f":"SUMIFS(shukei!$C:$C,shukei!$B:$B,\"=\"&getsuji!$B17,shukei!$A:$A,TEXT(P$2,\"yyyy\")&\"13\")","v":0},{"$f":"SUMIFS(shukei!$C:$C,shukei!$B:$B,\"=\"&getsuji!$B17,shukei!$A:$A,TEXT(Q$2,\"yyyymm\"))","v":0},{"$f":"SUMIFS(shukei!$C:$C,shukei!$B:$B,\"=\"&getsuji!$B17,shukei!$A:$A,TEXT(R$2,\"yyyymm\"))","v":0},{"$f":"SUMIFS(shukei!$C:$C,shukei!$B:$B,\"=\"&getsuji!$B17,shukei!$A:$A,TEXT(S$2,\"yyyymm\"))","v":0},{"$f":"SUMIFS(shukei!$C:$C,shukei!$B:$B,\"=\"&getsuji!$B17,shukei!$A:$A,TEXT(T$2,\"yyyymm\"))","v":0},{"$f":"SUMIFS(shukei!$C:$C,shukei!$B:$B,\"=\"&getsuji!$B17,shukei!$A:$A,TEXT(U$2,\"yyyymm\"))","v":0},{"$f":"SUMIFS(shukei!$C:$C,shukei!$B:$B,\"=\"&getsuji!$B17,shukei!$A:$A,TEXT(V$2,\"yyyymm\"))","v":0},{"$f":"SUMIFS(shukei!$C:$C,shukei!$B:$B,\"=\"&getsuji!$B17,shukei!$A:$A,TEXT(W$2,\"yyyymm\"))","v":0},{"$f":"SUMIFS(shukei!$C:$C,shukei!$B:$B,\"=\"&getsuji!$B17,shukei!$A:$A,TEXT(X$2,\"yyyymm\"))","v":0},{"$f":"SUMIFS(shukei!$C:$C,shukei!$B:$B,\"=\"&getsuji!$B17,shukei!$A:$A,TEXT(Y$2,\"yyyymm\"))","v":0},{"$f":"SUMIFS(shukei!$C:$C,shukei!$B:$B,\"=\"&getsuji!$B17,shukei!$A:$A,TEXT(Z$2,\"yyyymm\"))","v":0},{"$f":"SUMIFS(shukei!$C:$C,shukei!$B:$B,\"=\"&getsuji!$B17,shukei!$A:$A,TEXT(AA$2,\"yyyymm\"))","v":0},{"$f":"SUMIFS(shukei!$C:$C,shukei!$B:$B,\"=\"&getsuji!$B17,shukei!$A:$A,TEXT(AB$2,\"yyyymm\"))","v":0},{"$f":"SUMIFS(shukei!$C:$C,shukei!$B:$B,\"=\"&getsuji!$B17,shukei!$A:$A,TEXT(AC$2,\"yyyy\")&\"13\")","v":0},{"$f":"SUMIFS(shukei!$C:$C,shukei!$B:$B,\"=\"&getsuji!$B17,shukei!$A:$A,TEXT(AD$2,\"yyyymm\"))","v":0},{"$f":"SUMIFS(shukei!$C:$C,shukei!$B:$B,\"=\"&getsuji!$B17,shukei!$A:$A,TEXT(AE$2,\"yyyymm\"))","v":0},{"$f":"SUMIFS(shukei!$C:$C,shukei!$B:$B,\"=\"&getsuji!$B17,shukei!$A:$A,TEXT(AF$2,\"yyyymm\"))","v":0},{"$f":"SUMIFS(shukei!$C:$C,shukei!$B:$B,\"=\"&getsuji!$B17,shukei!$A:$A,TEXT(AG$2,\"yyyymm\"))","v":0},{"$f":"SUMIFS(shukei!$C:$C,shukei!$B:$B,\"=\"&getsuji!$B17,shukei!$A:$A,TEXT(AH$2,\"yyyymm\"))","v":0},{"$f":"SUMIFS(shukei!$C:$C,shukei!$B:$B,\"=\"&getsuji!$B17,shukei!$A:$A,TEXT(AI$2,\"yyyymm\"))","v":0},{"$f":"SUMIFS(shukei!$C:$C,shukei!$B:$B,\"=\"&getsuji!$B17,shukei!$A:$A,TEXT(AJ$2,\"yyyymm\"))","v":0},{"$f":"SUMIFS(shukei!$C:$C,shukei!$B:$B,\"=\"&getsuji!$B17,shukei!$A:$A,TEXT(AK$2,\"yyyymm\"))","v":0},{"$f":"SUMIFS(shukei!$C:$C,shukei!$B:$B,\"=\"&getsuji!$B17,shukei!$A:$A,TEXT(AL$2,\"yyyymm\"))","v":0},{"$f":"SUMIFS(shukei!$C:$C,shukei!$B:$B,\"=\"&getsuji!$B17,shukei!$A:$A,TEXT(AM$2,\"yyyymm\"))","v":0},{"$f":"SUMIFS(shukei!$C:$C,shukei!$B:$B,\"=\"&getsuji!$B17,shukei!$A:$A,TEXT(AN$2,\"yyyymm\"))","v":0},{"$f":"SUMIFS(shukei!$C:$C,shukei!$B:$B,\"=\"&getsuji!$B17,shukei!$A:$A,TEXT(AO$2,\"yyyymm\"))","v":0},{"$f":"SUMIFS(shukei!$C:$C,shukei!$B:$B,\"=\"&getsuji!$B17,shukei!$A:$A,TEXT(AP$2,\"yyyy\")&\"13\")","v":0}]
[null,null,null,{"$f":"SUMIFS(shukei!$C:$C,shukei!$B:$B,\"=\"&getsuji!$B18,shukei!$A:$A,TEXT(D$2,\"yyyymm\"))","v":0},{"$f":"SUMIFS(shukei!$C:$C,shukei!$B:$B,\"=\"&getsuji!$B18,shukei!$A:$A,TEXT(E$2,\"yyyymm\"))","v":0},{"$f":"SUMIFS(shukei!$C:$C,shukei!$B:$B,\"=\"&getsuji!$B18,shukei!$A:$A,TEXT(F$2,\"yyyymm\"))","v":0},{"$f":"SUMIFS(shukei!$C:$C,shukei!$B:$B,\"=\"&getsuji!$B18,shukei!$A:$A,TEXT(G$2,\"yyyymm\"))","v":0},{"$f":"SUMIFS(shukei!$C:$C,shukei!$B:$B,\"=\"&getsuji!$B18,shukei!$A:$A,TEXT(H$2,\"yyyymm\"))","v":0},{"$f":"SUMIFS(shukei!$C:$C,shukei!$B:$B,\"=\"&getsuji!$B18,shukei!$A:$A,TEXT(I$2,\"yyyymm\"))","v":0},{"$f":"SUMIFS(shukei!$C:$C,shukei!$B:$B,\"=\"&getsuji!$B18,shukei!$A:$A,TEXT(J$2,\"yyyymm\"))","v":0},{"$f":"SUMIFS(shukei!$C:$C,shukei!$B:$B,\"=\"&getsuji!$B18,shukei!$A:$A,TEXT(K$2,\"yyyymm\"))","v":0},{"$f":"SUMIFS(shukei!$C:$C,shukei!$B:$B,\"=\"&getsuji!$B18,shukei!$A:$A,TEXT(L$2,\"yyyymm\"))","v":0},{"$f":"SUMIFS(shukei!$C:$C,shukei!$B:$B,\"=\"&getsuji!$B18,shukei!$A:$A,TEXT(M$2,\"yyyymm\"))","v":0},{"$f":"SUMIFS(shukei!$C:$C,shukei!$B:$B,\"=\"&getsuji!$B18,shukei!$A:$A,TEXT(N$2,\"yyyymm\"))","v":0},{"$f":"SUMIFS(shukei!$C:$C,shukei!$B:$B,\"=\"&getsuji!$B18,shukei!$A:$A,TEXT(O$2,\"yyyymm\"))","v":0},{"$f":"SUMIFS(shukei!$C:$C,shukei!$B:$B,\"=\"&getsuji!$B18,shukei!$A:$A,TEXT(P$2,\"yyyy\")&\"13\")","v":0},{"$f":"SUMIFS(shukei!$C:$C,shukei!$B:$B,\"=\"&getsuji!$B18,shukei!$A:$A,TEXT(Q$2,\"yyyymm\"))","v":0},{"$f":"SUMIFS(shukei!$C:$C,shukei!$B:$B,\"=\"&getsuji!$B18,shukei!$A:$A,TEXT(R$2,\"yyyymm\"))","v":0},{"$f":"SUMIFS(shukei!$C:$C,shukei!$B:$B,\"=\"&getsuji!$B18,shukei!$A:$A,TEXT(S$2,\"yyyymm\"))","v":0},{"$f":"SUMIFS(shukei!$C:$C,shukei!$B:$B,\"=\"&getsuji!$B18,shukei!$A:$A,TEXT(T$2,\"yyyymm\"))","v":0},{"$f":"SUMIFS(shukei!$C:$C,shukei!$B:$B,\"=\"&getsuji!$B18,shukei!$A:$A,TEXT(U$2,\"yyyymm\"))","v":0},{"$f":"SUMIFS(shukei!$C:$C,shukei!$B:$B,\"=\"&getsuji!$B18,shukei!$A:$A,TEXT(V$2,\"yyyymm\"))","v":0},{"$f":"SUMIFS(shukei!$C:$C,shukei!$B:$B,\"=\"&getsuji!$B18,shukei!$A:$A,TEXT(W$2,\"yyyymm\"))","v":0},{"$f":"SUMIFS(shukei!$C:$C,shukei!$B:$B,\"=\"&getsuji!$B18,shukei!$A:$A,TEXT(X$2,\"yyyymm\"))","v":0},{"$f":"SUMIFS(shukei!$C:$C,shukei!$B:$B,\"=\"&getsuji!$B18,shukei!$A:$A,TEXT(Y$2,\"yyyymm\"))","v":0},{"$f":"SUMIFS(shukei!$C:$C,shukei!$B:$B,\"=\"&getsuji!$B18,shukei!$A:$A,TEXT(Z$2,\"yyyymm\"))","v":0},{"$f":"SUMIFS(shukei!$C:$C,shukei!$B:$B,\"=\"&getsuji!$B18,shukei!$A:$A,TEXT(AA$2,\"yyyymm\"))","v":0},{"$f":"SUMIFS(shukei!$C:$C,shukei!$B:$B,\"=\"&getsuji!$B18,shukei!$A:$A,TEXT(AB$2,\"yyyymm\"))","v":0},{"$f":"SUMIFS(shukei!$C:$C,shukei!$B:$B,\"=\"&getsuji!$B18,shukei!$A:$A,TEXT(AC$2,\"yyyy\")&\"13\")","v":0},{"$f":"SUMIFS(shukei!$C:$C,shukei!$B:$B,\"=\"&getsuji!$B18,shukei!$A:$A,TEXT(AD$2,\"yyyymm\"))","v":0},{"$f":"SUMIFS(shukei!$C:$C,shukei!$B:$B,\"=\"&getsuji!$B18,shukei!$A:$A,TEXT(AE$2,\"yyyymm\"))","v":0},{"$f":"SUMIFS(shukei!$C:$C,shukei!$B:$B,\"=\"&getsuji!$B18,shukei!$A:$A,TEXT(AF$2,\"yyyymm\"))","v":0},{"$f":"SUMIFS(shukei!$C:$C,shukei!$B:$B,\"=\"&getsuji!$B18,shukei!$A:$A,TEXT(AG$2,\"yyyymm\"))","v":0},{"$f":"SUMIFS(shukei!$C:$C,shukei!$B:$B,\"=\"&getsuji!$B18,shukei!$A:$A,TEXT(AH$2,\"yyyymm\"))","v":0},{"$f":"SUMIFS(shukei!$C:$C,shukei!$B:$B,\"=\"&getsuji!$B18,shukei!$A:$A,TEXT(AI$2,\"yyyymm\"))","v":0},{"$f":"SUMIFS(shukei!$C:$C,shukei!$B:$B,\"=\"&getsuji!$B18,shukei!$A:$A,TEXT(AJ$2,\"yyyymm\"))","v":0},{"$f":"SUMIFS(shukei!$C:$C,shukei!$B:$B,\"=\"&getsuji!$B18,shukei!$A:$A,TEXT(AK$2,\"yyyymm\"))","v":0},{"$f":"SUMIFS(shukei!$C:$C,shukei!$B:$B,\"=\"&getsuji!$B18,shukei!$A:$A,TEXT(AL$2,\"yyyymm\"))","v":0},{"$f":"SUMIFS(shukei!$C:$C,shukei!$B:$B,\"=\"&getsuji!$B18,shukei!$A:$A,TEXT(AM$2,\"yyyymm\"))","v":0},{"$f":"SUMIFS(shukei!$C:$C,shukei!$B:$B,\"=\"&getsuji!$B18,shukei!$A:$A,TEXT(AN$2,\"yyyymm\"))","v":0},{"$f":"SUMIFS(shukei!$C:$C,shukei!$B:$B,\"=\"&getsuji!$B18,shukei!$A:$A,TEXT(AO$2,\"yyyymm\"))","v":0},{"$f":"SUMIFS(shukei!$C:$C,shukei!$B:$B,\"=\"&getsuji!$B18,shukei!$A:$A,TEXT(AP$2,\"yyyy\")&\"13\")","v":0}]
[null,null,null,{"$f":"SUMIFS(shukei!$C:$C,shukei!$B:$B,\"=\"&getsuji!$B19,shukei!$A:$A,TEXT(D$2,\"yyyymm\"))","v":0},{"$f":"SUMIFS(shukei!$C:$C,shukei!$B:$B,\"=\"&getsuji!$B19,shukei!$A:$A,TEXT(E$2,\"yyyymm\"))","v":0},{"$f":"SUMIFS(shukei!$C:$C,shukei!$B:$B,\"=\"&getsuji!$B19,shukei!$A:$A,TEXT(F$2,\"yyyymm\"))","v":0},{"$f":"SUMIFS(shukei!$C:$C,shukei!$B:$B,\"=\"&getsuji!$B19,shukei!$A:$A,TEXT(G$2,\"yyyymm\"))","v":0},{"$f":"SUMIFS(shukei!$C:$C,shukei!$B:$B,\"=\"&getsuji!$B19,shukei!$A:$A,TEXT(H$2,\"yyyymm\"))","v":0},{"$f":"SUMIFS(shukei!$C:$C,shukei!$B:$B,\"=\"&getsuji!$B19,shukei!$A:$A,TEXT(I$2,\"yyyymm\"))","v":0},{"$f":"SUMIFS(shukei!$C:$C,shukei!$B:$B,\"=\"&getsuji!$B19,shukei!$A:$A,TEXT(J$2,\"yyyymm\"))","v":0},{"$f":"SUMIFS(shukei!$C:$C,shukei!$B:$B,\"=\"&getsuji!$B19,shukei!$A:$A,TEXT(K$2,\"yyyymm\"))","v":0},{"$f":"SUMIFS(shukei!$C:$C,shukei!$B:$B,\"=\"&getsuji!$B19,shukei!$A:$A,TEXT(L$2,\"yyyymm\"))","v":0},{"$f":"SUMIFS(shukei!$C:$C,shukei!$B:$B,\"=\"&getsuji!$B19,shukei!$A:$A,TEXT(M$2,\"yyyymm\"))","v":0},{"$f":"SUMIFS(shukei!$C:$C,shukei!$B:$B,\"=\"&getsuji!$B19,shukei!$A:$A,TEXT(N$2,\"yyyymm\"))","v":0},{"$f":"SUMIFS(shukei!$C:$C,shukei!$B:$B,\"=\"&getsuji!$B19,shukei!$A:$A,TEXT(O$2,\"yyyymm\"))","v":0},{"$f":"SUMIFS(shukei!$C:$C,shukei!$B:$B,\"=\"&getsuji!$B19,shukei!$A:$A,TEXT(P$2,\"yyyy\")&\"13\")","v":0},{"$f":"SUMIFS(shukei!$C:$C,shukei!$B:$B,\"=\"&getsuji!$B19,shukei!$A:$A,TEXT(Q$2,\"yyyymm\"))","v":0},{"$f":"SUMIFS(shukei!$C:$C,shukei!$B:$B,\"=\"&getsuji!$B19,shukei!$A:$A,TEXT(R$2,\"yyyymm\"))","v":0},{"$f":"SUMIFS(shukei!$C:$C,shukei!$B:$B,\"=\"&getsuji!$B19,shukei!$A:$A,TEXT(S$2,\"yyyymm\"))","v":0},{"$f":"SUMIFS(shukei!$C:$C,shukei!$B:$B,\"=\"&getsuji!$B19,shukei!$A:$A,TEXT(T$2,\"yyyymm\"))","v":0},{"$f":"SUMIFS(shukei!$C:$C,shukei!$B:$B,\"=\"&getsuji!$B19,shukei!$A:$A,TEXT(U$2,\"yyyymm\"))","v":0},{"$f":"SUMIFS(shukei!$C:$C,shukei!$B:$B,\"=\"&getsuji!$B19,shukei!$A:$A,TEXT(V$2,\"yyyymm\"))","v":0},{"$f":"SUMIFS(shukei!$C:$C,shukei!$B:$B,\"=\"&getsuji!$B19,shukei!$A:$A,TEXT(W$2,\"yyyymm\"))","v":0},{"$f":"SUMIFS(shukei!$C:$C,shukei!$B:$B,\"=\"&getsuji!$B19,shukei!$A:$A,TEXT(X$2,\"yyyymm\"))","v":0},{"$f":"SUMIFS(shukei!$C:$C,shukei!$B:$B,\"=\"&getsuji!$B19,shukei!$A:$A,TEXT(Y$2,\"yyyymm\"))","v":0},{"$f":"SUMIFS(shukei!$C:$C,shukei!$B:$B,\"=\"&getsuji!$B19,shukei!$A:$A,TEXT(Z$2,\"yyyymm\"))","v":0},{"$f":"SUMIFS(shukei!$C:$C,shukei!$B:$B,\"=\"&getsuji!$B19,shukei!$A:$A,TEXT(AA$2,\"yyyymm\"))","v":0},{"$f":"SUMIFS(shukei!$C:$C,shukei!$B:$B,\"=\"&getsuji!$B19,shukei!$A:$A,TEXT(AB$2,\"yyyymm\"))","v":0},{"$f":"SUMIFS(shukei!$C:$C,shukei!$B:$B,\"=\"&getsuji!$B19,shukei!$A:$A,TEXT(AC$2,\"yyyy\")&\"13\")","v":0},{"$f":"SUMIFS(shukei!$C:$C,shukei!$B:$B,\"=\"&getsuji!$B19,shukei!$A:$A,TEXT(AD$2,\"yyyymm\"))","v":0},{"$f":"SUMIFS(shukei!$C:$C,shukei!$B:$B,\"=\"&getsuji!$B19,shukei!$A:$A,TEXT(AE$2,\"yyyymm\"))","v":0},{"$f":"SUMIFS(shukei!$C:$C,shukei!$B:$B,\"=\"&getsuji!$B19,shukei!$A:$A,TEXT(AF$2,\"yyyymm\"))","v":0},{"$f":"SUMIFS(shukei!$C:$C,shukei!$B:$B,\"=\"&getsuji!$B19,shukei!$A:$A,TEXT(AG$2,\"yyyymm\"))","v":0},{"$f":"SUMIFS(shukei!$C:$C,shukei!$B:$B,\"=\"&getsuji!$B19,shukei!$A:$A,TEXT(AH$2,\"yyyymm\"))","v":0},{"$f":"SUMIFS(shukei!$C:$C,shukei!$B:$B,\"=\"&getsuji!$B19,shukei!$A:$A,TEXT(AI$2,\"yyyymm\"))","v":0},{"$f":"SUMIFS(shukei!$C:$C,shukei!$B:$B,\"=\"&getsuji!$B19,shukei!$A:$A,TEXT(AJ$2,\"yyyymm\"))","v":0},{"$f":"SUMIFS(shukei!$C:$C,shukei!$B:$B,\"=\"&getsuji!$B19,shukei!$A:$A,TEXT(AK$2,\"yyyymm\"))","v":0},{"$f":"SUMIFS(shukei!$C:$C,shukei!$B:$B,\"=\"&getsuji!$B19,shukei!$A:$A,TEXT(AL$2,\"yyyymm\"))","v":0},{"$f":"SUMIFS(shukei!$C:$C,shukei!$B:$B,\"=\"&getsuji!$B19,shukei!$A:$A,TEXT(AM$2,\"yyyymm\"))","v":0},{"$f":"SUMIFS(shukei!$C:$C,shukei!$B:$B,\"=\"&getsuji!$B19,shukei!$A:$A,TEXT(AN$2,\"yyyymm\"))","v":0},{"$f":"SUMIFS(shukei!$C:$C,shukei!$B:$B,\"=\"&getsuji!$B19,shukei!$A:$A,TEXT(AO$2,\"yyyymm\"))","v":0},{"$f":"SUMIFS(shukei!$C:$C,shukei!$B:$B,\"=\"&getsuji!$B19,shukei!$A:$A,TEXT(AP$2,\"yyyy\")&\"13\")","v":0}]
[null,null,null,{"$f":"SUMIFS(shukei!$C:$C,shukei!$B:$B,\"=\"&getsuji!$B20,shukei!$A:$A,TEXT(D$2,\"yyyymm\"))","v":0},{"$f":"SUMIFS(shukei!$C:$C,shukei!$B:$B,\"=\"&getsuji!$B20,shukei!$A:$A,TEXT(E$2,\"yyyymm\"))","v":0},{"$f":"SUMIFS(shukei!$C:$C,shukei!$B:$B,\"=\"&getsuji!$B20,shukei!$A:$A,TEXT(F$2,\"yyyymm\"))","v":0},{"$f":"SUMIFS(shukei!$C:$C,shukei!$B:$B,\"=\"&getsuji!$B20,shukei!$A:$A,TEXT(G$2,\"yyyymm\"))","v":0},{"$f":"SUMIFS(shukei!$C:$C,shukei!$B:$B,\"=\"&getsuji!$B20,shukei!$A:$A,TEXT(H$2,\"yyyymm\"))","v":0},{"$f":"SUMIFS(shukei!$C:$C,shukei!$B:$B,\"=\"&getsuji!$B20,shukei!$A:$A,TEXT(I$2,\"yyyymm\"))","v":0},{"$f":"SUMIFS(shukei!$C:$C,shukei!$B:$B,\"=\"&getsuji!$B20,shukei!$A:$A,TEXT(J$2,\"yyyymm\"))","v":0},{"$f":"SUMIFS(shukei!$C:$C,shukei!$B:$B,\"=\"&getsuji!$B20,shukei!$A:$A,TEXT(K$2,\"yyyymm\"))","v":0},{"$f":"SUMIFS(shukei!$C:$C,shukei!$B:$B,\"=\"&getsuji!$B20,shukei!$A:$A,TEXT(L$2,\"yyyymm\"))","v":0},{"$f":"SUMIFS(shukei!$C:$C,shukei!$B:$B,\"=\"&getsuji!$B20,shukei!$A:$A,TEXT(M$2,\"yyyymm\"))","v":0},{"$f":"SUMIFS(shukei!$C:$C,shukei!$B:$B,\"=\"&getsuji!$B20,shukei!$A:$A,TEXT(N$2,\"yyyymm\"))","v":0},{"$f":"SUMIFS(shukei!$C:$C,shukei!$B:$B,\"=\"&getsuji!$B20,shukei!$A:$A,TEXT(O$2,\"yyyymm\"))","v":0},{"$f":"SUMIFS(shukei!$C:$C,shukei!$B:$B,\"=\"&getsuji!$B20,shukei!$A:$A,TEXT(P$2,\"yyyy\")&\"13\")","v":0},{"$f":"SUMIFS(shukei!$C:$C,shukei!$B:$B,\"=\"&getsuji!$B20,shukei!$A:$A,TEXT(Q$2,\"yyyymm\"))","v":0},{"$f":"SUMIFS(shukei!$C:$C,shukei!$B:$B,\"=\"&getsuji!$B20,shukei!$A:$A,TEXT(R$2,\"yyyymm\"))","v":0},{"$f":"SUMIFS(shukei!$C:$C,shukei!$B:$B,\"=\"&getsuji!$B20,shukei!$A:$A,TEXT(S$2,\"yyyymm\"))","v":0},{"$f":"SUMIFS(shukei!$C:$C,shukei!$B:$B,\"=\"&getsuji!$B20,shukei!$A:$A,TEXT(T$2,\"yyyymm\"))","v":0},{"$f":"SUMIFS(shukei!$C:$C,shukei!$B:$B,\"=\"&getsuji!$B20,shukei!$A:$A,TEXT(U$2,\"yyyymm\"))","v":0},{"$f":"SUMIFS(shukei!$C:$C,shukei!$B:$B,\"=\"&getsuji!$B20,shukei!$A:$A,TEXT(V$2,\"yyyymm\"))","v":0},{"$f":"SUMIFS(shukei!$C:$C,shukei!$B:$B,\"=\"&getsuji!$B20,shukei!$A:$A,TEXT(W$2,\"yyyymm\"))","v":0},{"$f":"SUMIFS(shukei!$C:$C,shukei!$B:$B,\"=\"&getsuji!$B20,shukei!$A:$A,TEXT(X$2,\"yyyymm\"))","v":0},{"$f":"SUMIFS(shukei!$C:$C,shukei!$B:$B,\"=\"&getsuji!$B20,shukei!$A:$A,TEXT(Y$2,\"yyyymm\"))","v":0},{"$f":"SUMIFS(shukei!$C:$C,shukei!$B:$B,\"=\"&getsuji!$B20,shukei!$A:$A,TEXT(Z$2,\"yyyymm\"))","v":0},{"$f":"SUMIFS(shukei!$C:$C,shukei!$B:$B,\"=\"&getsuji!$B20,shukei!$A:$A,TEXT(AA$2,\"yyyymm\"))","v":0},{"$f":"SUMIFS(shukei!$C:$C,shukei!$B:$B,\"=\"&getsuji!$B20,shukei!$A:$A,TEXT(AB$2,\"yyyymm\"))","v":0},{"$f":"SUMIFS(shukei!$C:$C,shukei!$B:$B,\"=\"&getsuji!$B20,shukei!$A:$A,TEXT(AC$2,\"yyyy\")&\"13\")","v":0},{"$f":"SUMIFS(shukei!$C:$C,shukei!$B:$B,\"=\"&getsuji!$B20,shukei!$A:$A,TEXT(AD$2,\"yyyymm\"))","v":0},{"$f":"SUMIFS(shukei!$C:$C,shukei!$B:$B,\"=\"&getsuji!$B20,shukei!$A:$A,TEXT(AE$2,\"yyyymm\"))","v":0},{"$f":"SUMIFS(shukei!$C:$C,shukei!$B:$B,\"=\"&getsuji!$B20,shukei!$A:$A,TEXT(AF$2,\"yyyymm\"))","v":0},{"$f":"SUMIFS(shukei!$C:$C,shukei!$B:$B,\"=\"&getsuji!$B20,shukei!$A:$A,TEXT(AG$2,\"yyyymm\"))","v":0},{"$f":"SUMIFS(shukei!$C:$C,shukei!$B:$B,\"=\"&getsuji!$B20,shukei!$A:$A,TEXT(AH$2,\"yyyymm\"))","v":0},{"$f":"SUMIFS(shukei!$C:$C,shukei!$B:$B,\"=\"&getsuji!$B20,shukei!$A:$A,TEXT(AI$2,\"yyyymm\"))","v":0},{"$f":"SUMIFS(shukei!$C:$C,shukei!$B:$B,\"=\"&getsuji!$B20,shukei!$A:$A,TEXT(AJ$2,\"yyyymm\"))","v":0},{"$f":"SUMIFS(shukei!$C:$C,shukei!$B:$B,\"=\"&getsuji!$B20,shukei!$A:$A,TEXT(AK$2,\"yyyymm\"))","v":0},{"$f":"SUMIFS(shukei!$C:$C,shukei!$B:$B,\"=\"&getsuji!$B20,shukei!$A:$A,TEXT(AL$2,\"yyyymm\"))","v":0},{"$f":"SUMIFS(shukei!$C:$C,shukei!$B:$B,\"=\"&getsuji!$B20,shukei!$A:$A,TEXT(AM$2,\"yyyymm\"))","v":0},{"$f":"SUMIFS(shukei!$C:$C,shukei!$B:$B,\"=\"&getsuji!$B20,shukei!$A:$A,TEXT(AN$2,\"yyyymm\"))","v":0},{"$f":"SUMIFS(shukei!$C:$C,shukei!$B:$B,\"=\"&getsuji!$B20,shukei!$A:$A,TEXT(AO$2,\"yyyymm\"))","v":0},{"$f":"SUMIFS(shukei!$C:$C,shukei!$B:$B,\"=\"&getsuji!$B20,shukei!$A:$A,TEXT(AP$2,\"yyyy\")&\"13\")","v":0}]
[null,null,null,{"$f":"SUMIFS(shukei!$C:$C,shukei!$B:$B,\"=\"&getsuji!$B21,shukei!$A:$A,TEXT(D$2,\"yyyymm\"))","v":0},{"$f":"SUMIFS(shukei!$C:$C,shukei!$B:$B,\"=\"&getsuji!$B21,shukei!$A:$A,TEXT(E$2,\"yyyymm\"))","v":0},{"$f":"SUMIFS(shukei!$C:$C,shukei!$B:$B,\"=\"&getsuji!$B21,shukei!$A:$A,TEXT(F$2,\"yyyymm\"))","v":0},{"$f":"SUMIFS(shukei!$C:$C,shukei!$B:$B,\"=\"&getsuji!$B21,shukei!$A:$A,TEXT(G$2,\"yyyymm\"))","v":0},{"$f":"SUMIFS(shukei!$C:$C,shukei!$B:$B,\"=\"&getsuji!$B21,shukei!$A:$A,TEXT(H$2,\"yyyymm\"))","v":0},{"$f":"SUMIFS(shukei!$C:$C,shukei!$B:$B,\"=\"&getsuji!$B21,shukei!$A:$A,TEXT(I$2,\"yyyymm\"))","v":0},{"$f":"SUMIFS(shukei!$C:$C,shukei!$B:$B,\"=\"&getsuji!$B21,shukei!$A:$A,TEXT(J$2,\"yyyymm\"))","v":0},{"$f":"SUMIFS(shukei!$C:$C,shukei!$B:$B,\"=\"&getsuji!$B21,shukei!$A:$A,TEXT(K$2,\"yyyymm\"))","v":0},{"$f":"SUMIFS(shukei!$C:$C,shukei!$B:$B,\"=\"&getsuji!$B21,shukei!$A:$A,TEXT(L$2,\"yyyymm\"))","v":0},{"$f":"SUMIFS(shukei!$C:$C,shukei!$B:$B,\"=\"&getsuji!$B21,shukei!$A:$A,TEXT(M$2,\"yyyymm\"))","v":0},{"$f":"SUMIFS(shukei!$C:$C,shukei!$B:$B,\"=\"&getsuji!$B21,shukei!$A:$A,TEXT(N$2,\"yyyymm\"))","v":0},{"$f":"SUMIFS(shukei!$C:$C,shukei!$B:$B,\"=\"&getsuji!$B21,shukei!$A:$A,TEXT(O$2,\"yyyymm\"))","v":0},{"$f":"SUMIFS(shukei!$C:$C,shukei!$B:$B,\"=\"&getsuji!$B21,shukei!$A:$A,TEXT(P$2,\"yyyy\")&\"13\")","v":0},{"$f":"SUMIFS(shukei!$C:$C,shukei!$B:$B,\"=\"&getsuji!$B21,shukei!$A:$A,TEXT(Q$2,\"yyyymm\"))","v":0},{"$f":"SUMIFS(shukei!$C:$C,shukei!$B:$B,\"=\"&getsuji!$B21,shukei!$A:$A,TEXT(R$2,\"yyyymm\"))","v":0},{"$f":"SUMIFS(shukei!$C:$C,shukei!$B:$B,\"=\"&getsuji!$B21,shukei!$A:$A,TEXT(S$2,\"yyyymm\"))","v":0},{"$f":"SUMIFS(shukei!$C:$C,shukei!$B:$B,\"=\"&getsuji!$B21,shukei!$A:$A,TEXT(T$2,\"yyyymm\"))","v":0},{"$f":"SUMIFS(shukei!$C:$C,shukei!$B:$B,\"=\"&getsuji!$B21,shukei!$A:$A,TEXT(U$2,\"yyyymm\"))","v":0},{"$f":"SUMIFS(shukei!$C:$C,shukei!$B:$B,\"=\"&getsuji!$B21,shukei!$A:$A,TEXT(V$2,\"yyyymm\"))","v":0},{"$f":"SUMIFS(shukei!$C:$C,shukei!$B:$B,\"=\"&getsuji!$B21,shukei!$A:$A,TEXT(W$2,\"yyyymm\"))","v":0},{"$f":"SUMIFS(shukei!$C:$C,shukei!$B:$B,\"=\"&getsuji!$B21,shukei!$A:$A,TEXT(X$2,\"yyyymm\"))","v":0},{"$f":"SUMIFS(shukei!$C:$C,shukei!$B:$B,\"=\"&getsuji!$B21,shukei!$A:$A,TEXT(Y$2,\"yyyymm\"))","v":0},{"$f":"SUMIFS(shukei!$C:$C,shukei!$B:$B,\"=\"&getsuji!$B21,shukei!$A:$A,TEXT(Z$2,\"yyyymm\"))","v":0},{"$f":"SUMIFS(shukei!$C:$C,shukei!$B:$B,\"=\"&getsuji!$B21,shukei!$A:$A,TEXT(AA$2,\"yyyymm\"))","v":0},{"$f":"SUMIFS(shukei!$C:$C,shukei!$B:$B,\"=\"&getsuji!$B21,shukei!$A:$A,TEXT(AB$2,\"yyyymm\"))","v":0},{"$f":"SUMIFS(shukei!$C:$C,shukei!$B:$B,\"=\"&getsuji!$B21,shukei!$A:$A,TEXT(AC$2,\"yyyy\")&\"13\")","v":0},{"$f":"SUMIFS(shukei!$C:$C,shukei!$B:$B,\"=\"&getsuji!$B21,shukei!$A:$A,TEXT(AD$2,\"yyyymm\"))","v":0},{"$f":"SUMIFS(shukei!$C:$C,shukei!$B:$B,\"=\"&getsuji!$B21,shukei!$A:$A,TEXT(AE$2,\"yyyymm\"))","v":0},{"$f":"SUMIFS(shukei!$C:$C,shukei!$B:$B,\"=\"&getsuji!$B21,shukei!$A:$A,TEXT(AF$2,\"yyyymm\"))","v":0},{"$f":"SUMIFS(shukei!$C:$C,shukei!$B:$B,\"=\"&getsuji!$B21,shukei!$A:$A,TEXT(AG$2,\"yyyymm\"))","v":0},{"$f":"SUMIFS(shukei!$C:$C,shukei!$B:$B,\"=\"&getsuji!$B21,shukei!$A:$A,TEXT(AH$2,\"yyyymm\"))","v":0},{"$f":"SUMIFS(shukei!$C:$C,shukei!$B:$B,\"=\"&getsuji!$B21,shukei!$A:$A,TEXT(AI$2,\"yyyymm\"))","v":0},{"$f":"SUMIFS(shukei!$C:$C,shukei!$B:$B,\"=\"&getsuji!$B21,shukei!$A:$A,TEXT(AJ$2,\"yyyymm\"))","v":0},{"$f":"SUMIFS(shukei!$C:$C,shukei!$B:$B,\"=\"&getsuji!$B21,shukei!$A:$A,TEXT(AK$2,\"yyyymm\"))","v":0},{"$f":"SUMIFS(shukei!$C:$C,shukei!$B:$B,\"=\"&getsuji!$B21,shukei!$A:$A,TEXT(AL$2,\"yyyymm\"))","v":0},{"$f":"SUMIFS(shukei!$C:$C,shukei!$B:$B,\"=\"&getsuji!$B21,shukei!$A:$A,TEXT(AM$2,\"yyyymm\"))","v":0},{"$f":"SUMIFS(shukei!$C:$C,shukei!$B:$B,\"=\"&getsuji!$B21,shukei!$A:$A,TEXT(AN$2,\"yyyymm\"))","v":0},{"$f":"SUMIFS(shukei!$C:$C,shukei!$B:$B,\"=\"&getsuji!$B21,shukei!$A:$A,TEXT(AO$2,\"yyyymm\"))","v":0},{"$f":"SUMIFS(shukei!$C:$C,shukei!$B:$B,\"=\"&getsuji!$B21,shukei!$A:$A,TEXT(AP$2,\"yyyy\")&\"13\")","v":0}]
[null,null,null,{"$f":"SUMIFS(shukei!$C:$C,shukei!$B:$B,\"=\"&getsuji!$B22,shukei!$A:$A,TEXT(D$2,\"yyyymm\"))","v":0},{"$f":"SUMIFS(shukei!$C:$C,shukei!$B:$B,\"=\"&getsuji!$B22,shukei!$A:$A,TEXT(E$2,\"yyyymm\"))","v":0},{"$f":"SUMIFS(shukei!$C:$C,shukei!$B:$B,\"=\"&getsuji!$B22,shukei!$A:$A,TEXT(F$2,\"yyyymm\"))","v":0},{"$f":"SUMIFS(shukei!$C:$C,shukei!$B:$B,\"=\"&getsuji!$B22,shukei!$A:$A,TEXT(G$2,\"yyyymm\"))","v":0},{"$f":"SUMIFS(shukei!$C:$C,shukei!$B:$B,\"=\"&getsuji!$B22,shukei!$A:$A,TEXT(H$2,\"yyyymm\"))","v":0},{"$f":"SUMIFS(shukei!$C:$C,shukei!$B:$B,\"=\"&getsuji!$B22,shukei!$A:$A,TEXT(I$2,\"yyyymm\"))","v":0},{"$f":"SUMIFS(shukei!$C:$C,shukei!$B:$B,\"=\"&getsuji!$B22,shukei!$A:$A,TEXT(J$2,\"yyyymm\"))","v":0},{"$f":"SUMIFS(shukei!$C:$C,shukei!$B:$B,\"=\"&getsuji!$B22,shukei!$A:$A,TEXT(K$2,\"yyyymm\"))","v":0},{"$f":"SUMIFS(shukei!$C:$C,shukei!$B:$B,\"=\"&getsuji!$B22,shukei!$A:$A,TEXT(L$2,\"yyyymm\"))","v":0},{"$f":"SUMIFS(shukei!$C:$C,shukei!$B:$B,\"=\"&getsuji!$B22,shukei!$A:$A,TEXT(M$2,\"yyyymm\"))","v":0},{"$f":"SUMIFS(shukei!$C:$C,shukei!$B:$B,\"=\"&getsuji!$B22,shukei!$A:$A,TEXT(N$2,\"yyyymm\"))","v":0},{"$f":"SUMIFS(shukei!$C:$C,shukei!$B:$B,\"=\"&getsuji!$B22,shukei!$A:$A,TEXT(O$2,\"yyyymm\"))","v":0},{"$f":"SUMIFS(shukei!$C:$C,shukei!$B:$B,\"=\"&getsuji!$B22,shukei!$A:$A,TEXT(P$2,\"yyyy\")&\"13\")","v":0},{"$f":"SUMIFS(shukei!$C:$C,shukei!$B:$B,\"=\"&getsuji!$B22,shukei!$A:$A,TEXT(Q$2,\"yyyymm\"))","v":0},{"$f":"SUMIFS(shukei!$C:$C,shukei!$B:$B,\"=\"&getsuji!$B22,shukei!$A:$A,TEXT(R$2,\"yyyymm\"))","v":0},{"$f":"SUMIFS(shukei!$C:$C,shukei!$B:$B,\"=\"&getsuji!$B22,shukei!$A:$A,TEXT(S$2,\"yyyymm\"))","v":0},{"$f":"SUMIFS(shukei!$C:$C,shukei!$B:$B,\"=\"&getsuji!$B22,shukei!$A:$A,TEXT(T$2,\"yyyymm\"))","v":0},{"$f":"SUMIFS(shukei!$C:$C,shukei!$B:$B,\"=\"&getsuji!$B22,shukei!$A:$A,TEXT(U$2,\"yyyymm\"))","v":0},{"$f":"SUMIFS(shukei!$C:$C,shukei!$B:$B,\"=\"&getsuji!$B22,shukei!$A:$A,TEXT(V$2,\"yyyymm\"))","v":0},{"$f":"SUMIFS(shukei!$C:$C,shukei!$B:$B,\"=\"&getsuji!$B22,shukei!$A:$A,TEXT(W$2,\"yyyymm\"))","v":0},{"$f":"SUMIFS(shukei!$C:$C,shukei!$B:$B,\"=\"&getsuji!$B22,shukei!$A:$A,TEXT(X$2,\"yyyymm\"))","v":0},{"$f":"SUMIFS(shukei!$C:$C,shukei!$B:$B,\"=\"&getsuji!$B22,shukei!$A:$A,TEXT(Y$2,\"yyyymm\"))","v":0},{"$f":"SUMIFS(shukei!$C:$C,shukei!$B:$B,\"=\"&getsuji!$B22,shukei!$A:$A,TEXT(Z$2,\"yyyymm\"))","v":0},{"$f":"SUMIFS(shukei!$C:$C,shukei!$B:$B,\"=\"&getsuji!$B22,shukei!$A:$A,TEXT(AA$2,\"yyyymm\"))","v":0},{"$f":"SUMIFS(shukei!$C:$C,shukei!$B:$B,\"=\"&getsuji!$B22,shukei!$A:$A,TEXT(AB$2,\"yyyymm\"))","v":0},{"$f":"SUMIFS(shukei!$C:$C,shukei!$B:$B,\"=\"&getsuji!$B22,shukei!$A:$A,TEXT(AC$2,\"yyyy\")&\"13\")","v":0},{"$f":"SUMIFS(shukei!$C:$C,shukei!$B:$B,\"=\"&getsuji!$B22,shukei!$A:$A,TEXT(AD$2,\"yyyymm\"))","v":0},{"$f":"SUMIFS(shukei!$C:$C,shukei!$B:$B,\"=\"&getsuji!$B22,shukei!$A:$A,TEXT(AE$2,\"yyyymm\"))","v":0},{"$f":"SUMIFS(shukei!$C:$C,shukei!$B:$B,\"=\"&getsuji!$B22,shukei!$A:$A,TEXT(AF$2,\"yyyymm\"))","v":0},{"$f":"SUMIFS(shukei!$C:$C,shukei!$B:$B,\"=\"&getsuji!$B22,shukei!$A:$A,TEXT(AG$2,\"yyyymm\"))","v":0},{"$f":"SUMIFS(shukei!$C:$C,shukei!$B:$B,\"=\"&getsuji!$B22,shukei!$A:$A,TEXT(AH$2,\"yyyymm\"))","v":0},{"$f":"SUMIFS(shukei!$C:$C,shukei!$B:$B,\"=\"&getsuji!$B22,shukei!$A:$A,TEXT(AI$2,\"yyyymm\"))","v":0},{"$f":"SUMIFS(shukei!$C:$C,shukei!$B:$B,\"=\"&getsuji!$B22,shukei!$A:$A,TEXT(AJ$2,\"yyyymm\"))","v":0},{"$f":"SUMIFS(shukei!$C:$C,shukei!$B:$B,\"=\"&getsuji!$B22,shukei!$A:$A,TEXT(AK$2,\"yyyymm\"))","v":0},{"$f":"SUMIFS(shukei!$C:$C,shukei!$B:$B,\"=\"&getsuji!$B22,shukei!$A:$A,TEXT(AL$2,\"yyyymm\"))","v":0},{"$f":"SUMIFS(shukei!$C:$C,shukei!$B:$B,\"=\"&getsuji!$B22,shukei!$A:$A,TEXT(AM$2,\"yyyymm\"))","v":0},{"$f":"SUMIFS(shukei!$C:$C,shukei!$B:$B,\"=\"&getsuji!$B22,shukei!$A:$A,TEXT(AN$2,\"yyyymm\"))","v":0},{"$f":"SUMIFS(shukei!$C:$C,shukei!$B:$B,\"=\"&getsuji!$B22,shukei!$A:$A,TEXT(AO$2,\"yyyymm\"))","v":0},{"$f":"SUMIFS(shukei!$C:$C,shukei!$B:$B,\"=\"&getsuji!$B22,shukei!$A:$A,TEXT(AP$2,\"yyyy\")&\"13\")","v":0}]
[null,null,null,{"$f":"SUMIFS(shukei!$C:$C,shukei!$B:$B,\"=\"&getsuji!$B23,shukei!$A:$A,TEXT(D$2,\"yyyymm\"))","v":0},{"$f":"SUMIFS(shukei!$C:$C,shukei!$B:$B,\"=\"&getsuji!$B23,shukei!$A:$A,TEXT(E$2,\"yyyymm\"))","v":0},{"$f":"SUMIFS(shukei!$C:$C,shukei!$B:$B,\"=\"&getsuji!$B23,shukei!$A:$A,TEXT(F$2,\"yyyymm\"))","v":0},{"$f":"SUMIFS(shukei!$C:$C,shukei!$B:$B,\"=\"&getsuji!$B23,shukei!$A:$A,TEXT(G$2,\"yyyymm\"))","v":0},{"$f":"SUMIFS(shukei!$C:$C,shukei!$B:$B,\"=\"&getsuji!$B23,shukei!$A:$A,TEXT(H$2,\"yyyymm\"))","v":0},{"$f":"SUMIFS(shukei!$C:$C,shukei!$B:$B,\"=\"&getsuji!$B23,shukei!$A:$A,TEXT(I$2,\"yyyymm\"))","v":0},{"$f":"SUMIFS(shukei!$C:$C,shukei!$B:$B,\"=\"&getsuji!$B23,shukei!$A:$A,TEXT(J$2,\"yyyymm\"))","v":0},{"$f":"SUMIFS(shukei!$C:$C,shukei!$B:$B,\"=\"&getsuji!$B23,shukei!$A:$A,TEXT(K$2,\"yyyymm\"))","v":0},{"$f":"SUMIFS(shukei!$C:$C,shukei!$B:$B,\"=\"&getsuji!$B23,shukei!$A:$A,TEXT(L$2,\"yyyymm\"))","v":0},{"$f":"SUMIFS(shukei!$C:$C,shukei!$B:$B,\"=\"&getsuji!$B23,shukei!$A:$A,TEXT(M$2,\"yyyymm\"))","v":0},{"$f":"SUMIFS(shukei!$C:$C,shukei!$B:$B,\"=\"&getsuji!$B23,shukei!$A:$A,TEXT(N$2,\"yyyymm\"))","v":0},{"$f":"SUMIFS(shukei!$C:$C,shukei!$B:$B,\"=\"&getsuji!$B23,shukei!$A:$A,TEXT(O$2,\"yyyymm\"))","v":0},{"$f":"SUMIFS(shukei!$C:$C,shukei!$B:$B,\"=\"&getsuji!$B23,shukei!$A:$A,TEXT(P$2,\"yyyy\")&\"13\")","v":0},{"$f":"SUMIFS(shukei!$C:$C,shukei!$B:$B,\"=\"&getsuji!$B23,shukei!$A:$A,TEXT(Q$2,\"yyyymm\"))","v":0},{"$f":"SUMIFS(shukei!$C:$C,shukei!$B:$B,\"=\"&getsuji!$B23,shukei!$A:$A,TEXT(R$2,\"yyyymm\"))","v":0},{"$f":"SUMIFS(shukei!$C:$C,shukei!$B:$B,\"=\"&getsuji!$B23,shukei!$A:$A,TEXT(S$2,\"yyyymm\"))","v":0},{"$f":"SUMIFS(shukei!$C:$C,shukei!$B:$B,\"=\"&getsuji!$B23,shukei!$A:$A,TEXT(T$2,\"yyyymm\"))","v":0},{"$f":"SUMIFS(shukei!$C:$C,shukei!$B:$B,\"=\"&getsuji!$B23,shukei!$A:$A,TEXT(U$2,\"yyyymm\"))","v":0},{"$f":"SUMIFS(shukei!$C:$C,shukei!$B:$B,\"=\"&getsuji!$B23,shukei!$A:$A,TEXT(V$2,\"yyyymm\"))","v":0},{"$f":"SUMIFS(shukei!$C:$C,shukei!$B:$B,\"=\"&getsuji!$B23,shukei!$A:$A,TEXT(W$2,\"yyyymm\"))","v":0},{"$f":"SUMIFS(shukei!$C:$C,shukei!$B:$B,\"=\"&getsuji!$B23,shukei!$A:$A,TEXT(X$2,\"yyyymm\"))","v":0},{"$f":"SUMIFS(shukei!$C:$C,shukei!$B:$B,\"=\"&getsuji!$B23,shukei!$A:$A,TEXT(Y$2,\"yyyymm\"))","v":0},{"$f":"SUMIFS(shukei!$C:$C,shukei!$B:$B,\"=\"&getsuji!$B23,shukei!$A:$A,TEXT(Z$2,\"yyyymm\"))","v":0},{"$f":"SUMIFS(shukei!$C:$C,shukei!$B:$B,\"=\"&getsuji!$B23,shukei!$A:$A,TEXT(AA$2,\"yyyymm\"))","v":0},{"$f":"SUMIFS(shukei!$C:$C,shukei!$B:$B,\"=\"&getsuji!$B23,shukei!$A:$A,TEXT(AB$2,\"yyyymm\"))","v":0},{"$f":"SUMIFS(shukei!$C:$C,shukei!$B:$B,\"=\"&getsuji!$B23,shukei!$A:$A,TEXT(AC$2,\"yyyy\")&\"13\")","v":0},{"$f":"SUMIFS(shukei!$C:$C,shukei!$B:$B,\"=\"&getsuji!$B23,shukei!$A:$A,TEXT(AD$2,\"yyyymm\"))","v":0},{"$f":"SUMIFS(shukei!$C:$C,shukei!$B:$B,\"=\"&getsuji!$B23,shukei!$A:$A,TEXT(AE$2,\"yyyymm\"))","v":0},{"$f":"SUMIFS(shukei!$C:$C,shukei!$B:$B,\"=\"&getsuji!$B23,shukei!$A:$A,TEXT(AF$2,\"yyyymm\"))","v":0},{"$f":"SUMIFS(shukei!$C:$C,shukei!$B:$B,\"=\"&getsuji!$B23,shukei!$A:$A,TEXT(AG$2,\"yyyymm\"))","v":0},{"$f":"SUMIFS(shukei!$C:$C,shukei!$B:$B,\"=\"&getsuji!$B23,shukei!$A:$A,TEXT(AH$2,\"yyyymm\"))","v":0},{"$f":"SUMIFS(shukei!$C:$C,shukei!$B:$B,\"=\"&getsuji!$B23,shukei!$A:$A,TEXT(AI$2,\"yyyymm\"))","v":0},{"$f":"SUMIFS(shukei!$C:$C,shukei!$B:$B,\"=\"&getsuji!$B23,shukei!$A:$A,TEXT(AJ$2,\"yyyymm\"))","v":0},{"$f":"SUMIFS(shukei!$C:$C,shukei!$B:$B,\"=\"&getsuji!$B23,shukei!$A:$A,TEXT(AK$2,\"yyyymm\"))","v":0},{"$f":"SUMIFS(shukei!$C:$C,shukei!$B:$B,\"=\"&getsuji!$B23,shukei!$A:$A,TEXT(AL$2,\"yyyymm\"))","v":0},{"$f":"SUMIFS(shukei!$C:$C,shukei!$B:$B,\"=\"&getsuji!$B23,shukei!$A:$A,TEXT(AM$2,\"yyyymm\"))","v":0},{"$f":"SUMIFS(shukei!$C:$C,shukei!$B:$B,\"=\"&getsuji!$B23,shukei!$A:$A,TEXT(AN$2,\"yyyymm\"))","v":0},{"$f":"SUMIFS(shukei!$C:$C,shukei!$B:$B,\"=\"&getsuji!$B23,shukei!$A:$A,TEXT(AO$2,\"yyyymm\"))","v":0},{"$f":"SUMIFS(shukei!$C:$C,shukei!$B:$B,\"=\"&getsuji!$B23,shukei!$A:$A,TEXT(AP$2,\"yyyy\")&\"13\")","v":0}]
[null,null,null,{"$f":"SUMIFS(shukei!$C:$C,shukei!$B:$B,\"=\"&getsuji!$B24,shukei!$A:$A,TEXT(D$2,\"yyyymm\"))","v":0},{"$f":"SUMIFS(shukei!$C:$C,shukei!$B:$B,\"=\"&getsuji!$B24,shukei!$A:$A,TEXT(E$2,\"yyyymm\"))","v":0},{"$f":"SUMIFS(shukei!$C:$C,shukei!$B:$B,\"=\"&getsuji!$B24,shukei!$A:$A,TEXT(F$2,\"yyyymm\"))","v":0},{"$f":"SUMIFS(shukei!$C:$C,shukei!$B:$B,\"=\"&getsuji!$B24,shukei!$A:$A,TEXT(G$2,\"yyyymm\"))","v":0},{"$f":"SUMIFS(shukei!$C:$C,shukei!$B:$B,\"=\"&getsuji!$B24,shukei!$A:$A,TEXT(H$2,\"yyyymm\"))","v":0},{"$f":"SUMIFS(shukei!$C:$C,shukei!$B:$B,\"=\"&getsuji!$B24,shukei!$A:$A,TEXT(I$2,\"yyyymm\"))","v":0},{"$f":"SUMIFS(shukei!$C:$C,shukei!$B:$B,\"=\"&getsuji!$B24,shukei!$A:$A,TEXT(J$2,\"yyyymm\"))","v":0},{"$f":"SUMIFS(shukei!$C:$C,shukei!$B:$B,\"=\"&getsuji!$B24,shukei!$A:$A,TEXT(K$2,\"yyyymm\"))","v":0},{"$f":"SUMIFS(shukei!$C:$C,shukei!$B:$B,\"=\"&getsuji!$B24,shukei!$A:$A,TEXT(L$2,\"yyyymm\"))","v":0},{"$f":"SUMIFS(shukei!$C:$C,shukei!$B:$B,\"=\"&getsuji!$B24,shukei!$A:$A,TEXT(M$2,\"yyyymm\"))","v":0},{"$f":"SUMIFS(shukei!$C:$C,shukei!$B:$B,\"=\"&getsuji!$B24,shukei!$A:$A,TEXT(N$2,\"yyyymm\"))","v":0},{"$f":"SUMIFS(shukei!$C:$C,shukei!$B:$B,\"=\"&getsuji!$B24,shukei!$A:$A,TEXT(O$2,\"yyyymm\"))","v":0},{"$f":"SUMIFS(shukei!$C:$C,shukei!$B:$B,\"=\"&getsuji!$B24,shukei!$A:$A,TEXT(P$2,\"yyyy\")&\"13\")","v":0},{"$f":"SUMIFS(shukei!$C:$C,shukei!$B:$B,\"=\"&getsuji!$B24,shukei!$A:$A,TEXT(Q$2,\"yyyymm\"))","v":0},{"$f":"SUMIFS(shukei!$C:$C,shukei!$B:$B,\"=\"&getsuji!$B24,shukei!$A:$A,TEXT(R$2,\"yyyymm\"))","v":0},{"$f":"SUMIFS(shukei!$C:$C,shukei!$B:$B,\"=\"&getsuji!$B24,shukei!$A:$A,TEXT(S$2,\"yyyymm\"))","v":0},{"$f":"SUMIFS(shukei!$C:$C,shukei!$B:$B,\"=\"&getsuji!$B24,shukei!$A:$A,TEXT(T$2,\"yyyymm\"))","v":0},{"$f":"SUMIFS(shukei!$C:$C,shukei!$B:$B,\"=\"&getsuji!$B24,shukei!$A:$A,TEXT(U$2,\"yyyymm\"))","v":0},{"$f":"SUMIFS(shukei!$C:$C,shukei!$B:$B,\"=\"&getsuji!$B24,shukei!$A:$A,TEXT(V$2,\"yyyymm\"))","v":0},{"$f":"SUMIFS(shukei!$C:$C,shukei!$B:$B,\"=\"&getsuji!$B24,shukei!$A:$A,TEXT(W$2,\"yyyymm\"))","v":0},{"$f":"SUMIFS(shukei!$C:$C,shukei!$B:$B,\"=\"&getsuji!$B24,shukei!$A:$A,TEXT(X$2,\"yyyymm\"))","v":0},{"$f":"SUMIFS(shukei!$C:$C,shukei!$B:$B,\"=\"&getsuji!$B24,shukei!$A:$A,TEXT(Y$2,\"yyyymm\"))","v":0},{"$f":"SUMIFS(shukei!$C:$C,shukei!$B:$B,\"=\"&getsuji!$B24,shukei!$A:$A,TEXT(Z$2,\"yyyymm\"))","v":0},{"$f":"SUMIFS(shukei!$C:$C,shukei!$B:$B,\"=\"&getsuji!$B24,shukei!$A:$A,TEXT(AA$2,\"yyyymm\"))","v":0},{"$f":"SUMIFS(shukei!$C:$C,shukei!$B:$B,\"=\"&getsuji!$B24,shukei!$A:$A,TEXT(AB$2,\"yyyymm\"))","v":0},{"$f":"SUMIFS(shukei!$C:$C,shukei!$B:$B,\"=\"&getsuji!$B24,shukei!$A:$A,TEXT(AC$2,\"yyyy\")&\"13\")","v":0},{"$f":"SUMIFS(shukei!$C:$C,shukei!$B:$B,\"=\"&getsuji!$B24,shukei!$A:$A,TEXT(AD$2,\"yyyymm\"))","v":0},{"$f":"SUMIFS(shukei!$C:$C,shukei!$B:$B,\"=\"&getsuji!$B24,shukei!$A:$A,TEXT(AE$2,\"yyyymm\"))","v":0},{"$f":"SUMIFS(shukei!$C:$C,shukei!$B:$B,\"=\"&getsuji!$B24,shukei!$A:$A,TEXT(AF$2,\"yyyymm\"))","v":0},{"$f":"SUMIFS(shukei!$C:$C,shukei!$B:$B,\"=\"&getsuji!$B24,shukei!$A:$A,TEXT(AG$2,\"yyyymm\"))","v":0},{"$f":"SUMIFS(shukei!$C:$C,shukei!$B:$B,\"=\"&getsuji!$B24,shukei!$A:$A,TEXT(AH$2,\"yyyymm\"))","v":0},{"$f":"SUMIFS(shukei!$C:$C,shukei!$B:$B,\"=\"&getsuji!$B24,shukei!$A:$A,TEXT(AI$2,\"yyyymm\"))","v":0},{"$f":"SUMIFS(shukei!$C:$C,shukei!$B:$B,\"=\"&getsuji!$B24,shukei!$A:$A,TEXT(AJ$2,\"yyyymm\"))","v":0},{"$f":"SUMIFS(shukei!$C:$C,shukei!$B:$B,\"=\"&getsuji!$B24,shukei!$A:$A,TEXT(AK$2,\"yyyymm\"))","v":0},{"$f":"SUMIFS(shukei!$C:$C,shukei!$B:$B,\"=\"&getsuji!$B24,shukei!$A:$A,TEXT(AL$2,\"yyyymm\"))","v":0},{"$f":"SUMIFS(shukei!$C:$C,shukei!$B:$B,\"=\"&getsuji!$B24,shukei!$A:$A,TEXT(AM$2,\"yyyymm\"))","v":0},{"$f":"SUMIFS(shukei!$C:$C,shukei!$B:$B,\"=\"&getsuji!$B24,shukei!$A:$A,TEXT(AN$2,\"yyyymm\"))","v":0},{"$f":"SUMIFS(shukei!$C:$C,shukei!$B:$B,\"=\"&getsuji!$B24,shukei!$A:$A,TEXT(AO$2,\"yyyymm\"))","v":0},{"$f":"SUMIFS(shukei!$C:$C,shukei!$B:$B,\"=\"&getsuji!$B24,shukei!$A:$A,TEXT(AP$2,\"yyyy\")&\"13\")","v":0}]
[null,null,null,{"$f":"SUMIFS(shukei!$C:$C,shukei!$B:$B,\"=\"&getsuji!$B25,shukei!$A:$A,TEXT(D$2,\"yyyymm\"))","v":0},{"$f":"SUMIFS(shukei!$C:$C,shukei!$B:$B,\"=\"&getsuji!$B25,shukei!$A:$A,TEXT(E$2,\"yyyymm\"))","v":0},{"$f":"SUMIFS(shukei!$C:$C,shukei!$B:$B,\"=\"&getsuji!$B25,shukei!$A:$A,TEXT(F$2,\"yyyymm\"))","v":0},{"$f":"SUMIFS(shukei!$C:$C,shukei!$B:$B,\"=\"&getsuji!$B25,shukei!$A:$A,TEXT(G$2,\"yyyymm\"))","v":0},{"$f":"SUMIFS(shukei!$C:$C,shukei!$B:$B,\"=\"&getsuji!$B25,shukei!$A:$A,TEXT(H$2,\"yyyymm\"))","v":0},{"$f":"SUMIFS(shukei!$C:$C,shukei!$B:$B,\"=\"&getsuji!$B25,shukei!$A:$A,TEXT(I$2,\"yyyymm\"))","v":0},{"$f":"SUMIFS(shukei!$C:$C,shukei!$B:$B,\"=\"&getsuji!$B25,shukei!$A:$A,TEXT(J$2,\"yyyymm\"))","v":0},{"$f":"SUMIFS(shukei!$C:$C,shukei!$B:$B,\"=\"&getsuji!$B25,shukei!$A:$A,TEXT(K$2,\"yyyymm\"))","v":0},{"$f":"SUMIFS(shukei!$C:$C,shukei!$B:$B,\"=\"&getsuji!$B25,shukei!$A:$A,TEXT(L$2,\"yyyymm\"))","v":0},{"$f":"SUMIFS(shukei!$C:$C,shukei!$B:$B,\"=\"&getsuji!$B25,shukei!$A:$A,TEXT(M$2,\"yyyymm\"))","v":0},{"$f":"SUMIFS(shukei!$C:$C,shukei!$B:$B,\"=\"&getsuji!$B25,shukei!$A:$A,TEXT(N$2,\"yyyymm\"))","v":0},{"$f":"SUMIFS(shukei!$C:$C,shukei!$B:$B,\"=\"&getsuji!$B25,shukei!$A:$A,TEXT(O$2,\"yyyymm\"))","v":0},{"$f":"SUMIFS(shukei!$C:$C,shukei!$B:$B,\"=\"&getsuji!$B25,shukei!$A:$A,TEXT(P$2,\"yyyy\")&\"13\")","v":0},{"$f":"SUMIFS(shukei!$C:$C,shukei!$B:$B,\"=\"&getsuji!$B25,shukei!$A:$A,TEXT(Q$2,\"yyyymm\"))","v":0},{"$f":"SUMIFS(shukei!$C:$C,shukei!$B:$B,\"=\"&getsuji!$B25,shukei!$A:$A,TEXT(R$2,\"yyyymm\"))","v":0},{"$f":"SUMIFS(shukei!$C:$C,shukei!$B:$B,\"=\"&getsuji!$B25,shukei!$A:$A,TEXT(S$2,\"yyyymm\"))","v":0},{"$f":"SUMIFS(shukei!$C:$C,shukei!$B:$B,\"=\"&getsuji!$B25,shukei!$A:$A,TEXT(T$2,\"yyyymm\"))","v":0},{"$f":"SUMIFS(shukei!$C:$C,shukei!$B:$B,\"=\"&getsuji!$B25,shukei!$A:$A,TEXT(U$2,\"yyyymm\"))","v":0},{"$f":"SUMIFS(shukei!$C:$C,shukei!$B:$B,\"=\"&getsuji!$B25,shukei!$A:$A,TEXT(V$2,\"yyyymm\"))","v":0},{"$f":"SUMIFS(shukei!$C:$C,shukei!$B:$B,\"=\"&getsuji!$B25,shukei!$A:$A,TEXT(W$2,\"yyyymm\"))","v":0},{"$f":"SUMIFS(shukei!$C:$C,shukei!$B:$B,\"=\"&getsuji!$B25,shukei!$A:$A,TEXT(X$2,\"yyyymm\"))","v":0},{"$f":"SUMIFS(shukei!$C:$C,shukei!$B:$B,\"=\"&getsuji!$B25,shukei!$A:$A,TEXT(Y$2,\"yyyymm\"))","v":0},{"$f":"SUMIFS(shukei!$C:$C,shukei!$B:$B,\"=\"&getsuji!$B25,shukei!$A:$A,TEXT(Z$2,\"yyyymm\"))","v":0},{"$f":"SUMIFS(shukei!$C:$C,shukei!$B:$B,\"=\"&getsuji!$B25,shukei!$A:$A,TEXT(AA$2,\"yyyymm\"))","v":0},{"$f":"SUMIFS(shukei!$C:$C,shukei!$B:$B,\"=\"&getsuji!$B25,shukei!$A:$A,TEXT(AB$2,\"yyyymm\"))","v":0},{"$f":"SUMIFS(shukei!$C:$C,shukei!$B:$B,\"=\"&getsuji!$B25,shukei!$A:$A,TEXT(AC$2,\"yyyy\")&\"13\")","v":0},{"$f":"SUMIFS(shukei!$C:$C,shukei!$B:$B,\"=\"&getsuji!$B25,shukei!$A:$A,TEXT(AD$2,\"yyyymm\"))","v":0},{"$f":"SUMIFS(shukei!$C:$C,shukei!$B:$B,\"=\"&getsuji!$B25,shukei!$A:$A,TEXT(AE$2,\"yyyymm\"))","v":0},{"$f":"SUMIFS(shukei!$C:$C,shukei!$B:$B,\"=\"&getsuji!$B25,shukei!$A:$A,TEXT(AF$2,\"yyyymm\"))","v":0},{"$f":"SUMIFS(shukei!$C:$C,shukei!$B:$B,\"=\"&getsuji!$B25,shukei!$A:$A,TEXT(AG$2,\"yyyymm\"))","v":0},{"$f":"SUMIFS(shukei!$C:$C,shukei!$B:$B,\"=\"&getsuji!$B25,shukei!$A:$A,TEXT(AH$2,\"yyyymm\"))","v":0},{"$f":"SUMIFS(shukei!$C:$C,shukei!$B:$B,\"=\"&getsuji!$B25,shukei!$A:$A,TEXT(AI$2,\"yyyymm\"))","v":0},{"$f":"SUMIFS(shukei!$C:$C,shukei!$B:$B,\"=\"&getsuji!$B25,shukei!$A:$A,TEXT(AJ$2,\"yyyymm\"))","v":0},{"$f":"SUMIFS(shukei!$C:$C,shukei!$B:$B,\"=\"&getsuji!$B25,shukei!$A:$A,TEXT(AK$2,\"yyyymm\"))","v":0},{"$f":"SUMIFS(shukei!$C:$C,shukei!$B:$B,\"=\"&getsuji!$B25,shukei!$A:$A,TEXT(AL$2,\"yyyymm\"))","v":0},{"$f":"SUMIFS(shukei!$C:$C,shukei!$B:$B,\"=\"&getsuji!$B25,shukei!$A:$A,TEXT(AM$2,\"yyyymm\"))","v":0},{"$f":"SUMIFS(shukei!$C:$C,shukei!$B:$B,\"=\"&getsuji!$B25,shukei!$A:$A,TEXT(AN$2,\"yyyymm\"))","v":0},{"$f":"SUMIFS(shukei!$C:$C,shukei!$B:$B,\"=\"&getsuji!$B25,shukei!$A:$A,TEXT(AO$2,\"yyyymm\"))","v":0},{"$f":"SUMIFS(shukei!$C:$C,shukei!$B:$B,\"=\"&getsuji!$B25,shukei!$A:$A,TEXT(AP$2,\"yyyy\")&\"13\")","v":0}]
[null,null,null,{"$f":"SUMIFS(shukei!$C:$C,shukei!$B:$B,\"=\"&getsuji!$B26,shukei!$A:$A,TEXT(D$2,\"yyyymm\"))","v":0},{"$f":"SUMIFS(shukei!$C:$C,shukei!$B:$B,\"=\"&getsuji!$B26,shukei!$A:$A,TEXT(E$2,\"yyyymm\"))","v":0},{"$f":"SUMIFS(shukei!$C:$C,shukei!$B:$B,\"=\"&getsuji!$B26,shukei!$A:$A,TEXT(F$2,\"yyyymm\"))","v":0},{"$f":"SUMIFS(shukei!$C:$C,shukei!$B:$B,\"=\"&getsuji!$B26,shukei!$A:$A,TEXT(G$2,\"yyyymm\"))","v":0},{"$f":"SUMIFS(shukei!$C:$C,shukei!$B:$B,\"=\"&getsuji!$B26,shukei!$A:$A,TEXT(H$2,\"yyyymm\"))","v":0},{"$f":"SUMIFS(shukei!$C:$C,shukei!$B:$B,\"=\"&getsuji!$B26,shukei!$A:$A,TEXT(I$2,\"yyyymm\"))","v":0},{"$f":"SUMIFS(shukei!$C:$C,shukei!$B:$B,\"=\"&getsuji!$B26,shukei!$A:$A,TEXT(J$2,\"yyyymm\"))","v":0},{"$f":"SUMIFS(shukei!$C:$C,shukei!$B:$B,\"=\"&getsuji!$B26,shukei!$A:$A,TEXT(K$2,\"yyyymm\"))","v":0},{"$f":"SUMIFS(shukei!$C:$C,shukei!$B:$B,\"=\"&getsuji!$B26,shukei!$A:$A,TEXT(L$2,\"yyyymm\"))","v":0},{"$f":"SUMIFS(shukei!$C:$C,shukei!$B:$B,\"=\"&getsuji!$B26,shukei!$A:$A,TEXT(M$2,\"yyyymm\"))","v":0},{"$f":"SUMIFS(shukei!$C:$C,shukei!$B:$B,\"=\"&getsuji!$B26,shukei!$A:$A,TEXT(N$2,\"yyyymm\"))","v":0},{"$f":"SUMIFS(shukei!$C:$C,shukei!$B:$B,\"=\"&getsuji!$B26,shukei!$A:$A,TEXT(O$2,\"yyyymm\"))","v":0},{"$f":"SUMIFS(shukei!$C:$C,shukei!$B:$B,\"=\"&getsuji!$B26,shukei!$A:$A,TEXT(P$2,\"yyyy\")&\"13\")","v":0},{"$f":"SUMIFS(shukei!$C:$C,shukei!$B:$B,\"=\"&getsuji!$B26,shukei!$A:$A,TEXT(Q$2,\"yyyymm\"))","v":0},{"$f":"SUMIFS(shukei!$C:$C,shukei!$B:$B,\"=\"&getsuji!$B26,shukei!$A:$A,TEXT(R$2,\"yyyymm\"))","v":0},{"$f":"SUMIFS(shukei!$C:$C,shukei!$B:$B,\"=\"&getsuji!$B26,shukei!$A:$A,TEXT(S$2,\"yyyymm\"))","v":0},{"$f":"SUMIFS(shukei!$C:$C,shukei!$B:$B,\"=\"&getsuji!$B26,shukei!$A:$A,TEXT(T$2,\"yyyymm\"))","v":0},{"$f":"SUMIFS(shukei!$C:$C,shukei!$B:$B,\"=\"&getsuji!$B26,shukei!$A:$A,TEXT(U$2,\"yyyymm\"))","v":0},{"$f":"SUMIFS(shukei!$C:$C,shukei!$B:$B,\"=\"&getsuji!$B26,shukei!$A:$A,TEXT(V$2,\"yyyymm\"))","v":0},{"$f":"SUMIFS(shukei!$C:$C,shukei!$B:$B,\"=\"&getsuji!$B26,shukei!$A:$A,TEXT(W$2,\"yyyymm\"))","v":0},{"$f":"SUMIFS(shukei!$C:$C,shukei!$B:$B,\"=\"&getsuji!$B26,shukei!$A:$A,TEXT(X$2,\"yyyymm\"))","v":0},{"$f":"SUMIFS(shukei!$C:$C,shukei!$B:$B,\"=\"&getsuji!$B26,shukei!$A:$A,TEXT(Y$2,\"yyyymm\"))","v":0},{"$f":"SUMIFS(shukei!$C:$C,shukei!$B:$B,\"=\"&getsuji!$B26,shukei!$A:$A,TEXT(Z$2,\"yyyymm\"))","v":0},{"$f":"SUMIFS(shukei!$C:$C,shukei!$B:$B,\"=\"&getsuji!$B26,shukei!$A:$A,TEXT(AA$2,\"yyyymm\"))","v":0},{"$f":"SUMIFS(shukei!$C:$C,shukei!$B:$B,\"=\"&getsuji!$B26,shukei!$A:$A,TEXT(AB$2,\"yyyymm\"))","v":0},{"$f":"SUMIFS(shukei!$C:$C,shukei!$B:$B,\"=\"&getsuji!$B26,shukei!$A:$A,TEXT(AC$2,\"yyyy\")&\"13\")","v":0},{"$f":"SUMIFS(shukei!$C:$C,shukei!$B:$B,\"=\"&getsuji!$B26,shukei!$A:$A,TEXT(AD$2,\"yyyymm\"))","v":0},{"$f":"SUMIFS(shukei!$C:$C,shukei!$B:$B,\"=\"&getsuji!$B26,shukei!$A:$A,TEXT(AE$2,\"yyyymm\"))","v":0},{"$f":"SUMIFS(shukei!$C:$C,shukei!$B:$B,\"=\"&getsuji!$B26,shukei!$A:$A,TEXT(AF$2,\"yyyymm\"))","v":0},{"$f":"SUMIFS(shukei!$C:$C,shukei!$B:$B,\"=\"&getsuji!$B26,shukei!$A:$A,TEXT(AG$2,\"yyyymm\"))","v":0},{"$f":"SUMIFS(shukei!$C:$C,shukei!$B:$B,\"=\"&getsuji!$B26,shukei!$A:$A,TEXT(AH$2,\"yyyymm\"))","v":0},{"$f":"SUMIFS(shukei!$C:$C,shukei!$B:$B,\"=\"&getsuji!$B26,shukei!$A:$A,TEXT(AI$2,\"yyyymm\"))","v":0},{"$f":"SUMIFS(shukei!$C:$C,shukei!$B:$B,\"=\"&getsuji!$B26,shukei!$A:$A,TEXT(AJ$2,\"yyyymm\"))","v":0},{"$f":"SUMIFS(shukei!$C:$C,shukei!$B:$B,\"=\"&getsuji!$B26,shukei!$A:$A,TEXT(AK$2,\"yyyymm\"))","v":0},{"$f":"SUMIFS(shukei!$C:$C,shukei!$B:$B,\"=\"&getsuji!$B26,shukei!$A:$A,TEXT(AL$2,\"yyyymm\"))","v":0},{"$f":"SUMIFS(shukei!$C:$C,shukei!$B:$B,\"=\"&getsuji!$B26,shukei!$A:$A,TEXT(AM$2,\"yyyymm\"))","v":0},{"$f":"SUMIFS(shukei!$C:$C,shukei!$B:$B,\"=\"&getsuji!$B26,shukei!$A:$A,TEXT(AN$2,\"yyyymm\"))","v":0},{"$f":"SUMIFS(shukei!$C:$C,shukei!$B:$B,\"=\"&getsuji!$B26,shukei!$A:$A,TEXT(AO$2,\"yyyymm\"))","v":0},{"$f":"SUMIFS(shukei!$C:$C,shukei!$B:$B,\"=\"&getsuji!$B26,shukei!$A:$A,TEXT(AP$2,\"yyyy\")&\"13\")","v":0}]
[null,null,null,{"$f":"SUMIFS(shukei!$C:$C,shukei!$B:$B,\"=\"&getsuji!$B27,shukei!$A:$A,TEXT(D$2,\"yyyymm\"))","v":0},{"$f":"SUMIFS(shukei!$C:$C,shukei!$B:$B,\"=\"&getsuji!$B27,shukei!$A:$A,TEXT(E$2,\"yyyymm\"))","v":0},{"$f":"SUMIFS(shukei!$C:$C,shukei!$B:$B,\"=\"&getsuji!$B27,shukei!$A:$A,TEXT(F$2,\"yyyymm\"))","v":0},{"$f":"SUMIFS(shukei!$C:$C,shukei!$B:$B,\"=\"&getsuji!$B27,shukei!$A:$A,TEXT(G$2,\"yyyymm\"))","v":0},{"$f":"SUMIFS(shukei!$C:$C,shukei!$B:$B,\"=\"&getsuji!$B27,shukei!$A:$A,TEXT(H$2,\"yyyymm\"))","v":0},{"$f":"SUMIFS(shukei!$C:$C,shukei!$B:$B,\"=\"&getsuji!$B27,shukei!$A:$A,TEXT(I$2,\"yyyymm\"))","v":0},{"$f":"SUMIFS(shukei!$C:$C,shukei!$B:$B,\"=\"&getsuji!$B27,shukei!$A:$A,TEXT(J$2,\"yyyymm\"))","v":0},{"$f":"SUMIFS(shukei!$C:$C,shukei!$B:$B,\"=\"&getsuji!$B27,shukei!$A:$A,TEXT(K$2,\"yyyymm\"))","v":0},{"$f":"SUMIFS(shukei!$C:$C,shukei!$B:$B,\"=\"&getsuji!$B27,shukei!$A:$A,TEXT(L$2,\"yyyymm\"))","v":0},{"$f":"SUMIFS(shukei!$C:$C,shukei!$B:$B,\"=\"&getsuji!$B27,shukei!$A:$A,TEXT(M$2,\"yyyymm\"))","v":0},{"$f":"SUMIFS(shukei!$C:$C,shukei!$B:$B,\"=\"&getsuji!$B27,shukei!$A:$A,TEXT(N$2,\"yyyymm\"))","v":0},{"$f":"SUMIFS(shukei!$C:$C,shukei!$B:$B,\"=\"&getsuji!$B27,shukei!$A:$A,TEXT(O$2,\"yyyymm\"))","v":0},{"$f":"SUMIFS(shukei!$C:$C,shukei!$B:$B,\"=\"&getsuji!$B27,shukei!$A:$A,TEXT(P$2,\"yyyy\")&\"13\")","v":0},{"$f":"SUMIFS(shukei!$C:$C,shukei!$B:$B,\"=\"&getsuji!$B27,shukei!$A:$A,TEXT(Q$2,\"yyyymm\"))","v":0},{"$f":"SUMIFS(shukei!$C:$C,shukei!$B:$B,\"=\"&getsuji!$B27,shukei!$A:$A,TEXT(R$2,\"yyyymm\"))","v":0},{"$f":"SUMIFS(shukei!$C:$C,shukei!$B:$B,\"=\"&getsuji!$B27,shukei!$A:$A,TEXT(S$2,\"yyyymm\"))","v":0},{"$f":"SUMIFS(shukei!$C:$C,shukei!$B:$B,\"=\"&getsuji!$B27,shukei!$A:$A,TEXT(T$2,\"yyyymm\"))","v":0},{"$f":"SUMIFS(shukei!$C:$C,shukei!$B:$B,\"=\"&getsuji!$B27,shukei!$A:$A,TEXT(U$2,\"yyyymm\"))","v":0},{"$f":"SUMIFS(shukei!$C:$C,shukei!$B:$B,\"=\"&getsuji!$B27,shukei!$A:$A,TEXT(V$2,\"yyyymm\"))","v":0},{"$f":"SUMIFS(shukei!$C:$C,shukei!$B:$B,\"=\"&getsuji!$B27,shukei!$A:$A,TEXT(W$2,\"yyyymm\"))","v":0},{"$f":"SUMIFS(shukei!$C:$C,shukei!$B:$B,\"=\"&getsuji!$B27,shukei!$A:$A,TEXT(X$2,\"yyyymm\"))","v":0},{"$f":"SUMIFS(shukei!$C:$C,shukei!$B:$B,\"=\"&getsuji!$B27,shukei!$A:$A,TEXT(Y$2,\"yyyymm\"))","v":0},{"$f":"SUMIFS(shukei!$C:$C,shukei!$B:$B,\"=\"&getsuji!$B27,shukei!$A:$A,TEXT(Z$2,\"yyyymm\"))","v":0},{"$f":"SUMIFS(shukei!$C:$C,shukei!$B:$B,\"=\"&getsuji!$B27,shukei!$A:$A,TEXT(AA$2,\"yyyymm\"))","v":0},{"$f":"SUMIFS(shukei!$C:$C,shukei!$B:$B,\"=\"&getsuji!$B27,shukei!$A:$A,TEXT(AB$2,\"yyyymm\"))","v":0},{"$f":"SUMIFS(shukei!$C:$C,shukei!$B:$B,\"=\"&getsuji!$B27,shukei!$A:$A,TEXT(AC$2,\"yyyy\")&\"13\")","v":0},{"$f":"SUMIFS(shukei!$C:$C,shukei!$B:$B,\"=\"&getsuji!$B27,shukei!$A:$A,TEXT(AD$2,\"yyyymm\"))","v":0},{"$f":"SUMIFS(shukei!$C:$C,shukei!$B:$B,\"=\"&getsuji!$B27,shukei!$A:$A,TEXT(AE$2,\"yyyymm\"))","v":0},{"$f":"SUMIFS(shukei!$C:$C,shukei!$B:$B,\"=\"&getsuji!$B27,shukei!$A:$A,TEXT(AF$2,\"yyyymm\"))","v":0},{"$f":"SUMIFS(shukei!$C:$C,shukei!$B:$B,\"=\"&getsuji!$B27,shukei!$A:$A,TEXT(AG$2,\"yyyymm\"))","v":0},{"$f":"SUMIFS(shukei!$C:$C,shukei!$B:$B,\"=\"&getsuji!$B27,shukei!$A:$A,TEXT(AH$2,\"yyyymm\"))","v":0},{"$f":"SUMIFS(shukei!$C:$C,shukei!$B:$B,\"=\"&getsuji!$B27,shukei!$A:$A,TEXT(AI$2,\"yyyymm\"))","v":0},{"$f":"SUMIFS(shukei!$C:$C,shukei!$B:$B,\"=\"&getsuji!$B27,shukei!$A:$A,TEXT(AJ$2,\"yyyymm\"))","v":0},{"$f":"SUMIFS(shukei!$C:$C,shukei!$B:$B,\"=\"&getsuji!$B27,shukei!$A:$A,TEXT(AK$2,\"yyyymm\"))","v":0},{"$f":"SUMIFS(shukei!$C:$C,shukei!$B:$B,\"=\"&getsuji!$B27,shukei!$A:$A,TEXT(AL$2,\"yyyymm\"))","v":0},{"$f":"SUMIFS(shukei!$C:$C,shukei!$B:$B,\"=\"&getsuji!$B27,shukei!$A:$A,TEXT(AM$2,\"yyyymm\"))","v":0},{"$f":"SUMIFS(shukei!$C:$C,shukei!$B:$B,\"=\"&getsuji!$B27,shukei!$A:$A,TEXT(AN$2,\"yyyymm\"))","v":0},{"$f":"SUMIFS(shukei!$C:$C,shukei!$B:$B,\"=\"&getsuji!$B27,shukei!$A:$A,TEXT(AO$2,\"yyyymm\"))","v":0},{"$f":"SUMIFS(shukei!$C:$C,shukei!$B:$B,\"=\"&getsuji!$B27,shukei!$A:$A,TEXT(AP$2,\"yyyy\")&\"13\")","v":0}]
[null,null,null,{"$f":"SUMIFS(shukei!$C:$C,shukei!$B:$B,\"=\"&getsuji!$B28,shukei!$A:$A,TEXT(D$2,\"yyyymm\"))","v":0},{"$f":"SUMIFS(shukei!$C:$C,shukei!$B:$B,\"=\"&getsuji!$B28,shukei!$A:$A,TEXT(E$2,\"yyyymm\"))","v":0},{"$f":"SUMIFS(shukei!$C:$C,shukei!$B:$B,\"=\"&getsuji!$B28,shukei!$A:$A,TEXT(F$2,\"yyyymm\"))","v":0},{"$f":"SUMIFS(shukei!$C:$C,shukei!$B:$B,\"=\"&getsuji!$B28,shukei!$A:$A,TEXT(G$2,\"yyyymm\"))","v":0},{"$f":"SUMIFS(shukei!$C:$C,shukei!$B:$B,\"=\"&getsuji!$B28,shukei!$A:$A,TEXT(H$2,\"yyyymm\"))","v":0},{"$f":"SUMIFS(shukei!$C:$C,shukei!$B:$B,\"=\"&getsuji!$B28,shukei!$A:$A,TEXT(I$2,\"yyyymm\"))","v":0},{"$f":"SUMIFS(shukei!$C:$C,shukei!$B:$B,\"=\"&getsuji!$B28,shukei!$A:$A,TEXT(J$2,\"yyyymm\"))","v":0},{"$f":"SUMIFS(shukei!$C:$C,shukei!$B:$B,\"=\"&getsuji!$B28,shukei!$A:$A,TEXT(K$2,\"yyyymm\"))","v":0},{"$f":"SUMIFS(shukei!$C:$C,shukei!$B:$B,\"=\"&getsuji!$B28,shukei!$A:$A,TEXT(L$2,\"yyyymm\"))","v":0},{"$f":"SUMIFS(shukei!$C:$C,shukei!$B:$B,\"=\"&getsuji!$B28,shukei!$A:$A,TEXT(M$2,\"yyyymm\"))","v":0},{"$f":"SUMIFS(shukei!$C:$C,shukei!$B:$B,\"=\"&getsuji!$B28,shukei!$A:$A,TEXT(N$2,\"yyyymm\"))","v":0},{"$f":"SUMIFS(shukei!$C:$C,shukei!$B:$B,\"=\"&getsuji!$B28,shukei!$A:$A,TEXT(O$2,\"yyyymm\"))","v":0},{"$f":"SUMIFS(shukei!$C:$C,shukei!$B:$B,\"=\"&getsuji!$B28,shukei!$A:$A,TEXT(P$2,\"yyyy\")&\"13\")","v":0},{"$f":"SUMIFS(shukei!$C:$C,shukei!$B:$B,\"=\"&getsuji!$B28,shukei!$A:$A,TEXT(Q$2,\"yyyymm\"))","v":0},{"$f":"SUMIFS(shukei!$C:$C,shukei!$B:$B,\"=\"&getsuji!$B28,shukei!$A:$A,TEXT(R$2,\"yyyymm\"))","v":0},{"$f":"SUMIFS(shukei!$C:$C,shukei!$B:$B,\"=\"&getsuji!$B28,shukei!$A:$A,TEXT(S$2,\"yyyymm\"))","v":0},{"$f":"SUMIFS(shukei!$C:$C,shukei!$B:$B,\"=\"&getsuji!$B28,shukei!$A:$A,TEXT(T$2,\"yyyymm\"))","v":0},{"$f":"SUMIFS(shukei!$C:$C,shukei!$B:$B,\"=\"&getsuji!$B28,shukei!$A:$A,TEXT(U$2,\"yyyymm\"))","v":0},{"$f":"SUMIFS(shukei!$C:$C,shukei!$B:$B,\"=\"&getsuji!$B28,shukei!$A:$A,TEXT(V$2,\"yyyymm\"))","v":0},{"$f":"SUMIFS(shukei!$C:$C,shukei!$B:$B,\"=\"&getsuji!$B28,shukei!$A:$A,TEXT(W$2,\"yyyymm\"))","v":0},{"$f":"SUMIFS(shukei!$C:$C,shukei!$B:$B,\"=\"&getsuji!$B28,shukei!$A:$A,TEXT(X$2,\"yyyymm\"))","v":0},{"$f":"SUMIFS(shukei!$C:$C,shukei!$B:$B,\"=\"&getsuji!$B28,shukei!$A:$A,TEXT(Y$2,\"yyyymm\"))","v":0},{"$f":"SUMIFS(shukei!$C:$C,shukei!$B:$B,\"=\"&getsuji!$B28,shukei!$A:$A,TEXT(Z$2,\"yyyymm\"))","v":0},{"$f":"SUMIFS(shukei!$C:$C,shukei!$B:$B,\"=\"&getsuji!$B28,shukei!$A:$A,TEXT(AA$2,\"yyyymm\"))","v":0},{"$f":"SUMIFS(shukei!$C:$C,shukei!$B:$B,\"=\"&getsuji!$B28,shukei!$A:$A,TEXT(AB$2,\"yyyymm\"))","v":0},{"$f":"SUMIFS(shukei!$C:$C,shukei!$B:$B,\"=\"&getsuji!$B28,shukei!$A:$A,TEXT(AC$2,\"yyyy\")&\"13\")","v":0},{"$f":"SUMIFS(shukei!$C:$C,shukei!$B:$B,\"=\"&getsuji!$B28,shukei!$A:$A,TEXT(AD$2,\"yyyymm\"))","v":0},{"$f":"SUMIFS(shukei!$C:$C,shukei!$B:$B,\"=\"&getsuji!$B28,shukei!$A:$A,TEXT(AE$2,\"yyyymm\"))","v":0},{"$f":"SUMIFS(shukei!$C:$C,shukei!$B:$B,\"=\"&getsuji!$B28,shukei!$A:$A,TEXT(AF$2,\"yyyymm\"))","v":0},{"$f":"SUMIFS(shukei!$C:$C,shukei!$B:$B,\"=\"&getsuji!$B28,shukei!$A:$A,TEXT(AG$2,\"yyyymm\"))","v":0},{"$f":"SUMIFS(shukei!$C:$C,shukei!$B:$B,\"=\"&getsuji!$B28,shukei!$A:$A,TEXT(AH$2,\"yyyymm\"))","v":0},{"$f":"SUMIFS(shukei!$C:$C,shukei!$B:$B,\"=\"&getsuji!$B28,shukei!$A:$A,TEXT(AI$2,\"yyyymm\"))","v":0},{"$f":"SUMIFS(shukei!$C:$C,shukei!$B:$B,\"=\"&getsuji!$B28,shukei!$A:$A,TEXT(AJ$2,\"yyyymm\"))","v":0},{"$f":"SUMIFS(shukei!$C:$C,shukei!$B:$B,\"=\"&getsuji!$B28,shukei!$A:$A,TEXT(AK$2,\"yyyymm\"))","v":0},{"$f":"SUMIFS(shukei!$C:$C,shukei!$B:$B,\"=\"&getsuji!$B28,shukei!$A:$A,TEXT(AL$2,\"yyyymm\"))","v":0},{"$f":"SUMIFS(shukei!$C:$C,shukei!$B:$B,\"=\"&getsuji!$B28,shukei!$A:$A,TEXT(AM$2,\"yyyymm\"))","v":0},{"$f":"SUMIFS(shukei!$C:$C,shukei!$B:$B,\"=\"&getsuji!$B28,shukei!$A:$A,TEXT(AN$2,\"yyyymm\"))","v":0},{"$f":"SUMIFS(shukei!$C:$C,shukei!$B:$B,\"=\"&getsuji!$B28,shukei!$A:$A,TEXT(AO$2,\"yyyymm\"))","v":0},{"$f":"SUMIFS(shukei!$C:$C,shukei!$B:$B,\"=\"&getsuji!$B28,shukei!$A:$A,TEXT(AP$2,\"yyyy\")&\"13\")","v":0}]
[null,null,null,{"$f":"SUMIFS(shukei!$C:$C,shukei!$B:$B,\"=\"&getsuji!$B29,shukei!$A:$A,TEXT(D$2,\"yyyymm\"))","v":0},{"$f":"SUMIFS(shukei!$C:$C,shukei!$B:$B,\"=\"&getsuji!$B29,shukei!$A:$A,TEXT(E$2,\"yyyymm\"))","v":0},{"$f":"SUMIFS(shukei!$C:$C,shukei!$B:$B,\"=\"&getsuji!$B29,shukei!$A:$A,TEXT(F$2,\"yyyymm\"))","v":0},{"$f":"SUMIFS(shukei!$C:$C,shukei!$B:$B,\"=\"&getsuji!$B29,shukei!$A:$A,TEXT(G$2,\"yyyymm\"))","v":0},{"$f":"SUMIFS(shukei!$C:$C,shukei!$B:$B,\"=\"&getsuji!$B29,shukei!$A:$A,TEXT(H$2,\"yyyymm\"))","v":0},{"$f":"SUMIFS(shukei!$C:$C,shukei!$B:$B,\"=\"&getsuji!$B29,shukei!$A:$A,TEXT(I$2,\"yyyymm\"))","v":0},{"$f":"SUMIFS(shukei!$C:$C,shukei!$B:$B,\"=\"&getsuji!$B29,shukei!$A:$A,TEXT(J$2,\"yyyymm\"))","v":0},{"$f":"SUMIFS(shukei!$C:$C,shukei!$B:$B,\"=\"&getsuji!$B29,shukei!$A:$A,TEXT(K$2,\"yyyymm\"))","v":0},{"$f":"SUMIFS(shukei!$C:$C,shukei!$B:$B,\"=\"&getsuji!$B29,shukei!$A:$A,TEXT(L$2,\"yyyymm\"))","v":0},{"$f":"SUMIFS(shukei!$C:$C,shukei!$B:$B,\"=\"&getsuji!$B29,shukei!$A:$A,TEXT(M$2,\"yyyymm\"))","v":0},{"$f":"SUMIFS(shukei!$C:$C,shukei!$B:$B,\"=\"&getsuji!$B29,shukei!$A:$A,TEXT(N$2,\"yyyymm\"))","v":0},{"$f":"SUMIFS(shukei!$C:$C,shukei!$B:$B,\"=\"&getsuji!$B29,shukei!$A:$A,TEXT(O$2,\"yyyymm\"))","v":0},{"$f":"SUMIFS(shukei!$C:$C,shukei!$B:$B,\"=\"&getsuji!$B29,shukei!$A:$A,TEXT(P$2,\"yyyy\")&\"13\")","v":0},{"$f":"SUMIFS(shukei!$C:$C,shukei!$B:$B,\"=\"&getsuji!$B29,shukei!$A:$A,TEXT(Q$2,\"yyyymm\"))","v":0},{"$f":"SUMIFS(shukei!$C:$C,shukei!$B:$B,\"=\"&getsuji!$B29,shukei!$A:$A,TEXT(R$2,\"yyyymm\"))","v":0},{"$f":"SUMIFS(shukei!$C:$C,shukei!$B:$B,\"=\"&getsuji!$B29,shukei!$A:$A,TEXT(S$2,\"yyyymm\"))","v":0},{"$f":"SUMIFS(shukei!$C:$C,shukei!$B:$B,\"=\"&getsuji!$B29,shukei!$A:$A,TEXT(T$2,\"yyyymm\"))","v":0},{"$f":"SUMIFS(shukei!$C:$C,shukei!$B:$B,\"=\"&getsuji!$B29,shukei!$A:$A,TEXT(U$2,\"yyyymm\"))","v":0},{"$f":"SUMIFS(shukei!$C:$C,shukei!$B:$B,\"=\"&getsuji!$B29,shukei!$A:$A,TEXT(V$2,\"yyyymm\"))","v":0},{"$f":"SUMIFS(shukei!$C:$C,shukei!$B:$B,\"=\"&getsuji!$B29,shukei!$A:$A,TEXT(W$2,\"yyyymm\"))","v":0},{"$f":"SUMIFS(shukei!$C:$C,shukei!$B:$B,\"=\"&getsuji!$B29,shukei!$A:$A,TEXT(X$2,\"yyyymm\"))","v":0},{"$f":"SUMIFS(shukei!$C:$C,shukei!$B:$B,\"=\"&getsuji!$B29,shukei!$A:$A,TEXT(Y$2,\"yyyymm\"))","v":0},{"$f":"SUMIFS(shukei!$C:$C,shukei!$B:$B,\"=\"&getsuji!$B29,shukei!$A:$A,TEXT(Z$2,\"yyyymm\"))","v":0},{"$f":"SUMIFS(shukei!$C:$C,shukei!$B:$B,\"=\"&getsuji!$B29,shukei!$A:$A,TEXT(AA$2,\"yyyymm\"))","v":0},{"$f":"SUMIFS(shukei!$C:$C,shukei!$B:$B,\"=\"&getsuji!$B29,shukei!$A:$A,TEXT(AB$2,\"yyyymm\"))","v":0},{"$f":"SUMIFS(shukei!$C:$C,shukei!$B:$B,\"=\"&getsuji!$B29,shukei!$A:$A,TEXT(AC$2,\"yyyy\")&\"13\")","v":0},{"$f":"SUMIFS(shukei!$C:$C,shukei!$B:$B,\"=\"&getsuji!$B29,shukei!$A:$A,TEXT(AD$2,\"yyyymm\"))","v":0},{"$f":"SUMIFS(shukei!$C:$C,shukei!$B:$B,\"=\"&getsuji!$B29,shukei!$A:$A,TEXT(AE$2,\"yyyymm\"))","v":0},{"$f":"SUMIFS(shukei!$C:$C,shukei!$B:$B,\"=\"&getsuji!$B29,shukei!$A:$A,TEXT(AF$2,\"yyyymm\"))","v":0},{"$f":"SUMIFS(shukei!$C:$C,shukei!$B:$B,\"=\"&getsuji!$B29,shukei!$A:$A,TEXT(AG$2,\"yyyymm\"))","v":0},{"$f":"SUMIFS(shukei!$C:$C,shukei!$B:$B,\"=\"&getsuji!$B29,shukei!$A:$A,TEXT(AH$2,\"yyyymm\"))","v":0},{"$f":"SUMIFS(shukei!$C:$C,shukei!$B:$B,\"=\"&getsuji!$B29,shukei!$A:$A,TEXT(AI$2,\"yyyymm\"))","v":0},{"$f":"SUMIFS(shukei!$C:$C,shukei!$B:$B,\"=\"&getsuji!$B29,shukei!$A:$A,TEXT(AJ$2,\"yyyymm\"))","v":0},{"$f":"SUMIFS(shukei!$C:$C,shukei!$B:$B,\"=\"&getsuji!$B29,shukei!$A:$A,TEXT(AK$2,\"yyyymm\"))","v":0},{"$f":"SUMIFS(shukei!$C:$C,shukei!$B:$B,\"=\"&getsuji!$B29,shukei!$A:$A,TEXT(AL$2,\"yyyymm\"))","v":0},{"$f":"SUMIFS(shukei!$C:$C,shukei!$B:$B,\"=\"&getsuji!$B29,shukei!$A:$A,TEXT(AM$2,\"yyyymm\"))","v":0},{"$f":"SUMIFS(shukei!$C:$C,shukei!$B:$B,\"=\"&getsuji!$B29,shukei!$A:$A,TEXT(AN$2,\"yyyymm\"))","v":0},{"$f":"SUMIFS(shukei!$C:$C,shukei!$B:$B,\"=\"&getsuji!$B29,shukei!$A:$A,TEXT(AO$2,\"yyyymm\"))","v":0},{"$f":"SUMIFS(shukei!$C:$C,shukei!$B:$B,\"=\"&getsuji!$B29,shukei!$A:$A,TEXT(AP$2,\"yyyy\")&\"13\")","v":0}]
[null,null,null,{"$f":"SUMIFS(shukei!$C:$C,shukei!$B:$B,\"=\"&getsuji!$B30,shukei!$A:$A,TEXT(D$2,\"yyyymm\"))","v":0},{"$f":"SUMIFS(shukei!$C:$C,shukei!$B:$B,\"=\"&getsuji!$B30,shukei!$A:$A,TEXT(E$2,\"yyyymm\"))","v":0},{"$f":"SUMIFS(shukei!$C:$C,shukei!$B:$B,\"=\"&getsuji!$B30,shukei!$A:$A,TEXT(F$2,\"yyyymm\"))","v":0},{"$f":"SUMIFS(shukei!$C:$C,shukei!$B:$B,\"=\"&getsuji!$B30,shukei!$A:$A,TEXT(G$2,\"yyyymm\"))","v":0},{"$f":"SUMIFS(shukei!$C:$C,shukei!$B:$B,\"=\"&getsuji!$B30,shukei!$A:$A,TEXT(H$2,\"yyyymm\"))","v":0},{"$f":"SUMIFS(shukei!$C:$C,shukei!$B:$B,\"=\"&getsuji!$B30,shukei!$A:$A,TEXT(I$2,\"yyyymm\"))","v":0},{"$f":"SUMIFS(shukei!$C:$C,shukei!$B:$B,\"=\"&getsuji!$B30,shukei!$A:$A,TEXT(J$2,\"yyyymm\"))","v":0},{"$f":"SUMIFS(shukei!$C:$C,shukei!$B:$B,\"=\"&getsuji!$B30,shukei!$A:$A,TEXT(K$2,\"yyyymm\"))","v":0},{"$f":"SUMIFS(shukei!$C:$C,shukei!$B:$B,\"=\"&getsuji!$B30,shukei!$A:$A,TEXT(L$2,\"yyyymm\"))","v":0},{"$f":"SUMIFS(shukei!$C:$C,shukei!$B:$B,\"=\"&getsuji!$B30,shukei!$A:$A,TEXT(M$2,\"yyyymm\"))","v":0},{"$f":"SUMIFS(shukei!$C:$C,shukei!$B:$B,\"=\"&getsuji!$B30,shukei!$A:$A,TEXT(N$2,\"yyyymm\"))","v":0},{"$f":"SUMIFS(shukei!$C:$C,shukei!$B:$B,\"=\"&getsuji!$B30,shukei!$A:$A,TEXT(O$2,\"yyyymm\"))","v":0},{"$f":"SUMIFS(shukei!$C:$C,shukei!$B:$B,\"=\"&getsuji!$B30,shukei!$A:$A,TEXT(P$2,\"yyyy\")&\"13\")","v":0},{"$f":"SUMIFS(shukei!$C:$C,shukei!$B:$B,\"=\"&getsuji!$B30,shukei!$A:$A,TEXT(Q$2,\"yyyymm\"))","v":0},{"$f":"SUMIFS(shukei!$C:$C,shukei!$B:$B,\"=\"&getsuji!$B30,shukei!$A:$A,TEXT(R$2,\"yyyymm\"))","v":0},{"$f":"SUMIFS(shukei!$C:$C,shukei!$B:$B,\"=\"&getsuji!$B30,shukei!$A:$A,TEXT(S$2,\"yyyymm\"))","v":0},{"$f":"SUMIFS(shukei!$C:$C,shukei!$B:$B,\"=\"&getsuji!$B30,shukei!$A:$A,TEXT(T$2,\"yyyymm\"))","v":0},{"$f":"SUMIFS(shukei!$C:$C,shukei!$B:$B,\"=\"&getsuji!$B30,shukei!$A:$A,TEXT(U$2,\"yyyymm\"))","v":0},{"$f":"SUMIFS(shukei!$C:$C,shukei!$B:$B,\"=\"&getsuji!$B30,shukei!$A:$A,TEXT(V$2,\"yyyymm\"))","v":0},{"$f":"SUMIFS(shukei!$C:$C,shukei!$B:$B,\"=\"&getsuji!$B30,shukei!$A:$A,TEXT(W$2,\"yyyymm\"))","v":0},{"$f":"SUMIFS(shukei!$C:$C,shukei!$B:$B,\"=\"&getsuji!$B30,shukei!$A:$A,TEXT(X$2,\"yyyymm\"))","v":0},{"$f":"SUMIFS(shukei!$C:$C,shukei!$B:$B,\"=\"&getsuji!$B30,shukei!$A:$A,TEXT(Y$2,\"yyyymm\"))","v":0},{"$f":"SUMIFS(shukei!$C:$C,shukei!$B:$B,\"=\"&getsuji!$B30,shukei!$A:$A,TEXT(Z$2,\"yyyymm\"))","v":0},{"$f":"SUMIFS(shukei!$C:$C,shukei!$B:$B,\"=\"&getsuji!$B30,shukei!$A:$A,TEXT(AA$2,\"yyyymm\"))","v":0},{"$f":"SUMIFS(shukei!$C:$C,shukei!$B:$B,\"=\"&getsuji!$B30,shukei!$A:$A,TEXT(AB$2,\"yyyymm\"))","v":0},{"$f":"SUMIFS(shukei!$C:$C,shukei!$B:$B,\"=\"&getsuji!$B30,shukei!$A:$A,TEXT(AC$2,\"yyyy\")&\"13\")","v":0},{"$f":"SUMIFS(shukei!$C:$C,shukei!$B:$B,\"=\"&getsuji!$B30,shukei!$A:$A,TEXT(AD$2,\"yyyymm\"))","v":0},{"$f":"SUMIFS(shukei!$C:$C,shukei!$B:$B,\"=\"&getsuji!$B30,shukei!$A:$A,TEXT(AE$2,\"yyyymm\"))","v":0},{"$f":"SUMIFS(shukei!$C:$C,shukei!$B:$B,\"=\"&getsuji!$B30,shukei!$A:$A,TEXT(AF$2,\"yyyymm\"))","v":0},{"$f":"SUMIFS(shukei!$C:$C,shukei!$B:$B,\"=\"&getsuji!$B30,shukei!$A:$A,TEXT(AG$2,\"yyyymm\"))","v":0},{"$f":"SUMIFS(shukei!$C:$C,shukei!$B:$B,\"=\"&getsuji!$B30,shukei!$A:$A,TEXT(AH$2,\"yyyymm\"))","v":0},{"$f":"SUMIFS(shukei!$C:$C,shukei!$B:$B,\"=\"&getsuji!$B30,shukei!$A:$A,TEXT(AI$2,\"yyyymm\"))","v":0},{"$f":"SUMIFS(shukei!$C:$C,shukei!$B:$B,\"=\"&getsuji!$B30,shukei!$A:$A,TEXT(AJ$2,\"yyyymm\"))","v":0},{"$f":"SUMIFS(shukei!$C:$C,shukei!$B:$B,\"=\"&getsuji!$B30,shukei!$A:$A,TEXT(AK$2,\"yyyymm\"))","v":0},{"$f":"SUMIFS(shukei!$C:$C,shukei!$B:$B,\"=\"&getsuji!$B30,shukei!$A:$A,TEXT(AL$2,\"yyyymm\"))","v":0},{"$f":"SUMIFS(shukei!$C:$C,shukei!$B:$B,\"=\"&getsuji!$B30,shukei!$A:$A,TEXT(AM$2,\"yyyymm\"))","v":0},{"$f":"SUMIFS(shukei!$C:$C,shukei!$B:$B,\"=\"&getsuji!$B30,shukei!$A:$A,TEXT(AN$2,\"yyyymm\"))","v":0},{"$f":"SUMIFS(shukei!$C:$C,shukei!$B:$B,\"=\"&getsuji!$B30,shukei!$A:$A,TEXT(AO$2,\"yyyymm\"))","v":0},{"$f":"SUMIFS(shukei!$C:$C,shukei!$B:$B,\"=\"&getsuji!$B30,shukei!$A:$A,TEXT(AP$2,\"yyyy\")&\"13\")","v":0}]
[null,null,null,{"$f":"SUMIFS(shukei!$C:$C,shukei!$B:$B,\"=\"&getsuji!$B31,shukei!$A:$A,TEXT(D$2,\"yyyymm\"))","v":0},{"$f":"SUMIFS(shukei!$C:$C,shukei!$B:$B,\"=\"&getsuji!$B31,shukei!$A:$A,TEXT(E$2,\"yyyymm\"))","v":0},{"$f":"SUMIFS(shukei!$C:$C,shukei!$B:$B,\"=\"&getsuji!$B31,shukei!$A:$A,TEXT(F$2,\"yyyymm\"))","v":0},{"$f":"SUMIFS(shukei!$C:$C,shukei!$B:$B,\"=\"&getsuji!$B31,shukei!$A:$A,TEXT(G$2,\"yyyymm\"))","v":0},{"$f":"SUMIFS(shukei!$C:$C,shukei!$B:$B,\"=\"&getsuji!$B31,shukei!$A:$A,TEXT(H$2,\"yyyymm\"))","v":0},{"$f":"SUMIFS(shukei!$C:$C,shukei!$B:$B,\"=\"&getsuji!$B31,shukei!$A:$A,TEXT(I$2,\"yyyymm\"))","v":0},{"$f":"SUMIFS(shukei!$C:$C,shukei!$B:$B,\"=\"&getsuji!$B31,shukei!$A:$A,TEXT(J$2,\"yyyymm\"))","v":0},{"$f":"SUMIFS(shukei!$C:$C,shukei!$B:$B,\"=\"&getsuji!$B31,shukei!$A:$A,TEXT(K$2,\"yyyymm\"))","v":0},{"$f":"SUMIFS(shukei!$C:$C,shukei!$B:$B,\"=\"&getsuji!$B31,shukei!$A:$A,TEXT(L$2,\"yyyymm\"))","v":0},{"$f":"SUMIFS(shukei!$C:$C,shukei!$B:$B,\"=\"&getsuji!$B31,shukei!$A:$A,TEXT(M$2,\"yyyymm\"))","v":0},{"$f":"SUMIFS(shukei!$C:$C,shukei!$B:$B,\"=\"&getsuji!$B31,shukei!$A:$A,TEXT(N$2,\"yyyymm\"))","v":0},{"$f":"SUMIFS(shukei!$C:$C,shukei!$B:$B,\"=\"&getsuji!$B31,shukei!$A:$A,TEXT(O$2,\"yyyymm\"))","v":0},{"$f":"SUMIFS(shukei!$C:$C,shukei!$B:$B,\"=\"&getsuji!$B31,shukei!$A:$A,TEXT(P$2,\"yyyy\")&\"13\")","v":0},{"$f":"SUMIFS(shukei!$C:$C,shukei!$B:$B,\"=\"&getsuji!$B31,shukei!$A:$A,TEXT(Q$2,\"yyyymm\"))","v":0},{"$f":"SUMIFS(shukei!$C:$C,shukei!$B:$B,\"=\"&getsuji!$B31,shukei!$A:$A,TEXT(R$2,\"yyyymm\"))","v":0},{"$f":"SUMIFS(shukei!$C:$C,shukei!$B:$B,\"=\"&getsuji!$B31,shukei!$A:$A,TEXT(S$2,\"yyyymm\"))","v":0},{"$f":"SUMIFS(shukei!$C:$C,shukei!$B:$B,\"=\"&getsuji!$B31,shukei!$A:$A,TEXT(T$2,\"yyyymm\"))","v":0},{"$f":"SUMIFS(shukei!$C:$C,shukei!$B:$B,\"=\"&getsuji!$B31,shukei!$A:$A,TEXT(U$2,\"yyyymm\"))","v":0},{"$f":"SUMIFS(shukei!$C:$C,shukei!$B:$B,\"=\"&getsuji!$B31,shukei!$A:$A,TEXT(V$2,\"yyyymm\"))","v":0},{"$f":"SUMIFS(shukei!$C:$C,shukei!$B:$B,\"=\"&getsuji!$B31,shukei!$A:$A,TEXT(W$2,\"yyyymm\"))","v":0},{"$f":"SUMIFS(shukei!$C:$C,shukei!$B:$B,\"=\"&getsuji!$B31,shukei!$A:$A,TEXT(X$2,\"yyyymm\"))","v":0},{"$f":"SUMIFS(shukei!$C:$C,shukei!$B:$B,\"=\"&getsuji!$B31,shukei!$A:$A,TEXT(Y$2,\"yyyymm\"))","v":0},{"$f":"SUMIFS(shukei!$C:$C,shukei!$B:$B,\"=\"&getsuji!$B31,shukei!$A:$A,TEXT(Z$2,\"yyyymm\"))","v":0},{"$f":"SUMIFS(shukei!$C:$C,shukei!$B:$B,\"=\"&getsuji!$B31,shukei!$A:$A,TEXT(AA$2,\"yyyymm\"))","v":0},{"$f":"SUMIFS(shukei!$C:$C,shukei!$B:$B,\"=\"&getsuji!$B31,shukei!$A:$A,TEXT(AB$2,\"yyyymm\"))","v":0},{"$f":"SUMIFS(shukei!$C:$C,shukei!$B:$B,\"=\"&getsuji!$B31,shukei!$A:$A,TEXT(AC$2,\"yyyy\")&\"13\")","v":0},{"$f":"SUMIFS(shukei!$C:$C,shukei!$B:$B,\"=\"&getsuji!$B31,shukei!$A:$A,TEXT(AD$2,\"yyyymm\"))","v":0},{"$f":"SUMIFS(shukei!$C:$C,shukei!$B:$B,\"=\"&getsuji!$B31,shukei!$A:$A,TEXT(AE$2,\"yyyymm\"))","v":0},{"$f":"SUMIFS(shukei!$C:$C,shukei!$B:$B,\"=\"&getsuji!$B31,shukei!$A:$A,TEXT(AF$2,\"yyyymm\"))","v":0},{"$f":"SUMIFS(shukei!$C:$C,shukei!$B:$B,\"=\"&getsuji!$B31,shukei!$A:$A,TEXT(AG$2,\"yyyymm\"))","v":0},{"$f":"SUMIFS(shukei!$C:$C,shukei!$B:$B,\"=\"&getsuji!$B31,shukei!$A:$A,TEXT(AH$2,\"yyyymm\"))","v":0},{"$f":"SUMIFS(shukei!$C:$C,shukei!$B:$B,\"=\"&getsuji!$B31,shukei!$A:$A,TEXT(AI$2,\"yyyymm\"))","v":0},{"$f":"SUMIFS(shukei!$C:$C,shukei!$B:$B,\"=\"&getsuji!$B31,shukei!$A:$A,TEXT(AJ$2,\"yyyymm\"))","v":0},{"$f":"SUMIFS(shukei!$C:$C,shukei!$B:$B,\"=\"&getsuji!$B31,shukei!$A:$A,TEXT(AK$2,\"yyyymm\"))","v":0},{"$f":"SUMIFS(shukei!$C:$C,shukei!$B:$B,\"=\"&getsuji!$B31,shukei!$A:$A,TEXT(AL$2,\"yyyymm\"))","v":0},{"$f":"SUMIFS(shukei!$C:$C,shukei!$B:$B,\"=\"&getsuji!$B31,shukei!$A:$A,TEXT(AM$2,\"yyyymm\"))","v":0},{"$f":"SUMIFS(shukei!$C:$C,shukei!$B:$B,\"=\"&getsuji!$B31,shukei!$A:$A,TEXT(AN$2,\"yyyymm\"))","v":0},{"$f":"SUMIFS(shukei!$C:$C,shukei!$B:$B,\"=\"&getsuji!$B31,shukei!$A:$A,TEXT(AO$2,\"yyyymm\"))","v":0},{"$f":"SUMIFS(shukei!$C:$C,shukei!$B:$B,\"=\"&getsuji!$B31,shukei!$A:$A,TEXT(AP$2,\"yyyy\")&\"13\")","v":0}]
[null,null,null,{"$f":"SUMIFS(shukei!$C:$C,shukei!$B:$B,\"=\"&getsuji!$B32,shukei!$A:$A,TEXT(D$2,\"yyyymm\"))","v":0},{"$f":"SUMIFS(shukei!$C:$C,shukei!$B:$B,\"=\"&getsuji!$B32,shukei!$A:$A,TEXT(E$2,\"yyyymm\"))","v":0},{"$f":"SUMIFS(shukei!$C:$C,shukei!$B:$B,\"=\"&getsuji!$B32,shukei!$A:$A,TEXT(F$2,\"yyyymm\"))","v":0},{"$f":"SUMIFS(shukei!$C:$C,shukei!$B:$B,\"=\"&getsuji!$B32,shukei!$A:$A,TEXT(G$2,\"yyyymm\"))","v":0},{"$f":"SUMIFS(shukei!$C:$C,shukei!$B:$B,\"=\"&getsuji!$B32,shukei!$A:$A,TEXT(H$2,\"yyyymm\"))","v":0},{"$f":"SUMIFS(shukei!$C:$C,shukei!$B:$B,\"=\"&getsuji!$B32,shukei!$A:$A,TEXT(I$2,\"yyyymm\"))","v":0},{"$f":"SUMIFS(shukei!$C:$C,shukei!$B:$B,\"=\"&getsuji!$B32,shukei!$A:$A,TEXT(J$2,\"yyyymm\"))","v":0},{"$f":"SUMIFS(shukei!$C:$C,shukei!$B:$B,\"=\"&getsuji!$B32,shukei!$A:$A,TEXT(K$2,\"yyyymm\"))","v":0},{"$f":"SUMIFS(shukei!$C:$C,shukei!$B:$B,\"=\"&getsuji!$B32,shukei!$A:$A,TEXT(L$2,\"yyyymm\"))","v":0},{"$f":"SUMIFS(shukei!$C:$C,shukei!$B:$B,\"=\"&getsuji!$B32,shukei!$A:$A,TEXT(M$2,\"yyyymm\"))","v":0},{"$f":"SUMIFS(shukei!$C:$C,shukei!$B:$B,\"=\"&getsuji!$B32,shukei!$A:$A,TEXT(N$2,\"yyyymm\"))","v":0},{"$f":"SUMIFS(shukei!$C:$C,shukei!$B:$B,\"=\"&getsuji!$B32,shukei!$A:$A,TEXT(O$2,\"yyyymm\"))","v":0},{"$f":"SUMIFS(shukei!$C:$C,shukei!$B:$B,\"=\"&getsuji!$B32,shukei!$A:$A,TEXT(P$2,\"yyyy\")&\"13\")","v":0},{"$f":"SUMIFS(shukei!$C:$C,shukei!$B:$B,\"=\"&getsuji!$B32,shukei!$A:$A,TEXT(Q$2,\"yyyymm\"))","v":0},{"$f":"SUMIFS(shukei!$C:$C,shukei!$B:$B,\"=\"&getsuji!$B32,shukei!$A:$A,TEXT(R$2,\"yyyymm\"))","v":0},{"$f":"SUMIFS(shukei!$C:$C,shukei!$B:$B,\"=\"&getsuji!$B32,shukei!$A:$A,TEXT(S$2,\"yyyymm\"))","v":0},{"$f":"SUMIFS(shukei!$C:$C,shukei!$B:$B,\"=\"&getsuji!$B32,shukei!$A:$A,TEXT(T$2,\"yyyymm\"))","v":0},{"$f":"SUMIFS(shukei!$C:$C,shukei!$B:$B,\"=\"&getsuji!$B32,shukei!$A:$A,TEXT(U$2,\"yyyymm\"))","v":0},{"$f":"SUMIFS(shukei!$C:$C,shukei!$B:$B,\"=\"&getsuji!$B32,shukei!$A:$A,TEXT(V$2,\"yyyymm\"))","v":0},{"$f":"SUMIFS(shukei!$C:$C,shukei!$B:$B,\"=\"&getsuji!$B32,shukei!$A:$A,TEXT(W$2,\"yyyymm\"))","v":0},{"$f":"SUMIFS(shukei!$C:$C,shukei!$B:$B,\"=\"&getsuji!$B32,shukei!$A:$A,TEXT(X$2,\"yyyymm\"))","v":0},{"$f":"SUMIFS(shukei!$C:$C,shukei!$B:$B,\"=\"&getsuji!$B32,shukei!$A:$A,TEXT(Y$2,\"yyyymm\"))","v":0},{"$f":"SUMIFS(shukei!$C:$C,shukei!$B:$B,\"=\"&getsuji!$B32,shukei!$A:$A,TEXT(Z$2,\"yyyymm\"))","v":0},{"$f":"SUMIFS(shukei!$C:$C,shukei!$B:$B,\"=\"&getsuji!$B32,shukei!$A:$A,TEXT(AA$2,\"yyyymm\"))","v":0},{"$f":"SUMIFS(shukei!$C:$C,shukei!$B:$B,\"=\"&getsuji!$B32,shukei!$A:$A,TEXT(AB$2,\"yyyymm\"))","v":0},{"$f":"SUMIFS(shukei!$C:$C,shukei!$B:$B,\"=\"&getsuji!$B32,shukei!$A:$A,TEXT(AC$2,\"yyyy\")&\"13\")","v":0},{"$f":"SUMIFS(shukei!$C:$C,shukei!$B:$B,\"=\"&getsuji!$B32,shukei!$A:$A,TEXT(AD$2,\"yyyymm\"))","v":0},{"$f":"SUMIFS(shukei!$C:$C,shukei!$B:$B,\"=\"&getsuji!$B32,shukei!$A:$A,TEXT(AE$2,\"yyyymm\"))","v":0},{"$f":"SUMIFS(shukei!$C:$C,shukei!$B:$B,\"=\"&getsuji!$B32,shukei!$A:$A,TEXT(AF$2,\"yyyymm\"))","v":0},{"$f":"SUMIFS(shukei!$C:$C,shukei!$B:$B,\"=\"&getsuji!$B32,shukei!$A:$A,TEXT(AG$2,\"yyyymm\"))","v":0},{"$f":"SUMIFS(shukei!$C:$C,shukei!$B:$B,\"=\"&getsuji!$B32,shukei!$A:$A,TEXT(AH$2,\"yyyymm\"))","v":0},{"$f":"SUMIFS(shukei!$C:$C,shukei!$B:$B,\"=\"&getsuji!$B32,shukei!$A:$A,TEXT(AI$2,\"yyyymm\"))","v":0},{"$f":"SUMIFS(shukei!$C:$C,shukei!$B:$B,\"=\"&getsuji!$B32,shukei!$A:$A,TEXT(AJ$2,\"yyyymm\"))","v":0},{"$f":"SUMIFS(shukei!$C:$C,shukei!$B:$B,\"=\"&getsuji!$B32,shukei!$A:$A,TEXT(AK$2,\"yyyymm\"))","v":0},{"$f":"SUMIFS(shukei!$C:$C,shukei!$B:$B,\"=\"&getsuji!$B32,shukei!$A:$A,TEXT(AL$2,\"yyyymm\"))","v":0},{"$f":"SUMIFS(shukei!$C:$C,shukei!$B:$B,\"=\"&getsuji!$B32,shukei!$A:$A,TEXT(AM$2,\"yyyymm\"))","v":0},{"$f":"SUMIFS(shukei!$C:$C,shukei!$B:$B,\"=\"&getsuji!$B32,shukei!$A:$A,TEXT(AN$2,\"yyyymm\"))","v":0},{"$f":"SUMIFS(shukei!$C:$C,shukei!$B:$B,\"=\"&getsuji!$B32,shukei!$A:$A,TEXT(AO$2,\"yyyymm\"))","v":0},{"$f":"SUMIFS(shukei!$C:$C,shukei!$B:$B,\"=\"&getsuji!$B32,shukei!$A:$A,TEXT(AP$2,\"yyyy\")&\"13\")","v":0}]
[null,null,null,{"$f":"SUMIFS(shukei!$C:$C,shukei!$B:$B,\"=\"&getsuji!$B33,shukei!$A:$A,TEXT(D$2,\"yyyymm\"))","v":0},{"$f":"SUMIFS(shukei!$C:$C,shukei!$B:$B,\"=\"&getsuji!$B33,shukei!$A:$A,TEXT(E$2,\"yyyymm\"))","v":0},{"$f":"SUMIFS(shukei!$C:$C,shukei!$B:$B,\"=\"&getsuji!$B33,shukei!$A:$A,TEXT(F$2,\"yyyymm\"))","v":0},{"$f":"SUMIFS(shukei!$C:$C,shukei!$B:$B,\"=\"&getsuji!$B33,shukei!$A:$A,TEXT(G$2,\"yyyymm\"))","v":0},{"$f":"SUMIFS(shukei!$C:$C,shukei!$B:$B,\"=\"&getsuji!$B33,shukei!$A:$A,TEXT(H$2,\"yyyymm\"))","v":0},{"$f":"SUMIFS(shukei!$C:$C,shukei!$B:$B,\"=\"&getsuji!$B33,shukei!$A:$A,TEXT(I$2,\"yyyymm\"))","v":0},{"$f":"SUMIFS(shukei!$C:$C,shukei!$B:$B,\"=\"&getsuji!$B33,shukei!$A:$A,TEXT(J$2,\"yyyymm\"))","v":0},{"$f":"SUMIFS(shukei!$C:$C,shukei!$B:$B,\"=\"&getsuji!$B33,shukei!$A:$A,TEXT(K$2,\"yyyymm\"))","v":0},{"$f":"SUMIFS(shukei!$C:$C,shukei!$B:$B,\"=\"&getsuji!$B33,shukei!$A:$A,TEXT(L$2,\"yyyymm\"))","v":0},{"$f":"SUMIFS(shukei!$C:$C,shukei!$B:$B,\"=\"&getsuji!$B33,shukei!$A:$A,TEXT(M$2,\"yyyymm\"))","v":0},{"$f":"SUMIFS(shukei!$C:$C,shukei!$B:$B,\"=\"&getsuji!$B33,shukei!$A:$A,TEXT(N$2,\"yyyymm\"))","v":0},{"$f":"SUMIFS(shukei!$C:$C,shukei!$B:$B,\"=\"&getsuji!$B33,shukei!$A:$A,TEXT(O$2,\"yyyymm\"))","v":0},{"$f":"SUMIFS(shukei!$C:$C,shukei!$B:$B,\"=\"&getsuji!$B33,shukei!$A:$A,TEXT(P$2,\"yyyy\")&\"13\")","v":0},{"$f":"SUMIFS(shukei!$C:$C,shukei!$B:$B,\"=\"&getsuji!$B33,shukei!$A:$A,TEXT(Q$2,\"yyyymm\"))","v":0},{"$f":"SUMIFS(shukei!$C:$C,shukei!$B:$B,\"=\"&getsuji!$B33,shukei!$A:$A,TEXT(R$2,\"yyyymm\"))","v":0},{"$f":"SUMIFS(shukei!$C:$C,shukei!$B:$B,\"=\"&getsuji!$B33,shukei!$A:$A,TEXT(S$2,\"yyyymm\"))","v":0},{"$f":"SUMIFS(shukei!$C:$C,shukei!$B:$B,\"=\"&getsuji!$B33,shukei!$A:$A,TEXT(T$2,\"yyyymm\"))","v":0},{"$f":"SUMIFS(shukei!$C:$C,shukei!$B:$B,\"=\"&getsuji!$B33,shukei!$A:$A,TEXT(U$2,\"yyyymm\"))","v":0},{"$f":"SUMIFS(shukei!$C:$C,shukei!$B:$B,\"=\"&getsuji!$B33,shukei!$A:$A,TEXT(V$2,\"yyyymm\"))","v":0},{"$f":"SUMIFS(shukei!$C:$C,shukei!$B:$B,\"=\"&getsuji!$B33,shukei!$A:$A,TEXT(W$2,\"yyyymm\"))","v":0},{"$f":"SUMIFS(shukei!$C:$C,shukei!$B:$B,\"=\"&getsuji!$B33,shukei!$A:$A,TEXT(X$2,\"yyyymm\"))","v":0},{"$f":"SUMIFS(shukei!$C:$C,shukei!$B:$B,\"=\"&getsuji!$B33,shukei!$A:$A,TEXT(Y$2,\"yyyymm\"))","v":0},{"$f":"SUMIFS(shukei!$C:$C,shukei!$B:$B,\"=\"&getsuji!$B33,shukei!$A:$A,TEXT(Z$2,\"yyyymm\"))","v":0},{"$f":"SUMIFS(shukei!$C:$C,shukei!$B:$B,\"=\"&getsuji!$B33,shukei!$A:$A,TEXT(AA$2,\"yyyymm\"))","v":0},{"$f":"SUMIFS(shukei!$C:$C,shukei!$B:$B,\"=\"&getsuji!$B33,shukei!$A:$A,TEXT(AB$2,\"yyyymm\"))","v":0},{"$f":"SUMIFS(shukei!$C:$C,shukei!$B:$B,\"=\"&getsuji!$B33,shukei!$A:$A,TEXT(AC$2,\"yyyy\")&\"13\")","v":0},{"$f":"SUMIFS(shukei!$C:$C,shukei!$B:$B,\"=\"&getsuji!$B33,shukei!$A:$A,TEXT(AD$2,\"yyyymm\"))","v":0},{"$f":"SUMIFS(shukei!$C:$C,shukei!$B:$B,\"=\"&getsuji!$B33,shukei!$A:$A,TEXT(AE$2,\"yyyymm\"))","v":0},{"$f":"SUMIFS(shukei!$C:$C,shukei!$B:$B,\"=\"&getsuji!$B33,shukei!$A:$A,TEXT(AF$2,\"yyyymm\"))","v":0},{"$f":"SUMIFS(shukei!$C:$C,shukei!$B:$B,\"=\"&getsuji!$B33,shukei!$A:$A,TEXT(AG$2,\"yyyymm\"))","v":0},{"$f":"SUMIFS(shukei!$C:$C,shukei!$B:$B,\"=\"&getsuji!$B33,shukei!$A:$A,TEXT(AH$2,\"yyyymm\"))","v":0},{"$f":"SUMIFS(shukei!$C:$C,shukei!$B:$B,\"=\"&getsuji!$B33,shukei!$A:$A,TEXT(AI$2,\"yyyymm\"))","v":0},{"$f":"SUMIFS(shukei!$C:$C,shukei!$B:$B,\"=\"&getsuji!$B33,shukei!$A:$A,TEXT(AJ$2,\"yyyymm\"))","v":0},{"$f":"SUMIFS(shukei!$C:$C,shukei!$B:$B,\"=\"&getsuji!$B33,shukei!$A:$A,TEXT(AK$2,\"yyyymm\"))","v":0},{"$f":"SUMIFS(shukei!$C:$C,shukei!$B:$B,\"=\"&getsuji!$B33,shukei!$A:$A,TEXT(AL$2,\"yyyymm\"))","v":0},{"$f":"SUMIFS(shukei!$C:$C,shukei!$B:$B,\"=\"&getsuji!$B33,shukei!$A:$A,TEXT(AM$2,\"yyyymm\"))","v":0},{"$f":"SUMIFS(shukei!$C:$C,shukei!$B:$B,\"=\"&getsuji!$B33,shukei!$A:$A,TEXT(AN$2,\"yyyymm\"))","v":0},{"$f":"SUMIFS(shukei!$C:$C,shukei!$B:$B,\"=\"&getsuji!$B33,shukei!$A:$A,TEXT(AO$2,\"yyyymm\"))","v":0},{"$f":"SUMIFS(shukei!$C:$C,shukei!$B:$B,\"=\"&getsuji!$B33,shukei!$A:$A,TEXT(AP$2,\"yyyy\")&\"13\")","v":0}]
[null,null,null,{"$f":"SUMIFS(shukei!$C:$C,shukei!$B:$B,\"=\"&getsuji!$B34,shukei!$A:$A,TEXT(D$2,\"yyyymm\"))","v":0},{"$f":"SUMIFS(shukei!$C:$C,shukei!$B:$B,\"=\"&getsuji!$B34,shukei!$A:$A,TEXT(E$2,\"yyyymm\"))","v":0},{"$f":"SUMIFS(shukei!$C:$C,shukei!$B:$B,\"=\"&getsuji!$B34,shukei!$A:$A,TEXT(F$2,\"yyyymm\"))","v":0},{"$f":"SUMIFS(shukei!$C:$C,shukei!$B:$B,\"=\"&getsuji!$B34,shukei!$A:$A,TEXT(G$2,\"yyyymm\"))","v":0},{"$f":"SUMIFS(shukei!$C:$C,shukei!$B:$B,\"=\"&getsuji!$B34,shukei!$A:$A,TEXT(H$2,\"yyyymm\"))","v":0},{"$f":"SUMIFS(shukei!$C:$C,shukei!$B:$B,\"=\"&getsuji!$B34,shukei!$A:$A,TEXT(I$2,\"yyyymm\"))","v":0},{"$f":"SUMIFS(shukei!$C:$C,shukei!$B:$B,\"=\"&getsuji!$B34,shukei!$A:$A,TEXT(J$2,\"yyyymm\"))","v":0},{"$f":"SUMIFS(shukei!$C:$C,shukei!$B:$B,\"=\"&getsuji!$B34,shukei!$A:$A,TEXT(K$2,\"yyyymm\"))","v":0},{"$f":"SUMIFS(shukei!$C:$C,shukei!$B:$B,\"=\"&getsuji!$B34,shukei!$A:$A,TEXT(L$2,\"yyyymm\"))","v":0},{"$f":"SUMIFS(shukei!$C:$C,shukei!$B:$B,\"=\"&getsuji!$B34,shukei!$A:$A,TEXT(M$2,\"yyyymm\"))","v":0},{"$f":"SUMIFS(shukei!$C:$C,shukei!$B:$B,\"=\"&getsuji!$B34,shukei!$A:$A,TEXT(N$2,\"yyyymm\"))","v":0},{"$f":"SUMIFS(shukei!$C:$C,shukei!$B:$B,\"=\"&getsuji!$B34,shukei!$A:$A,TEXT(O$2,\"yyyymm\"))","v":0},{"$f":"SUMIFS(shukei!$C:$C,shukei!$B:$B,\"=\"&getsuji!$B34,shukei!$A:$A,TEXT(P$2,\"yyyy\")&\"13\")","v":0},{"$f":"SUMIFS(shukei!$C:$C,shukei!$B:$B,\"=\"&getsuji!$B34,shukei!$A:$A,TEXT(Q$2,\"yyyymm\"))","v":0},{"$f":"SUMIFS(shukei!$C:$C,shukei!$B:$B,\"=\"&getsuji!$B34,shukei!$A:$A,TEXT(R$2,\"yyyymm\"))","v":0},{"$f":"SUMIFS(shukei!$C:$C,shukei!$B:$B,\"=\"&getsuji!$B34,shukei!$A:$A,TEXT(S$2,\"yyyymm\"))","v":0},{"$f":"SUMIFS(shukei!$C:$C,shukei!$B:$B,\"=\"&getsuji!$B34,shukei!$A:$A,TEXT(T$2,\"yyyymm\"))","v":0},{"$f":"SUMIFS(shukei!$C:$C,shukei!$B:$B,\"=\"&getsuji!$B34,shukei!$A:$A,TEXT(U$2,\"yyyymm\"))","v":0},{"$f":"SUMIFS(shukei!$C:$C,shukei!$B:$B,\"=\"&getsuji!$B34,shukei!$A:$A,TEXT(V$2,\"yyyymm\"))","v":0},{"$f":"SUMIFS(shukei!$C:$C,shukei!$B:$B,\"=\"&getsuji!$B34,shukei!$A:$A,TEXT(W$2,\"yyyymm\"))","v":0},{"$f":"SUMIFS(shukei!$C:$C,shukei!$B:$B,\"=\"&getsuji!$B34,shukei!$A:$A,TEXT(X$2,\"yyyymm\"))","v":0},{"$f":"SUMIFS(shukei!$C:$C,shukei!$B:$B,\"=\"&getsuji!$B34,shukei!$A:$A,TEXT(Y$2,\"yyyymm\"))","v":0},{"$f":"SUMIFS(shukei!$C:$C,shukei!$B:$B,\"=\"&getsuji!$B34,shukei!$A:$A,TEXT(Z$2,\"yyyymm\"))","v":0},{"$f":"SUMIFS(shukei!$C:$C,shukei!$B:$B,\"=\"&getsuji!$B34,shukei!$A:$A,TEXT(AA$2,\"yyyymm\"))","v":0},{"$f":"SUMIFS(shukei!$C:$C,shukei!$B:$B,\"=\"&getsuji!$B34,shukei!$A:$A,TEXT(AB$2,\"yyyymm\"))","v":0},{"$f":"SUMIFS(shukei!$C:$C,shukei!$B:$B,\"=\"&getsuji!$B34,shukei!$A:$A,TEXT(AC$2,\"yyyy\")&\"13\")","v":0},{"$f":"SUMIFS(shukei!$C:$C,shukei!$B:$B,\"=\"&getsuji!$B34,shukei!$A:$A,TEXT(AD$2,\"yyyymm\"))","v":0},{"$f":"SUMIFS(shukei!$C:$C,shukei!$B:$B,\"=\"&getsuji!$B34,shukei!$A:$A,TEXT(AE$2,\"yyyymm\"))","v":0},{"$f":"SUMIFS(shukei!$C:$C,shukei!$B:$B,\"=\"&getsuji!$B34,shukei!$A:$A,TEXT(AF$2,\"yyyymm\"))","v":0},{"$f":"SUMIFS(shukei!$C:$C,shukei!$B:$B,\"=\"&getsuji!$B34,shukei!$A:$A,TEXT(AG$2,\"yyyymm\"))","v":0},{"$f":"SUMIFS(shukei!$C:$C,shukei!$B:$B,\"=\"&getsuji!$B34,shukei!$A:$A,TEXT(AH$2,\"yyyymm\"))","v":0},{"$f":"SUMIFS(shukei!$C:$C,shukei!$B:$B,\"=\"&getsuji!$B34,shukei!$A:$A,TEXT(AI$2,\"yyyymm\"))","v":0},{"$f":"SUMIFS(shukei!$C:$C,shukei!$B:$B,\"=\"&getsuji!$B34,shukei!$A:$A,TEXT(AJ$2,\"yyyymm\"))","v":0},{"$f":"SUMIFS(shukei!$C:$C,shukei!$B:$B,\"=\"&getsuji!$B34,shukei!$A:$A,TEXT(AK$2,\"yyyymm\"))","v":0},{"$f":"SUMIFS(shukei!$C:$C,shukei!$B:$B,\"=\"&getsuji!$B34,shukei!$A:$A,TEXT(AL$2,\"yyyymm\"))","v":0},{"$f":"SUMIFS(shukei!$C:$C,shukei!$B:$B,\"=\"&getsuji!$B34,shukei!$A:$A,TEXT(AM$2,\"yyyymm\"))","v":0},{"$f":"SUMIFS(shukei!$C:$C,shukei!$B:$B,\"=\"&getsuji!$B34,shukei!$A:$A,TEXT(AN$2,\"yyyymm\"))","v":0},{"$f":"SUMIFS(shukei!$C:$C,shukei!$B:$B,\"=\"&getsuji!$B34,shukei!$A:$A,TEXT(AO$2,\"yyyymm\"))","v":0},{"$f":"SUMIFS(shukei!$C:$C,shukei!$B:$B,\"=\"&getsuji!$B34,shukei!$A:$A,TEXT(AP$2,\"yyyy\")&\"13\")","v":0}]
[null,null,null,{"$f":"SUMIFS(shukei!$C:$C,shukei!$B:$B,\"=\"&getsuji!$B35,shukei!$A:$A,TEXT(D$2,\"yyyymm\"))","v":0},{"$f":"SUMIFS(shukei!$C:$C,shukei!$B:$B,\"=\"&getsuji!$B35,shukei!$A:$A,TEXT(E$2,\"yyyymm\"))","v":0},{"$f":"SUMIFS(shukei!$C:$C,shukei!$B:$B,\"=\"&getsuji!$B35,shukei!$A:$A,TEXT(F$2,\"yyyymm\"))","v":0},{"$f":"SUMIFS(shukei!$C:$C,shukei!$B:$B,\"=\"&getsuji!$B35,shukei!$A:$A,TEXT(G$2,\"yyyymm\"))","v":0},{"$f":"SUMIFS(shukei!$C:$C,shukei!$B:$B,\"=\"&getsuji!$B35,shukei!$A:$A,TEXT(H$2,\"yyyymm\"))","v":0},{"$f":"SUMIFS(shukei!$C:$C,shukei!$B:$B,\"=\"&getsuji!$B35,shukei!$A:$A,TEXT(I$2,\"yyyymm\"))","v":0},{"$f":"SUMIFS(shukei!$C:$C,shukei!$B:$B,\"=\"&getsuji!$B35,shukei!$A:$A,TEXT(J$2,\"yyyymm\"))","v":0},{"$f":"SUMIFS(shukei!$C:$C,shukei!$B:$B,\"=\"&getsuji!$B35,shukei!$A:$A,TEXT(K$2,\"yyyymm\"))","v":0},{"$f":"SUMIFS(shukei!$C:$C,shukei!$B:$B,\"=\"&getsuji!$B35,shukei!$A:$A,TEXT(L$2,\"yyyymm\"))","v":0},{"$f":"SUMIFS(shukei!$C:$C,shukei!$B:$B,\"=\"&getsuji!$B35,shukei!$A:$A,TEXT(M$2,\"yyyymm\"))","v":0},{"$f":"SUMIFS(shukei!$C:$C,shukei!$B:$B,\"=\"&getsuji!$B35,shukei!$A:$A,TEXT(N$2,\"yyyymm\"))","v":0},{"$f":"SUMIFS(shukei!$C:$C,shukei!$B:$B,\"=\"&getsuji!$B35,shukei!$A:$A,TEXT(O$2,\"yyyymm\"))","v":0},{"$f":"SUMIFS(shukei!$C:$C,shukei!$B:$B,\"=\"&getsuji!$B35,shukei!$A:$A,TEXT(P$2,\"yyyy\")&\"13\")","v":0},{"$f":"SUMIFS(shukei!$C:$C,shukei!$B:$B,\"=\"&getsuji!$B35,shukei!$A:$A,TEXT(Q$2,\"yyyymm\"))","v":0},{"$f":"SUMIFS(shukei!$C:$C,shukei!$B:$B,\"=\"&getsuji!$B35,shukei!$A:$A,TEXT(R$2,\"yyyymm\"))","v":0},{"$f":"SUMIFS(shukei!$C:$C,shukei!$B:$B,\"=\"&getsuji!$B35,shukei!$A:$A,TEXT(S$2,\"yyyymm\"))","v":0},{"$f":"SUMIFS(shukei!$C:$C,shukei!$B:$B,\"=\"&getsuji!$B35,shukei!$A:$A,TEXT(T$2,\"yyyymm\"))","v":0},{"$f":"SUMIFS(shukei!$C:$C,shukei!$B:$B,\"=\"&getsuji!$B35,shukei!$A:$A,TEXT(U$2,\"yyyymm\"))","v":0},{"$f":"SUMIFS(shukei!$C:$C,shukei!$B:$B,\"=\"&getsuji!$B35,shukei!$A:$A,TEXT(V$2,\"yyyymm\"))","v":0},{"$f":"SUMIFS(shukei!$C:$C,shukei!$B:$B,\"=\"&getsuji!$B35,shukei!$A:$A,TEXT(W$2,\"yyyymm\"))","v":0},{"$f":"SUMIFS(shukei!$C:$C,shukei!$B:$B,\"=\"&getsuji!$B35,shukei!$A:$A,TEXT(X$2,\"yyyymm\"))","v":0},{"$f":"SUMIFS(shukei!$C:$C,shukei!$B:$B,\"=\"&getsuji!$B35,shukei!$A:$A,TEXT(Y$2,\"yyyymm\"))","v":0},{"$f":"SUMIFS(shukei!$C:$C,shukei!$B:$B,\"=\"&getsuji!$B35,shukei!$A:$A,TEXT(Z$2,\"yyyymm\"))","v":0},{"$f":"SUMIFS(shukei!$C:$C,shukei!$B:$B,\"=\"&getsuji!$B35,shukei!$A:$A,TEXT(AA$2,\"yyyymm\"))","v":0},{"$f":"SUMIFS(shukei!$C:$C,shukei!$B:$B,\"=\"&getsuji!$B35,shukei!$A:$A,TEXT(AB$2,\"yyyymm\"))","v":0},{"$f":"SUMIFS(shukei!$C:$C,shukei!$B:$B,\"=\"&getsuji!$B35,shukei!$A:$A,TEXT(AC$2,\"yyyy\")&\"13\")","v":0},{"$f":"SUMIFS(shukei!$C:$C,shukei!$B:$B,\"=\"&getsuji!$B35,shukei!$A:$A,TEXT(AD$2,\"yyyymm\"))","v":0},{"$f":"SUMIFS(shukei!$C:$C,shukei!$B:$B,\"=\"&getsuji!$B35,shukei!$A:$A,TEXT(AE$2,\"yyyymm\"))","v":0},{"$f":"SUMIFS(shukei!$C:$C,shukei!$B:$B,\"=\"&getsuji!$B35,shukei!$A:$A,TEXT(AF$2,\"yyyymm\"))","v":0},{"$f":"SUMIFS(shukei!$C:$C,shukei!$B:$B,\"=\"&getsuji!$B35,shukei!$A:$A,TEXT(AG$2,\"yyyymm\"))","v":0},{"$f":"SUMIFS(shukei!$C:$C,shukei!$B:$B,\"=\"&getsuji!$B35,shukei!$A:$A,TEXT(AH$2,\"yyyymm\"))","v":0},{"$f":"SUMIFS(shukei!$C:$C,shukei!$B:$B,\"=\"&getsuji!$B35,shukei!$A:$A,TEXT(AI$2,\"yyyymm\"))","v":0},{"$f":"SUMIFS(shukei!$C:$C,shukei!$B:$B,\"=\"&getsuji!$B35,shukei!$A:$A,TEXT(AJ$2,\"yyyymm\"))","v":0},{"$f":"SUMIFS(shukei!$C:$C,shukei!$B:$B,\"=\"&getsuji!$B35,shukei!$A:$A,TEXT(AK$2,\"yyyymm\"))","v":0},{"$f":"SUMIFS(shukei!$C:$C,shukei!$B:$B,\"=\"&getsuji!$B35,shukei!$A:$A,TEXT(AL$2,\"yyyymm\"))","v":0},{"$f":"SUMIFS(shukei!$C:$C,shukei!$B:$B,\"=\"&getsuji!$B35,shukei!$A:$A,TEXT(AM$2,\"yyyymm\"))","v":0},{"$f":"SUMIFS(shukei!$C:$C,shukei!$B:$B,\"=\"&getsuji!$B35,shukei!$A:$A,TEXT(AN$2,\"yyyymm\"))","v":0},{"$f":"SUMIFS(shukei!$C:$C,shukei!$B:$B,\"=\"&getsuji!$B35,shukei!$A:$A,TEXT(AO$2,\"yyyymm\"))","v":0},{"$f":"SUMIFS(shukei!$C:$C,shukei!$B:$B,\"=\"&getsuji!$B35,shukei!$A:$A,TEXT(AP$2,\"yyyy\")&\"13\")","v":0}]
[null,null,null,{"$f":"SUMIFS(shukei!$C:$C,shukei!$B:$B,\"=\"&getsuji!$B36,shukei!$A:$A,TEXT(D$2,\"yyyymm\"))","v":0},{"$f":"SUMIFS(shukei!$C:$C,shukei!$B:$B,\"=\"&getsuji!$B36,shukei!$A:$A,TEXT(E$2,\"yyyymm\"))","v":0},{"$f":"SUMIFS(shukei!$C:$C,shukei!$B:$B,\"=\"&getsuji!$B36,shukei!$A:$A,TEXT(F$2,\"yyyymm\"))","v":0},{"$f":"SUMIFS(shukei!$C:$C,shukei!$B:$B,\"=\"&getsuji!$B36,shukei!$A:$A,TEXT(G$2,\"yyyymm\"))","v":0},{"$f":"SUMIFS(shukei!$C:$C,shukei!$B:$B,\"=\"&getsuji!$B36,shukei!$A:$A,TEXT(H$2,\"yyyymm\"))","v":0},{"$f":"SUMIFS(shukei!$C:$C,shukei!$B:$B,\"=\"&getsuji!$B36,shukei!$A:$A,TEXT(I$2,\"yyyymm\"))","v":0},{"$f":"SUMIFS(shukei!$C:$C,shukei!$B:$B,\"=\"&getsuji!$B36,shukei!$A:$A,TEXT(J$2,\"yyyymm\"))","v":0},{"$f":"SUMIFS(shukei!$C:$C,shukei!$B:$B,\"=\"&getsuji!$B36,shukei!$A:$A,TEXT(K$2,\"yyyymm\"))","v":0},{"$f":"SUMIFS(shukei!$C:$C,shukei!$B:$B,\"=\"&getsuji!$B36,shukei!$A:$A,TEXT(L$2,\"yyyymm\"))","v":0},{"$f":"SUMIFS(shukei!$C:$C,shukei!$B:$B,\"=\"&getsuji!$B36,shukei!$A:$A,TEXT(M$2,\"yyyymm\"))","v":0},{"$f":"SUMIFS(shukei!$C:$C,shukei!$B:$B,\"=\"&getsuji!$B36,shukei!$A:$A,TEXT(N$2,\"yyyymm\"))","v":0},{"$f":"SUMIFS(shukei!$C:$C,shukei!$B:$B,\"=\"&getsuji!$B36,shukei!$A:$A,TEXT(O$2,\"yyyymm\"))","v":0},{"$f":"SUMIFS(shukei!$C:$C,shukei!$B:$B,\"=\"&getsuji!$B36,shukei!$A:$A,TEXT(P$2,\"yyyy\")&\"13\")","v":0},{"$f":"SUMIFS(shukei!$C:$C,shukei!$B:$B,\"=\"&getsuji!$B36,shukei!$A:$A,TEXT(Q$2,\"yyyymm\"))","v":0},{"$f":"SUMIFS(shukei!$C:$C,shukei!$B:$B,\"=\"&getsuji!$B36,shukei!$A:$A,TEXT(R$2,\"yyyymm\"))","v":0},{"$f":"SUMIFS(shukei!$C:$C,shukei!$B:$B,\"=\"&getsuji!$B36,shukei!$A:$A,TEXT(S$2,\"yyyymm\"))","v":0},{"$f":"SUMIFS(shukei!$C:$C,shukei!$B:$B,\"=\"&getsuji!$B36,shukei!$A:$A,TEXT(T$2,\"yyyymm\"))","v":0},{"$f":"SUMIFS(shukei!$C:$C,shukei!$B:$B,\"=\"&getsuji!$B36,shukei!$A:$A,TEXT(U$2,\"yyyymm\"))","v":0},{"$f":"SUMIFS(shukei!$C:$C,shukei!$B:$B,\"=\"&getsuji!$B36,shukei!$A:$A,TEXT(V$2,\"yyyymm\"))","v":0},{"$f":"SUMIFS(shukei!$C:$C,shukei!$B:$B,\"=\"&getsuji!$B36,shukei!$A:$A,TEXT(W$2,\"yyyymm\"))","v":0},{"$f":"SUMIFS(shukei!$C:$C,shukei!$B:$B,\"=\"&getsuji!$B36,shukei!$A:$A,TEXT(X$2,\"yyyymm\"))","v":0},{"$f":"SUMIFS(shukei!$C:$C,shukei!$B:$B,\"=\"&getsuji!$B36,shukei!$A:$A,TEXT(Y$2,\"yyyymm\"))","v":0},{"$f":"SUMIFS(shukei!$C:$C,shukei!$B:$B,\"=\"&getsuji!$B36,shukei!$A:$A,TEXT(Z$2,\"yyyymm\"))","v":0},{"$f":"SUMIFS(shukei!$C:$C,shukei!$B:$B,\"=\"&getsuji!$B36,shukei!$A:$A,TEXT(AA$2,\"yyyymm\"))","v":0},{"$f":"SUMIFS(shukei!$C:$C,shukei!$B:$B,\"=\"&getsuji!$B36,shukei!$A:$A,TEXT(AB$2,\"yyyymm\"))","v":0},{"$f":"SUMIFS(shukei!$C:$C,shukei!$B:$B,\"=\"&getsuji!$B36,shukei!$A:$A,TEXT(AC$2,\"yyyy\")&\"13\")","v":0},{"$f":"SUMIFS(shukei!$C:$C,shukei!$B:$B,\"=\"&getsuji!$B36,shukei!$A:$A,TEXT(AD$2,\"yyyymm\"))","v":0},{"$f":"SUMIFS(shukei!$C:$C,shukei!$B:$B,\"=\"&getsuji!$B36,shukei!$A:$A,TEXT(AE$2,\"yyyymm\"))","v":0},{"$f":"SUMIFS(shukei!$C:$C,shukei!$B:$B,\"=\"&getsuji!$B36,shukei!$A:$A,TEXT(AF$2,\"yyyymm\"))","v":0},{"$f":"SUMIFS(shukei!$C:$C,shukei!$B:$B,\"=\"&getsuji!$B36,shukei!$A:$A,TEXT(AG$2,\"yyyymm\"))","v":0},{"$f":"SUMIFS(shukei!$C:$C,shukei!$B:$B,\"=\"&getsuji!$B36,shukei!$A:$A,TEXT(AH$2,\"yyyymm\"))","v":0},{"$f":"SUMIFS(shukei!$C:$C,shukei!$B:$B,\"=\"&getsuji!$B36,shukei!$A:$A,TEXT(AI$2,\"yyyymm\"))","v":0},{"$f":"SUMIFS(shukei!$C:$C,shukei!$B:$B,\"=\"&getsuji!$B36,shukei!$A:$A,TEXT(AJ$2,\"yyyymm\"))","v":0},{"$f":"SUMIFS(shukei!$C:$C,shukei!$B:$B,\"=\"&getsuji!$B36,shukei!$A:$A,TEXT(AK$2,\"yyyymm\"))","v":0},{"$f":"SUMIFS(shukei!$C:$C,shukei!$B:$B,\"=\"&getsuji!$B36,shukei!$A:$A,TEXT(AL$2,\"yyyymm\"))","v":0},{"$f":"SUMIFS(shukei!$C:$C,shukei!$B:$B,\"=\"&getsuji!$B36,shukei!$A:$A,TEXT(AM$2,\"yyyymm\"))","v":0},{"$f":"SUMIFS(shukei!$C:$C,shukei!$B:$B,\"=\"&getsuji!$B36,shukei!$A:$A,TEXT(AN$2,\"yyyymm\"))","v":0},{"$f":"SUMIFS(shukei!$C:$C,shukei!$B:$B,\"=\"&getsuji!$B36,shukei!$A:$A,TEXT(AO$2,\"yyyymm\"))","v":0},{"$f":"SUMIFS(shukei!$C:$C,shukei!$B:$B,\"=\"&getsuji!$B36,shukei!$A:$A,TEXT(AP$2,\"yyyy\")&\"13\")","v":0}]
[null,null,null,{"$f":"SUMIFS(shukei!$C:$C,shukei!$B:$B,\"=\"&getsuji!$B37,shukei!$A:$A,TEXT(D$2,\"yyyymm\"))","v":0},{"$f":"SUMIFS(shukei!$C:$C,shukei!$B:$B,\"=\"&getsuji!$B37,shukei!$A:$A,TEXT(E$2,\"yyyymm\"))","v":0},{"$f":"SUMIFS(shukei!$C:$C,shukei!$B:$B,\"=\"&getsuji!$B37,shukei!$A:$A,TEXT(F$2,\"yyyymm\"))","v":0},{"$f":"SUMIFS(shukei!$C:$C,shukei!$B:$B,\"=\"&getsuji!$B37,shukei!$A:$A,TEXT(G$2,\"yyyymm\"))","v":0},{"$f":"SUMIFS(shukei!$C:$C,shukei!$B:$B,\"=\"&getsuji!$B37,shukei!$A:$A,TEXT(H$2,\"yyyymm\"))","v":0},{"$f":"SUMIFS(shukei!$C:$C,shukei!$B:$B,\"=\"&getsuji!$B37,shukei!$A:$A,TEXT(I$2,\"yyyymm\"))","v":0},{"$f":"SUMIFS(shukei!$C:$C,shukei!$B:$B,\"=\"&getsuji!$B37,shukei!$A:$A,TEXT(J$2,\"yyyymm\"))","v":0},{"$f":"SUMIFS(shukei!$C:$C,shukei!$B:$B,\"=\"&getsuji!$B37,shukei!$A:$A,TEXT(K$2,\"yyyymm\"))","v":0},{"$f":"SUMIFS(shukei!$C:$C,shukei!$B:$B,\"=\"&getsuji!$B37,shukei!$A:$A,TEXT(L$2,\"yyyymm\"))","v":0},{"$f":"SUMIFS(shukei!$C:$C,shukei!$B:$B,\"=\"&getsuji!$B37,shukei!$A:$A,TEXT(M$2,\"yyyymm\"))","v":0},{"$f":"SUMIFS(shukei!$C:$C,shukei!$B:$B,\"=\"&getsuji!$B37,shukei!$A:$A,TEXT(N$2,\"yyyymm\"))","v":0},{"$f":"SUMIFS(shukei!$C:$C,shukei!$B:$B,\"=\"&getsuji!$B37,shukei!$A:$A,TEXT(O$2,\"yyyymm\"))","v":0},{"$f":"SUMIFS(shukei!$C:$C,shukei!$B:$B,\"=\"&getsuji!$B37,shukei!$A:$A,TEXT(P$2,\"yyyy\")&\"13\")","v":0},{"$f":"SUMIFS(shukei!$C:$C,shukei!$B:$B,\"=\"&getsuji!$B37,shukei!$A:$A,TEXT(Q$2,\"yyyymm\"))","v":0},{"$f":"SUMIFS(shukei!$C:$C,shukei!$B:$B,\"=\"&getsuji!$B37,shukei!$A:$A,TEXT(R$2,\"yyyymm\"))","v":0},{"$f":"SUMIFS(shukei!$C:$C,shukei!$B:$B,\"=\"&getsuji!$B37,shukei!$A:$A,TEXT(S$2,\"yyyymm\"))","v":0},{"$f":"SUMIFS(shukei!$C:$C,shukei!$B:$B,\"=\"&getsuji!$B37,shukei!$A:$A,TEXT(T$2,\"yyyymm\"))","v":0},{"$f":"SUMIFS(shukei!$C:$C,shukei!$B:$B,\"=\"&getsuji!$B37,shukei!$A:$A,TEXT(U$2,\"yyyymm\"))","v":0},{"$f":"SUMIFS(shukei!$C:$C,shukei!$B:$B,\"=\"&getsuji!$B37,shukei!$A:$A,TEXT(V$2,\"yyyymm\"))","v":0},{"$f":"SUMIFS(shukei!$C:$C,shukei!$B:$B,\"=\"&getsuji!$B37,shukei!$A:$A,TEXT(W$2,\"yyyymm\"))","v":0},{"$f":"SUMIFS(shukei!$C:$C,shukei!$B:$B,\"=\"&getsuji!$B37,shukei!$A:$A,TEXT(X$2,\"yyyymm\"))","v":0},{"$f":"SUMIFS(shukei!$C:$C,shukei!$B:$B,\"=\"&getsuji!$B37,shukei!$A:$A,TEXT(Y$2,\"yyyymm\"))","v":0},{"$f":"SUMIFS(shukei!$C:$C,shukei!$B:$B,\"=\"&getsuji!$B37,shukei!$A:$A,TEXT(Z$2,\"yyyymm\"))","v":0},{"$f":"SUMIFS(shukei!$C:$C,shukei!$B:$B,\"=\"&getsuji!$B37,shukei!$A:$A,TEXT(AA$2,\"yyyymm\"))","v":0},{"$f":"SUMIFS(shukei!$C:$C,shukei!$B:$B,\"=\"&getsuji!$B37,shukei!$A:$A,TEXT(AB$2,\"yyyymm\"))","v":0},{"$f":"SUMIFS(shukei!$C:$C,shukei!$B:$B,\"=\"&getsuji!$B37,shukei!$A:$A,TEXT(AC$2,\"yyyy\")&\"13\")","v":0},{"$f":"SUMIFS(shukei!$C:$C,shukei!$B:$B,\"=\"&getsuji!$B37,shukei!$A:$A,TEXT(AD$2,\"yyyymm\"))","v":0},{"$f":"SUMIFS(shukei!$C:$C,shukei!$B:$B,\"=\"&getsuji!$B37,shukei!$A:$A,TEXT(AE$2,\"yyyymm\"))","v":0},{"$f":"SUMIFS(shukei!$C:$C,shukei!$B:$B,\"=\"&getsuji!$B37,shukei!$A:$A,TEXT(AF$2,\"yyyymm\"))","v":0},{"$f":"SUMIFS(shukei!$C:$C,shukei!$B:$B,\"=\"&getsuji!$B37,shukei!$A:$A,TEXT(AG$2,\"yyyymm\"))","v":0},{"$f":"SUMIFS(shukei!$C:$C,shukei!$B:$B,\"=\"&getsuji!$B37,shukei!$A:$A,TEXT(AH$2,\"yyyymm\"))","v":0},{"$f":"SUMIFS(shukei!$C:$C,shukei!$B:$B,\"=\"&getsuji!$B37,shukei!$A:$A,TEXT(AI$2,\"yyyymm\"))","v":0},{"$f":"SUMIFS(shukei!$C:$C,shukei!$B:$B,\"=\"&getsuji!$B37,shukei!$A:$A,TEXT(AJ$2,\"yyyymm\"))","v":0},{"$f":"SUMIFS(shukei!$C:$C,shukei!$B:$B,\"=\"&getsuji!$B37,shukei!$A:$A,TEXT(AK$2,\"yyyymm\"))","v":0},{"$f":"SUMIFS(shukei!$C:$C,shukei!$B:$B,\"=\"&getsuji!$B37,shukei!$A:$A,TEXT(AL$2,\"yyyymm\"))","v":0},{"$f":"SUMIFS(shukei!$C:$C,shukei!$B:$B,\"=\"&getsuji!$B37,shukei!$A:$A,TEXT(AM$2,\"yyyymm\"))","v":0},{"$f":"SUMIFS(shukei!$C:$C,shukei!$B:$B,\"=\"&getsuji!$B37,shukei!$A:$A,TEXT(AN$2,\"yyyymm\"))","v":0},{"$f":"SUMIFS(shukei!$C:$C,shukei!$B:$B,\"=\"&getsuji!$B37,shukei!$A:$A,TEXT(AO$2,\"yyyymm\"))","v":0},{"$f":"SUMIFS(shukei!$C:$C,shukei!$B:$B,\"=\"&getsuji!$B37,shukei!$A:$A,TEXT(AP$2,\"yyyy\")&\"13\")","v":0}]
[null,null,null,{"$f":"SUMIFS(shukei!$C:$C,shukei!$B:$B,\"=\"&getsuji!$B38,shukei!$A:$A,TEXT(D$2,\"yyyymm\"))","v":0},{"$f":"SUMIFS(shukei!$C:$C,shukei!$B:$B,\"=\"&getsuji!$B38,shukei!$A:$A,TEXT(E$2,\"yyyymm\"))","v":0},{"$f":"SUMIFS(shukei!$C:$C,shukei!$B:$B,\"=\"&getsuji!$B38,shukei!$A:$A,TEXT(F$2,\"yyyymm\"))","v":0},{"$f":"SUMIFS(shukei!$C:$C,shukei!$B:$B,\"=\"&getsuji!$B38,shukei!$A:$A,TEXT(G$2,\"yyyymm\"))","v":0},{"$f":"SUMIFS(shukei!$C:$C,shukei!$B:$B,\"=\"&getsuji!$B38,shukei!$A:$A,TEXT(H$2,\"yyyymm\"))","v":0},{"$f":"SUMIFS(shukei!$C:$C,shukei!$B:$B,\"=\"&getsuji!$B38,shukei!$A:$A,TEXT(I$2,\"yyyymm\"))","v":0},{"$f":"SUMIFS(shukei!$C:$C,shukei!$B:$B,\"=\"&getsuji!$B38,shukei!$A:$A,TEXT(J$2,\"yyyymm\"))","v":0},{"$f":"SUMIFS(shukei!$C:$C,shukei!$B:$B,\"=\"&getsuji!$B38,shukei!$A:$A,TEXT(K$2,\"yyyymm\"))","v":0},{"$f":"SUMIFS(shukei!$C:$C,shukei!$B:$B,\"=\"&getsuji!$B38,shukei!$A:$A,TEXT(L$2,\"yyyymm\"))","v":0},{"$f":"SUMIFS(shukei!$C:$C,shukei!$B:$B,\"=\"&getsuji!$B38,shukei!$A:$A,TEXT(M$2,\"yyyymm\"))","v":0},{"$f":"SUMIFS(shukei!$C:$C,shukei!$B:$B,\"=\"&getsuji!$B38,shukei!$A:$A,TEXT(N$2,\"yyyymm\"))","v":0},{"$f":"SUMIFS(shukei!$C:$C,shukei!$B:$B,\"=\"&getsuji!$B38,shukei!$A:$A,TEXT(O$2,\"yyyymm\"))","v":0},{"$f":"SUMIFS(shukei!$C:$C,shukei!$B:$B,\"=\"&getsuji!$B38,shukei!$A:$A,TEXT(P$2,\"yyyy\")&\"13\")","v":0},{"$f":"SUMIFS(shukei!$C:$C,shukei!$B:$B,\"=\"&getsuji!$B38,shukei!$A:$A,TEXT(Q$2,\"yyyymm\"))","v":0},{"$f":"SUMIFS(shukei!$C:$C,shukei!$B:$B,\"=\"&getsuji!$B38,shukei!$A:$A,TEXT(R$2,\"yyyymm\"))","v":0},{"$f":"SUMIFS(shukei!$C:$C,shukei!$B:$B,\"=\"&getsuji!$B38,shukei!$A:$A,TEXT(S$2,\"yyyymm\"))","v":0},{"$f":"SUMIFS(shukei!$C:$C,shukei!$B:$B,\"=\"&getsuji!$B38,shukei!$A:$A,TEXT(T$2,\"yyyymm\"))","v":0},{"$f":"SUMIFS(shukei!$C:$C,shukei!$B:$B,\"=\"&getsuji!$B38,shukei!$A:$A,TEXT(U$2,\"yyyymm\"))","v":0},{"$f":"SUMIFS(shukei!$C:$C,shukei!$B:$B,\"=\"&getsuji!$B38,shukei!$A:$A,TEXT(V$2,\"yyyymm\"))","v":0},{"$f":"SUMIFS(shukei!$C:$C,shukei!$B:$B,\"=\"&getsuji!$B38,shukei!$A:$A,TEXT(W$2,\"yyyymm\"))","v":0},{"$f":"SUMIFS(shukei!$C:$C,shukei!$B:$B,\"=\"&getsuji!$B38,shukei!$A:$A,TEXT(X$2,\"yyyymm\"))","v":0},{"$f":"SUMIFS(shukei!$C:$C,shukei!$B:$B,\"=\"&getsuji!$B38,shukei!$A:$A,TEXT(Y$2,\"yyyymm\"))","v":0},{"$f":"SUMIFS(shukei!$C:$C,shukei!$B:$B,\"=\"&getsuji!$B38,shukei!$A:$A,TEXT(Z$2,\"yyyymm\"))","v":0},{"$f":"SUMIFS(shukei!$C:$C,shukei!$B:$B,\"=\"&getsuji!$B38,shukei!$A:$A,TEXT(AA$2,\"yyyymm\"))","v":0},{"$f":"SUMIFS(shukei!$C:$C,shukei!$B:$B,\"=\"&getsuji!$B38,shukei!$A:$A,TEXT(AB$2,\"yyyymm\"))","v":0},{"$f":"SUMIFS(shukei!$C:$C,shukei!$B:$B,\"=\"&getsuji!$B38,shukei!$A:$A,TEXT(AC$2,\"yyyy\")&\"13\")","v":0},{"$f":"SUMIFS(shukei!$C:$C,shukei!$B:$B,\"=\"&getsuji!$B38,shukei!$A:$A,TEXT(AD$2,\"yyyymm\"))","v":0},{"$f":"SUMIFS(shukei!$C:$C,shukei!$B:$B,\"=\"&getsuji!$B38,shukei!$A:$A,TEXT(AE$2,\"yyyymm\"))","v":0},{"$f":"SUMIFS(shukei!$C:$C,shukei!$B:$B,\"=\"&getsuji!$B38,shukei!$A:$A,TEXT(AF$2,\"yyyymm\"))","v":0},{"$f":"SUMIFS(shukei!$C:$C,shukei!$B:$B,\"=\"&getsuji!$B38,shukei!$A:$A,TEXT(AG$2,\"yyyymm\"))","v":0},{"$f":"SUMIFS(shukei!$C:$C,shukei!$B:$B,\"=\"&getsuji!$B38,shukei!$A:$A,TEXT(AH$2,\"yyyymm\"))","v":0},{"$f":"SUMIFS(shukei!$C:$C,shukei!$B:$B,\"=\"&getsuji!$B38,shukei!$A:$A,TEXT(AI$2,\"yyyymm\"))","v":0},{"$f":"SUMIFS(shukei!$C:$C,shukei!$B:$B,\"=\"&getsuji!$B38,shukei!$A:$A,TEXT(AJ$2,\"yyyymm\"))","v":0},{"$f":"SUMIFS(shukei!$C:$C,shukei!$B:$B,\"=\"&getsuji!$B38,shukei!$A:$A,TEXT(AK$2,\"yyyymm\"))","v":0},{"$f":"SUMIFS(shukei!$C:$C,shukei!$B:$B,\"=\"&getsuji!$B38,shukei!$A:$A,TEXT(AL$2,\"yyyymm\"))","v":0},{"$f":"SUMIFS(shukei!$C:$C,shukei!$B:$B,\"=\"&getsuji!$B38,shukei!$A:$A,TEXT(AM$2,\"yyyymm\"))","v":0},{"$f":"SUMIFS(shukei!$C:$C,shukei!$B:$B,\"=\"&getsuji!$B38,shukei!$A:$A,TEXT(AN$2,\"yyyymm\"))","v":0},{"$f":"SUMIFS(shukei!$C:$C,shukei!$B:$B,\"=\"&getsuji!$B38,shukei!$A:$A,TEXT(AO$2,\"yyyymm\"))","v":0},{"$f":"SUMIFS(shukei!$C:$C,shukei!$B:$B,\"=\"&getsuji!$B38,shukei!$A:$A,TEXT(AP$2,\"yyyy\")&\"13\")","v":0}]
[null,null,null,{"$f":"SUMIFS(shukei!$C:$C,shukei!$B:$B,\"=\"&getsuji!$B39,shukei!$A:$A,TEXT(D$2,\"yyyymm\"))","v":0},{"$f":"SUMIFS(shukei!$C:$C,shukei!$B:$B,\"=\"&getsuji!$B39,shukei!$A:$A,TEXT(E$2,\"yyyymm\"))","v":0},{"$f":"SUMIFS(shukei!$C:$C,shukei!$B:$B,\"=\"&getsuji!$B39,shukei!$A:$A,TEXT(F$2,\"yyyymm\"))","v":0},{"$f":"SUMIFS(shukei!$C:$C,shukei!$B:$B,\"=\"&getsuji!$B39,shukei!$A:$A,TEXT(G$2,\"yyyymm\"))","v":0},{"$f":"SUMIFS(shukei!$C:$C,shukei!$B:$B,\"=\"&getsuji!$B39,shukei!$A:$A,TEXT(H$2,\"yyyymm\"))","v":0},{"$f":"SUMIFS(shukei!$C:$C,shukei!$B:$B,\"=\"&getsuji!$B39,shukei!$A:$A,TEXT(I$2,\"yyyymm\"))","v":0},{"$f":"SUMIFS(shukei!$C:$C,shukei!$B:$B,\"=\"&getsuji!$B39,shukei!$A:$A,TEXT(J$2,\"yyyymm\"))","v":0},{"$f":"SUMIFS(shukei!$C:$C,shukei!$B:$B,\"=\"&getsuji!$B39,shukei!$A:$A,TEXT(K$2,\"yyyymm\"))","v":0},{"$f":"SUMIFS(shukei!$C:$C,shukei!$B:$B,\"=\"&getsuji!$B39,shukei!$A:$A,TEXT(L$2,\"yyyymm\"))","v":0},{"$f":"SUMIFS(shukei!$C:$C,shukei!$B:$B,\"=\"&getsuji!$B39,shukei!$A:$A,TEXT(M$2,\"yyyymm\"))","v":0},{"$f":"SUMIFS(shukei!$C:$C,shukei!$B:$B,\"=\"&getsuji!$B39,shukei!$A:$A,TEXT(N$2,\"yyyymm\"))","v":0},{"$f":"SUMIFS(shukei!$C:$C,shukei!$B:$B,\"=\"&getsuji!$B39,shukei!$A:$A,TEXT(O$2,\"yyyymm\"))","v":0},{"$f":"SUMIFS(shukei!$C:$C,shukei!$B:$B,\"=\"&getsuji!$B39,shukei!$A:$A,TEXT(P$2,\"yyyy\")&\"13\")","v":0},{"$f":"SUMIFS(shukei!$C:$C,shukei!$B:$B,\"=\"&getsuji!$B39,shukei!$A:$A,TEXT(Q$2,\"yyyymm\"))","v":0},{"$f":"SUMIFS(shukei!$C:$C,shukei!$B:$B,\"=\"&getsuji!$B39,shukei!$A:$A,TEXT(R$2,\"yyyymm\"))","v":0},{"$f":"SUMIFS(shukei!$C:$C,shukei!$B:$B,\"=\"&getsuji!$B39,shukei!$A:$A,TEXT(S$2,\"yyyymm\"))","v":0},{"$f":"SUMIFS(shukei!$C:$C,shukei!$B:$B,\"=\"&getsuji!$B39,shukei!$A:$A,TEXT(T$2,\"yyyymm\"))","v":0},{"$f":"SUMIFS(shukei!$C:$C,shukei!$B:$B,\"=\"&getsuji!$B39,shukei!$A:$A,TEXT(U$2,\"yyyymm\"))","v":0},{"$f":"SUMIFS(shukei!$C:$C,shukei!$B:$B,\"=\"&getsuji!$B39,shukei!$A:$A,TEXT(V$2,\"yyyymm\"))","v":0},{"$f":"SUMIFS(shukei!$C:$C,shukei!$B:$B,\"=\"&getsuji!$B39,shukei!$A:$A,TEXT(W$2,\"yyyymm\"))","v":0},{"$f":"SUMIFS(shukei!$C:$C,shukei!$B:$B,\"=\"&getsuji!$B39,shukei!$A:$A,TEXT(X$2,\"yyyymm\"))","v":0},{"$f":"SUMIFS(shukei!$C:$C,shukei!$B:$B,\"=\"&getsuji!$B39,shukei!$A:$A,TEXT(Y$2,\"yyyymm\"))","v":0},{"$f":"SUMIFS(shukei!$C:$C,shukei!$B:$B,\"=\"&getsuji!$B39,shukei!$A:$A,TEXT(Z$2,\"yyyymm\"))","v":0},{"$f":"SUMIFS(shukei!$C:$C,shukei!$B:$B,\"=\"&getsuji!$B39,shukei!$A:$A,TEXT(AA$2,\"yyyymm\"))","v":0},{"$f":"SUMIFS(shukei!$C:$C,shukei!$B:$B,\"=\"&getsuji!$B39,shukei!$A:$A,TEXT(AB$2,\"yyyymm\"))","v":0},{"$f":"SUMIFS(shukei!$C:$C,shukei!$B:$B,\"=\"&getsuji!$B39,shukei!$A:$A,TEXT(AC$2,\"yyyy\")&\"13\")","v":0},{"$f":"SUMIFS(shukei!$C:$C,shukei!$B:$B,\"=\"&getsuji!$B39,shukei!$A:$A,TEXT(AD$2,\"yyyymm\"))","v":0},{"$f":"SUMIFS(shukei!$C:$C,shukei!$B:$B,\"=\"&getsuji!$B39,shukei!$A:$A,TEXT(AE$2,\"yyyymm\"))","v":0},{"$f":"SUMIFS(shukei!$C:$C,shukei!$B:$B,\"=\"&getsuji!$B39,shukei!$A:$A,TEXT(AF$2,\"yyyymm\"))","v":0},{"$f":"SUMIFS(shukei!$C:$C,shukei!$B:$B,\"=\"&getsuji!$B39,shukei!$A:$A,TEXT(AG$2,\"yyyymm\"))","v":0},{"$f":"SUMIFS(shukei!$C:$C,shukei!$B:$B,\"=\"&getsuji!$B39,shukei!$A:$A,TEXT(AH$2,\"yyyymm\"))","v":0},{"$f":"SUMIFS(shukei!$C:$C,shukei!$B:$B,\"=\"&getsuji!$B39,shukei!$A:$A,TEXT(AI$2,\"yyyymm\"))","v":0},{"$f":"SUMIFS(shukei!$C:$C,shukei!$B:$B,\"=\"&getsuji!$B39,shukei!$A:$A,TEXT(AJ$2,\"yyyymm\"))","v":0},{"$f":"SUMIFS(shukei!$C:$C,shukei!$B:$B,\"=\"&getsuji!$B39,shukei!$A:$A,TEXT(AK$2,\"yyyymm\"))","v":0},{"$f":"SUMIFS(shukei!$C:$C,shukei!$B:$B,\"=\"&getsuji!$B39,shukei!$A:$A,TEXT(AL$2,\"yyyymm\"))","v":0},{"$f":"SUMIFS(shukei!$C:$C,shukei!$B:$B,\"=\"&getsuji!$B39,shukei!$A:$A,TEXT(AM$2,\"yyyymm\"))","v":0},{"$f":"SUMIFS(shukei!$C:$C,shukei!$B:$B,\"=\"&getsuji!$B39,shukei!$A:$A,TEXT(AN$2,\"yyyymm\"))","v":0},{"$f":"SUMIFS(shukei!$C:$C,shukei!$B:$B,\"=\"&getsuji!$B39,shukei!$A:$A,TEXT(AO$2,\"yyyymm\"))","v":0},{"$f":"SUMIFS(shukei!$C:$C,shukei!$B:$B,\"=\"&getsuji!$B39,shukei!$A:$A,TEXT(AP$2,\"yyyy\")&\"13\")","v":0}]
[null,null,null,{"$f":"SUMIFS(shukei!$C:$C,shukei!$B:$B,\"=\"&getsuji!$B40,shukei!$A:$A,TEXT(D$2,\"yyyymm\"))","v":0},{"$f":"SUMIFS(shukei!$C:$C,shukei!$B:$B,\"=\"&getsuji!$B40,shukei!$A:$A,TEXT(E$2,\"yyyymm\"))","v":0},{"$f":"SUMIFS(shukei!$C:$C,shukei!$B:$B,\"=\"&getsuji!$B40,shukei!$A:$A,TEXT(F$2,\"yyyymm\"))","v":0},{"$f":"SUMIFS(shukei!$C:$C,shukei!$B:$B,\"=\"&getsuji!$B40,shukei!$A:$A,TEXT(G$2,\"yyyymm\"))","v":0},{"$f":"SUMIFS(shukei!$C:$C,shukei!$B:$B,\"=\"&getsuji!$B40,shukei!$A:$A,TEXT(H$2,\"yyyymm\"))","v":0},{"$f":"SUMIFS(shukei!$C:$C,shukei!$B:$B,\"=\"&getsuji!$B40,shukei!$A:$A,TEXT(I$2,\"yyyymm\"))","v":0},{"$f":"SUMIFS(shukei!$C:$C,shukei!$B:$B,\"=\"&getsuji!$B40,shukei!$A:$A,TEXT(J$2,\"yyyymm\"))","v":0},{"$f":"SUMIFS(shukei!$C:$C,shukei!$B:$B,\"=\"&getsuji!$B40,shukei!$A:$A,TEXT(K$2,\"yyyymm\"))","v":0},{"$f":"SUMIFS(shukei!$C:$C,shukei!$B:$B,\"=\"&getsuji!$B40,shukei!$A:$A,TEXT(L$2,\"yyyymm\"))","v":0},{"$f":"SUMIFS(shukei!$C:$C,shukei!$B:$B,\"=\"&getsuji!$B40,shukei!$A:$A,TEXT(M$2,\"yyyymm\"))","v":0},{"$f":"SUMIFS(shukei!$C:$C,shukei!$B:$B,\"=\"&getsuji!$B40,shukei!$A:$A,TEXT(N$2,\"yyyymm\"))","v":0},{"$f":"SUMIFS(shukei!$C:$C,shukei!$B:$B,\"=\"&getsuji!$B40,shukei!$A:$A,TEXT(O$2,\"yyyymm\"))","v":0},{"$f":"SUMIFS(shukei!$C:$C,shukei!$B:$B,\"=\"&getsuji!$B40,shukei!$A:$A,TEXT(P$2,\"yyyy\")&\"13\")","v":0},{"$f":"SUMIFS(shukei!$C:$C,shukei!$B:$B,\"=\"&getsuji!$B40,shukei!$A:$A,TEXT(Q$2,\"yyyymm\"))","v":0},{"$f":"SUMIFS(shukei!$C:$C,shukei!$B:$B,\"=\"&getsuji!$B40,shukei!$A:$A,TEXT(R$2,\"yyyymm\"))","v":0},{"$f":"SUMIFS(shukei!$C:$C,shukei!$B:$B,\"=\"&getsuji!$B40,shukei!$A:$A,TEXT(S$2,\"yyyymm\"))","v":0},{"$f":"SUMIFS(shukei!$C:$C,shukei!$B:$B,\"=\"&getsuji!$B40,shukei!$A:$A,TEXT(T$2,\"yyyymm\"))","v":0},{"$f":"SUMIFS(shukei!$C:$C,shukei!$B:$B,\"=\"&getsuji!$B40,shukei!$A:$A,TEXT(U$2,\"yyyymm\"))","v":0},{"$f":"SUMIFS(shukei!$C:$C,shukei!$B:$B,\"=\"&getsuji!$B40,shukei!$A:$A,TEXT(V$2,\"yyyymm\"))","v":0},{"$f":"SUMIFS(shukei!$C:$C,shukei!$B:$B,\"=\"&getsuji!$B40,shukei!$A:$A,TEXT(W$2,\"yyyymm\"))","v":0},{"$f":"SUMIFS(shukei!$C:$C,shukei!$B:$B,\"=\"&getsuji!$B40,shukei!$A:$A,TEXT(X$2,\"yyyymm\"))","v":0},{"$f":"SUMIFS(shukei!$C:$C,shukei!$B:$B,\"=\"&getsuji!$B40,shukei!$A:$A,TEXT(Y$2,\"yyyymm\"))","v":0},{"$f":"SUMIFS(shukei!$C:$C,shukei!$B:$B,\"=\"&getsuji!$B40,shukei!$A:$A,TEXT(Z$2,\"yyyymm\"))","v":0},{"$f":"SUMIFS(shukei!$C:$C,shukei!$B:$B,\"=\"&getsuji!$B40,shukei!$A:$A,TEXT(AA$2,\"yyyymm\"))","v":0},{"$f":"SUMIFS(shukei!$C:$C,shukei!$B:$B,\"=\"&getsuji!$B40,shukei!$A:$A,TEXT(AB$2,\"yyyymm\"))","v":0},{"$f":"SUMIFS(shukei!$C:$C,shukei!$B:$B,\"=\"&getsuji!$B40,shukei!$A:$A,TEXT(AC$2,\"yyyy\")&\"13\")","v":0},{"$f":"SUMIFS(shukei!$C:$C,shukei!$B:$B,\"=\"&getsuji!$B40,shukei!$A:$A,TEXT(AD$2,\"yyyymm\"))","v":0},{"$f":"SUMIFS(shukei!$C:$C,shukei!$B:$B,\"=\"&getsuji!$B40,shukei!$A:$A,TEXT(AE$2,\"yyyymm\"))","v":0},{"$f":"SUMIFS(shukei!$C:$C,shukei!$B:$B,\"=\"&getsuji!$B40,shukei!$A:$A,TEXT(AF$2,\"yyyymm\"))","v":0},{"$f":"SUMIFS(shukei!$C:$C,shukei!$B:$B,\"=\"&getsuji!$B40,shukei!$A:$A,TEXT(AG$2,\"yyyymm\"))","v":0},{"$f":"SUMIFS(shukei!$C:$C,shukei!$B:$B,\"=\"&getsuji!$B40,shukei!$A:$A,TEXT(AH$2,\"yyyymm\"))","v":0},{"$f":"SUMIFS(shukei!$C:$C,shukei!$B:$B,\"=\"&getsuji!$B40,shukei!$A:$A,TEXT(AI$2,\"yyyymm\"))","v":0},{"$f":"SUMIFS(shukei!$C:$C,shukei!$B:$B,\"=\"&getsuji!$B40,shukei!$A:$A,TEXT(AJ$2,\"yyyymm\"))","v":0},{"$f":"SUMIFS(shukei!$C:$C,shukei!$B:$B,\"=\"&getsuji!$B40,shukei!$A:$A,TEXT(AK$2,\"yyyymm\"))","v":0},{"$f":"SUMIFS(shukei!$C:$C,shukei!$B:$B,\"=\"&getsuji!$B40,shukei!$A:$A,TEXT(AL$2,\"yyyymm\"))","v":0},{"$f":"SUMIFS(shukei!$C:$C,shukei!$B:$B,\"=\"&getsuji!$B40,shukei!$A:$A,TEXT(AM$2,\"yyyymm\"))","v":0},{"$f":"SUMIFS(shukei!$C:$C,shukei!$B:$B,\"=\"&getsuji!$B40,shukei!$A:$A,TEXT(AN$2,\"yyyymm\"))","v":0},{"$f":"SUMIFS(shukei!$C:$C,shukei!$B:$B,\"=\"&getsuji!$B40,shukei!$A:$A,TEXT(AO$2,\"yyyymm\"))","v":0},{"$f":"SUMIFS(shukei!$C:$C,shukei!$B:$B,\"=\"&getsuji!$B40,shukei!$A:$A,TEXT(AP$2,\"yyyy\")&\"13\")","v":0}]
[null,null,null,{"$f":"SUMIFS(shukei!$C:$C,shukei!$B:$B,\"=\"&getsuji!$B41,shukei!$A:$A,TEXT(D$2,\"yyyymm\"))","v":0},{"$f":"SUMIFS(shukei!$C:$C,shukei!$B:$B,\"=\"&getsuji!$B41,shukei!$A:$A,TEXT(E$2,\"yyyymm\"))","v":0},{"$f":"SUMIFS(shukei!$C:$C,shukei!$B:$B,\"=\"&getsuji!$B41,shukei!$A:$A,TEXT(F$2,\"yyyymm\"))","v":0},{"$f":"SUMIFS(shukei!$C:$C,shukei!$B:$B,\"=\"&getsuji!$B41,shukei!$A:$A,TEXT(G$2,\"yyyymm\"))","v":0},{"$f":"SUMIFS(shukei!$C:$C,shukei!$B:$B,\"=\"&getsuji!$B41,shukei!$A:$A,TEXT(H$2,\"yyyymm\"))","v":0},{"$f":"SUMIFS(shukei!$C:$C,shukei!$B:$B,\"=\"&getsuji!$B41,shukei!$A:$A,TEXT(I$2,\"yyyymm\"))","v":0},{"$f":"SUMIFS(shukei!$C:$C,shukei!$B:$B,\"=\"&getsuji!$B41,shukei!$A:$A,TEXT(J$2,\"yyyymm\"))","v":0},{"$f":"SUMIFS(shukei!$C:$C,shukei!$B:$B,\"=\"&getsuji!$B41,shukei!$A:$A,TEXT(K$2,\"yyyymm\"))","v":0},{"$f":"SUMIFS(shukei!$C:$C,shukei!$B:$B,\"=\"&getsuji!$B41,shukei!$A:$A,TEXT(L$2,\"yyyymm\"))","v":0},{"$f":"SUMIFS(shukei!$C:$C,shukei!$B:$B,\"=\"&getsuji!$B41,shukei!$A:$A,TEXT(M$2,\"yyyymm\"))","v":0},{"$f":"SUMIFS(shukei!$C:$C,shukei!$B:$B,\"=\"&getsuji!$B41,shukei!$A:$A,TEXT(N$2,\"yyyymm\"))","v":0},{"$f":"SUMIFS(shukei!$C:$C,shukei!$B:$B,\"=\"&getsuji!$B41,shukei!$A:$A,TEXT(O$2,\"yyyymm\"))","v":0},{"$f":"SUMIFS(shukei!$C:$C,shukei!$B:$B,\"=\"&getsuji!$B41,shukei!$A:$A,TEXT(P$2,\"yyyy\")&\"13\")","v":0},{"$f":"SUMIFS(shukei!$C:$C,shukei!$B:$B,\"=\"&getsuji!$B41,shukei!$A:$A,TEXT(Q$2,\"yyyymm\"))","v":0},{"$f":"SUMIFS(shukei!$C:$C,shukei!$B:$B,\"=\"&getsuji!$B41,shukei!$A:$A,TEXT(R$2,\"yyyymm\"))","v":0},{"$f":"SUMIFS(shukei!$C:$C,shukei!$B:$B,\"=\"&getsuji!$B41,shukei!$A:$A,TEXT(S$2,\"yyyymm\"))","v":0},{"$f":"SUMIFS(shukei!$C:$C,shukei!$B:$B,\"=\"&getsuji!$B41,shukei!$A:$A,TEXT(T$2,\"yyyymm\"))","v":0},{"$f":"SUMIFS(shukei!$C:$C,shukei!$B:$B,\"=\"&getsuji!$B41,shukei!$A:$A,TEXT(U$2,\"yyyymm\"))","v":0},{"$f":"SUMIFS(shukei!$C:$C,shukei!$B:$B,\"=\"&getsuji!$B41,shukei!$A:$A,TEXT(V$2,\"yyyymm\"))","v":0},{"$f":"SUMIFS(shukei!$C:$C,shukei!$B:$B,\"=\"&getsuji!$B41,shukei!$A:$A,TEXT(W$2,\"yyyymm\"))","v":0},{"$f":"SUMIFS(shukei!$C:$C,shukei!$B:$B,\"=\"&getsuji!$B41,shukei!$A:$A,TEXT(X$2,\"yyyymm\"))","v":0},{"$f":"SUMIFS(shukei!$C:$C,shukei!$B:$B,\"=\"&getsuji!$B41,shukei!$A:$A,TEXT(Y$2,\"yyyymm\"))","v":0},{"$f":"SUMIFS(shukei!$C:$C,shukei!$B:$B,\"=\"&getsuji!$B41,shukei!$A:$A,TEXT(Z$2,\"yyyymm\"))","v":0},{"$f":"SUMIFS(shukei!$C:$C,shukei!$B:$B,\"=\"&getsuji!$B41,shukei!$A:$A,TEXT(AA$2,\"yyyymm\"))","v":0},{"$f":"SUMIFS(shukei!$C:$C,shukei!$B:$B,\"=\"&getsuji!$B41,shukei!$A:$A,TEXT(AB$2,\"yyyymm\"))","v":0},{"$f":"SUMIFS(shukei!$C:$C,shukei!$B:$B,\"=\"&getsuji!$B41,shukei!$A:$A,TEXT(AC$2,\"yyyy\")&\"13\")","v":0},{"$f":"SUMIFS(shukei!$C:$C,shukei!$B:$B,\"=\"&getsuji!$B41,shukei!$A:$A,TEXT(AD$2,\"yyyymm\"))","v":0},{"$f":"SUMIFS(shukei!$C:$C,shukei!$B:$B,\"=\"&getsuji!$B41,shukei!$A:$A,TEXT(AE$2,\"yyyymm\"))","v":0},{"$f":"SUMIFS(shukei!$C:$C,shukei!$B:$B,\"=\"&getsuji!$B41,shukei!$A:$A,TEXT(AF$2,\"yyyymm\"))","v":0},{"$f":"SUMIFS(shukei!$C:$C,shukei!$B:$B,\"=\"&getsuji!$B41,shukei!$A:$A,TEXT(AG$2,\"yyyymm\"))","v":0},{"$f":"SUMIFS(shukei!$C:$C,shukei!$B:$B,\"=\"&getsuji!$B41,shukei!$A:$A,TEXT(AH$2,\"yyyymm\"))","v":0},{"$f":"SUMIFS(shukei!$C:$C,shukei!$B:$B,\"=\"&getsuji!$B41,shukei!$A:$A,TEXT(AI$2,\"yyyymm\"))","v":0},{"$f":"SUMIFS(shukei!$C:$C,shukei!$B:$B,\"=\"&getsuji!$B41,shukei!$A:$A,TEXT(AJ$2,\"yyyymm\"))","v":0},{"$f":"SUMIFS(shukei!$C:$C,shukei!$B:$B,\"=\"&getsuji!$B41,shukei!$A:$A,TEXT(AK$2,\"yyyymm\"))","v":0},{"$f":"SUMIFS(shukei!$C:$C,shukei!$B:$B,\"=\"&getsuji!$B41,shukei!$A:$A,TEXT(AL$2,\"yyyymm\"))","v":0},{"$f":"SUMIFS(shukei!$C:$C,shukei!$B:$B,\"=\"&getsuji!$B41,shukei!$A:$A,TEXT(AM$2,\"yyyymm\"))","v":0},{"$f":"SUMIFS(shukei!$C:$C,shukei!$B:$B,\"=\"&getsuji!$B41,shukei!$A:$A,TEXT(AN$2,\"yyyymm\"))","v":0},{"$f":"SUMIFS(shukei!$C:$C,shukei!$B:$B,\"=\"&getsuji!$B41,shukei!$A:$A,TEXT(AO$2,\"yyyymm\"))","v":0},{"$f":"SUMIFS(shukei!$C:$C,shukei!$B:$B,\"=\"&getsuji!$B41,shukei!$A:$A,TEXT(AP$2,\"yyyy\")&\"13\")","v":0}]
[null,null,null,{"$f":"SUMIFS(shukei!$C:$C,shukei!$B:$B,\"=\"&getsuji!$B42,shukei!$A:$A,TEXT(D$2,\"yyyymm\"))","v":0},{"$f":"SUMIFS(shukei!$C:$C,shukei!$B:$B,\"=\"&getsuji!$B42,shukei!$A:$A,TEXT(E$2,\"yyyymm\"))","v":0},{"$f":"SUMIFS(shukei!$C:$C,shukei!$B:$B,\"=\"&getsuji!$B42,shukei!$A:$A,TEXT(F$2,\"yyyymm\"))","v":0},{"$f":"SUMIFS(shukei!$C:$C,shukei!$B:$B,\"=\"&getsuji!$B42,shukei!$A:$A,TEXT(G$2,\"yyyymm\"))","v":0},{"$f":"SUMIFS(shukei!$C:$C,shukei!$B:$B,\"=\"&getsuji!$B42,shukei!$A:$A,TEXT(H$2,\"yyyymm\"))","v":0},{"$f":"SUMIFS(shukei!$C:$C,shukei!$B:$B,\"=\"&getsuji!$B42,shukei!$A:$A,TEXT(I$2,\"yyyymm\"))","v":0},{"$f":"SUMIFS(shukei!$C:$C,shukei!$B:$B,\"=\"&getsuji!$B42,shukei!$A:$A,TEXT(J$2,\"yyyymm\"))","v":0},{"$f":"SUMIFS(shukei!$C:$C,shukei!$B:$B,\"=\"&getsuji!$B42,shukei!$A:$A,TEXT(K$2,\"yyyymm\"))","v":0},{"$f":"SUMIFS(shukei!$C:$C,shukei!$B:$B,\"=\"&getsuji!$B42,shukei!$A:$A,TEXT(L$2,\"yyyymm\"))","v":0},{"$f":"SUMIFS(shukei!$C:$C,shukei!$B:$B,\"=\"&getsuji!$B42,shukei!$A:$A,TEXT(M$2,\"yyyymm\"))","v":0},{"$f":"SUMIFS(shukei!$C:$C,shukei!$B:$B,\"=\"&getsuji!$B42,shukei!$A:$A,TEXT(N$2,\"yyyymm\"))","v":0},{"$f":"SUMIFS(shukei!$C:$C,shukei!$B:$B,\"=\"&getsuji!$B42,shukei!$A:$A,TEXT(O$2,\"yyyymm\"))","v":0},{"$f":"SUMIFS(shukei!$C:$C,shukei!$B:$B,\"=\"&getsuji!$B42,shukei!$A:$A,TEXT(P$2,\"yyyy\")&\"13\")","v":0},{"$f":"SUMIFS(shukei!$C:$C,shukei!$B:$B,\"=\"&getsuji!$B42,shukei!$A:$A,TEXT(Q$2,\"yyyymm\"))","v":0},{"$f":"SUMIFS(shukei!$C:$C,shukei!$B:$B,\"=\"&getsuji!$B42,shukei!$A:$A,TEXT(R$2,\"yyyymm\"))","v":0},{"$f":"SUMIFS(shukei!$C:$C,shukei!$B:$B,\"=\"&getsuji!$B42,shukei!$A:$A,TEXT(S$2,\"yyyymm\"))","v":0},{"$f":"SUMIFS(shukei!$C:$C,shukei!$B:$B,\"=\"&getsuji!$B42,shukei!$A:$A,TEXT(T$2,\"yyyymm\"))","v":0},{"$f":"SUMIFS(shukei!$C:$C,shukei!$B:$B,\"=\"&getsuji!$B42,shukei!$A:$A,TEXT(U$2,\"yyyymm\"))","v":0},{"$f":"SUMIFS(shukei!$C:$C,shukei!$B:$B,\"=\"&getsuji!$B42,shukei!$A:$A,TEXT(V$2,\"yyyymm\"))","v":0},{"$f":"SUMIFS(shukei!$C:$C,shukei!$B:$B,\"=\"&getsuji!$B42,shukei!$A:$A,TEXT(W$2,\"yyyymm\"))","v":0},{"$f":"SUMIFS(shukei!$C:$C,shukei!$B:$B,\"=\"&getsuji!$B42,shukei!$A:$A,TEXT(X$2,\"yyyymm\"))","v":0},{"$f":"SUMIFS(shukei!$C:$C,shukei!$B:$B,\"=\"&getsuji!$B42,shukei!$A:$A,TEXT(Y$2,\"yyyymm\"))","v":0},{"$f":"SUMIFS(shukei!$C:$C,shukei!$B:$B,\"=\"&getsuji!$B42,shukei!$A:$A,TEXT(Z$2,\"yyyymm\"))","v":0},{"$f":"SUMIFS(shukei!$C:$C,shukei!$B:$B,\"=\"&getsuji!$B42,shukei!$A:$A,TEXT(AA$2,\"yyyymm\"))","v":0},{"$f":"SUMIFS(shukei!$C:$C,shukei!$B:$B,\"=\"&getsuji!$B42,shukei!$A:$A,TEXT(AB$2,\"yyyymm\"))","v":0},{"$f":"SUMIFS(shukei!$C:$C,shukei!$B:$B,\"=\"&getsuji!$B42,shukei!$A:$A,TEXT(AC$2,\"yyyy\")&\"13\")","v":0},{"$f":"SUMIFS(shukei!$C:$C,shukei!$B:$B,\"=\"&getsuji!$B42,shukei!$A:$A,TEXT(AD$2,\"yyyymm\"))","v":0},{"$f":"SUMIFS(shukei!$C:$C,shukei!$B:$B,\"=\"&getsuji!$B42,shukei!$A:$A,TEXT(AE$2,\"yyyymm\"))","v":0},{"$f":"SUMIFS(shukei!$C:$C,shukei!$B:$B,\"=\"&getsuji!$B42,shukei!$A:$A,TEXT(AF$2,\"yyyymm\"))","v":0},{"$f":"SUMIFS(shukei!$C:$C,shukei!$B:$B,\"=\"&getsuji!$B42,shukei!$A:$A,TEXT(AG$2,\"yyyymm\"))","v":0},{"$f":"SUMIFS(shukei!$C:$C,shukei!$B:$B,\"=\"&getsuji!$B42,shukei!$A:$A,TEXT(AH$2,\"yyyymm\"))","v":0},{"$f":"SUMIFS(shukei!$C:$C,shukei!$B:$B,\"=\"&getsuji!$B42,shukei!$A:$A,TEXT(AI$2,\"yyyymm\"))","v":0},{"$f":"SUMIFS(shukei!$C:$C,shukei!$B:$B,\"=\"&getsuji!$B42,shukei!$A:$A,TEXT(AJ$2,\"yyyymm\"))","v":0},{"$f":"SUMIFS(shukei!$C:$C,shukei!$B:$B,\"=\"&getsuji!$B42,shukei!$A:$A,TEXT(AK$2,\"yyyymm\"))","v":0},{"$f":"SUMIFS(shukei!$C:$C,shukei!$B:$B,\"=\"&getsuji!$B42,shukei!$A:$A,TEXT(AL$2,\"yyyymm\"))","v":0},{"$f":"SUMIFS(shukei!$C:$C,shukei!$B:$B,\"=\"&getsuji!$B42,shukei!$A:$A,TEXT(AM$2,\"yyyymm\"))","v":0},{"$f":"SUMIFS(shukei!$C:$C,shukei!$B:$B,\"=\"&getsuji!$B42,shukei!$A:$A,TEXT(AN$2,\"yyyymm\"))","v":0},{"$f":"SUMIFS(shukei!$C:$C,shukei!$B:$B,\"=\"&getsuji!$B42,shukei!$A:$A,TEXT(AO$2,\"yyyymm\"))","v":0},{"$f":"SUMIFS(shukei!$C:$C,shukei!$B:$B,\"=\"&getsuji!$B42,shukei!$A:$A,TEXT(AP$2,\"yyyy\")&\"13\")","v":0}]
[null,null,null,{"$f":"SUMIFS(shukei!$C:$C,shukei!$B:$B,\"=\"&getsuji!$B43,shukei!$A:$A,TEXT(D$2,\"yyyymm\"))","v":0},{"$f":"SUMIFS(shukei!$C:$C,shukei!$B:$B,\"=\"&getsuji!$B43,shukei!$A:$A,TEXT(E$2,\"yyyymm\"))","v":0},{"$f":"SUMIFS(shukei!$C:$C,shukei!$B:$B,\"=\"&getsuji!$B43,shukei!$A:$A,TEXT(F$2,\"yyyymm\"))","v":0},{"$f":"SUMIFS(shukei!$C:$C,shukei!$B:$B,\"=\"&getsuji!$B43,shukei!$A:$A,TEXT(G$2,\"yyyymm\"))","v":0},{"$f":"SUMIFS(shukei!$C:$C,shukei!$B:$B,\"=\"&getsuji!$B43,shukei!$A:$A,TEXT(H$2,\"yyyymm\"))","v":0},{"$f":"SUMIFS(shukei!$C:$C,shukei!$B:$B,\"=\"&getsuji!$B43,shukei!$A:$A,TEXT(I$2,\"yyyymm\"))","v":0},{"$f":"SUMIFS(shukei!$C:$C,shukei!$B:$B,\"=\"&getsuji!$B43,shukei!$A:$A,TEXT(J$2,\"yyyymm\"))","v":0},{"$f":"SUMIFS(shukei!$C:$C,shukei!$B:$B,\"=\"&getsuji!$B43,shukei!$A:$A,TEXT(K$2,\"yyyymm\"))","v":0},{"$f":"SUMIFS(shukei!$C:$C,shukei!$B:$B,\"=\"&getsuji!$B43,shukei!$A:$A,TEXT(L$2,\"yyyymm\"))","v":0},{"$f":"SUMIFS(shukei!$C:$C,shukei!$B:$B,\"=\"&getsuji!$B43,shukei!$A:$A,TEXT(M$2,\"yyyymm\"))","v":0},{"$f":"SUMIFS(shukei!$C:$C,shukei!$B:$B,\"=\"&getsuji!$B43,shukei!$A:$A,TEXT(N$2,\"yyyymm\"))","v":0},{"$f":"SUMIFS(shukei!$C:$C,shukei!$B:$B,\"=\"&getsuji!$B43,shukei!$A:$A,TEXT(O$2,\"yyyymm\"))","v":0},{"$f":"SUMIFS(shukei!$C:$C,shukei!$B:$B,\"=\"&getsuji!$B43,shukei!$A:$A,TEXT(P$2,\"yyyy\")&\"13\")","v":0},{"$f":"SUMIFS(shukei!$C:$C,shukei!$B:$B,\"=\"&getsuji!$B43,shukei!$A:$A,TEXT(Q$2,\"yyyymm\"))","v":0},{"$f":"SUMIFS(shukei!$C:$C,shukei!$B:$B,\"=\"&getsuji!$B43,shukei!$A:$A,TEXT(R$2,\"yyyymm\"))","v":0},{"$f":"SUMIFS(shukei!$C:$C,shukei!$B:$B,\"=\"&getsuji!$B43,shukei!$A:$A,TEXT(S$2,\"yyyymm\"))","v":0},{"$f":"SUMIFS(shukei!$C:$C,shukei!$B:$B,\"=\"&getsuji!$B43,shukei!$A:$A,TEXT(T$2,\"yyyymm\"))","v":0},{"$f":"SUMIFS(shukei!$C:$C,shukei!$B:$B,\"=\"&getsuji!$B43,shukei!$A:$A,TEXT(U$2,\"yyyymm\"))","v":0},{"$f":"SUMIFS(shukei!$C:$C,shukei!$B:$B,\"=\"&getsuji!$B43,shukei!$A:$A,TEXT(V$2,\"yyyymm\"))","v":0},{"$f":"SUMIFS(shukei!$C:$C,shukei!$B:$B,\"=\"&getsuji!$B43,shukei!$A:$A,TEXT(W$2,\"yyyymm\"))","v":0},{"$f":"SUMIFS(shukei!$C:$C,shukei!$B:$B,\"=\"&getsuji!$B43,shukei!$A:$A,TEXT(X$2,\"yyyymm\"))","v":0},{"$f":"SUMIFS(shukei!$C:$C,shukei!$B:$B,\"=\"&getsuji!$B43,shukei!$A:$A,TEXT(Y$2,\"yyyymm\"))","v":0},{"$f":"SUMIFS(shukei!$C:$C,shukei!$B:$B,\"=\"&getsuji!$B43,shukei!$A:$A,TEXT(Z$2,\"yyyymm\"))","v":0},{"$f":"SUMIFS(shukei!$C:$C,shukei!$B:$B,\"=\"&getsuji!$B43,shukei!$A:$A,TEXT(AA$2,\"yyyymm\"))","v":0},{"$f":"SUMIFS(shukei!$C:$C,shukei!$B:$B,\"=\"&getsuji!$B43,shukei!$A:$A,TEXT(AB$2,\"yyyymm\"))","v":0},{"$f":"SUMIFS(shukei!$C:$C,shukei!$B:$B,\"=\"&getsuji!$B43,shukei!$A:$A,TEXT(AC$2,\"yyyy\")&\"13\")","v":0},{"$f":"SUMIFS(shukei!$C:$C,shukei!$B:$B,\"=\"&getsuji!$B43,shukei!$A:$A,TEXT(AD$2,\"yyyymm\"))","v":0},{"$f":"SUMIFS(shukei!$C:$C,shukei!$B:$B,\"=\"&getsuji!$B43,shukei!$A:$A,TEXT(AE$2,\"yyyymm\"))","v":0},{"$f":"SUMIFS(shukei!$C:$C,shukei!$B:$B,\"=\"&getsuji!$B43,shukei!$A:$A,TEXT(AF$2,\"yyyymm\"))","v":0},{"$f":"SUMIFS(shukei!$C:$C,shukei!$B:$B,\"=\"&getsuji!$B43,shukei!$A:$A,TEXT(AG$2,\"yyyymm\"))","v":0},{"$f":"SUMIFS(shukei!$C:$C,shukei!$B:$B,\"=\"&getsuji!$B43,shukei!$A:$A,TEXT(AH$2,\"yyyymm\"))","v":0},{"$f":"SUMIFS(shukei!$C:$C,shukei!$B:$B,\"=\"&getsuji!$B43,shukei!$A:$A,TEXT(AI$2,\"yyyymm\"))","v":0},{"$f":"SUMIFS(shukei!$C:$C,shukei!$B:$B,\"=\"&getsuji!$B43,shukei!$A:$A,TEXT(AJ$2,\"yyyymm\"))","v":0},{"$f":"SUMIFS(shukei!$C:$C,shukei!$B:$B,\"=\"&getsuji!$B43,shukei!$A:$A,TEXT(AK$2,\"yyyymm\"))","v":0},{"$f":"SUMIFS(shukei!$C:$C,shukei!$B:$B,\"=\"&getsuji!$B43,shukei!$A:$A,TEXT(AL$2,\"yyyymm\"))","v":0},{"$f":"SUMIFS(shukei!$C:$C,shukei!$B:$B,\"=\"&getsuji!$B43,shukei!$A:$A,TEXT(AM$2,\"yyyymm\"))","v":0},{"$f":"SUMIFS(shukei!$C:$C,shukei!$B:$B,\"=\"&getsuji!$B43,shukei!$A:$A,TEXT(AN$2,\"yyyymm\"))","v":0},{"$f":"SUMIFS(shukei!$C:$C,shukei!$B:$B,\"=\"&getsuji!$B43,shukei!$A:$A,TEXT(AO$2,\"yyyymm\"))","v":0},{"$f":"SUMIFS(shukei!$C:$C,shukei!$B:$B,\"=\"&getsuji!$B43,shukei!$A:$A,TEXT(AP$2,\"yyyy\")&\"13\")","v":0}]
[null,null,null,{"$f":"SUMIFS(shukei!$C:$C,shukei!$B:$B,\"=\"&getsuji!$B44,shukei!$A:$A,TEXT(D$2,\"yyyymm\"))","v":0},{"$f":"SUMIFS(shukei!$C:$C,shukei!$B:$B,\"=\"&getsuji!$B44,shukei!$A:$A,TEXT(E$2,\"yyyymm\"))","v":0},{"$f":"SUMIFS(shukei!$C:$C,shukei!$B:$B,\"=\"&getsuji!$B44,shukei!$A:$A,TEXT(F$2,\"yyyymm\"))","v":0},{"$f":"SUMIFS(shukei!$C:$C,shukei!$B:$B,\"=\"&getsuji!$B44,shukei!$A:$A,TEXT(G$2,\"yyyymm\"))","v":0},{"$f":"SUMIFS(shukei!$C:$C,shukei!$B:$B,\"=\"&getsuji!$B44,shukei!$A:$A,TEXT(H$2,\"yyyymm\"))","v":0},{"$f":"SUMIFS(shukei!$C:$C,shukei!$B:$B,\"=\"&getsuji!$B44,shukei!$A:$A,TEXT(I$2,\"yyyymm\"))","v":0},{"$f":"SUMIFS(shukei!$C:$C,shukei!$B:$B,\"=\"&getsuji!$B44,shukei!$A:$A,TEXT(J$2,\"yyyymm\"))","v":0},{"$f":"SUMIFS(shukei!$C:$C,shukei!$B:$B,\"=\"&getsuji!$B44,shukei!$A:$A,TEXT(K$2,\"yyyymm\"))","v":0},{"$f":"SUMIFS(shukei!$C:$C,shukei!$B:$B,\"=\"&getsuji!$B44,shukei!$A:$A,TEXT(L$2,\"yyyymm\"))","v":0},{"$f":"SUMIFS(shukei!$C:$C,shukei!$B:$B,\"=\"&getsuji!$B44,shukei!$A:$A,TEXT(M$2,\"yyyymm\"))","v":0},{"$f":"SUMIFS(shukei!$C:$C,shukei!$B:$B,\"=\"&getsuji!$B44,shukei!$A:$A,TEXT(N$2,\"yyyymm\"))","v":0},{"$f":"SUMIFS(shukei!$C:$C,shukei!$B:$B,\"=\"&getsuji!$B44,shukei!$A:$A,TEXT(O$2,\"yyyymm\"))","v":0},{"$f":"SUMIFS(shukei!$C:$C,shukei!$B:$B,\"=\"&getsuji!$B44,shukei!$A:$A,TEXT(P$2,\"yyyy\")&\"13\")","v":0},{"$f":"SUMIFS(shukei!$C:$C,shukei!$B:$B,\"=\"&getsuji!$B44,shukei!$A:$A,TEXT(Q$2,\"yyyymm\"))","v":0},{"$f":"SUMIFS(shukei!$C:$C,shukei!$B:$B,\"=\"&getsuji!$B44,shukei!$A:$A,TEXT(R$2,\"yyyymm\"))","v":0},{"$f":"SUMIFS(shukei!$C:$C,shukei!$B:$B,\"=\"&getsuji!$B44,shukei!$A:$A,TEXT(S$2,\"yyyymm\"))","v":0},{"$f":"SUMIFS(shukei!$C:$C,shukei!$B:$B,\"=\"&getsuji!$B44,shukei!$A:$A,TEXT(T$2,\"yyyymm\"))","v":0},{"$f":"SUMIFS(shukei!$C:$C,shukei!$B:$B,\"=\"&getsuji!$B44,shukei!$A:$A,TEXT(U$2,\"yyyymm\"))","v":0},{"$f":"SUMIFS(shukei!$C:$C,shukei!$B:$B,\"=\"&getsuji!$B44,shukei!$A:$A,TEXT(V$2,\"yyyymm\"))","v":0},{"$f":"SUMIFS(shukei!$C:$C,shukei!$B:$B,\"=\"&getsuji!$B44,shukei!$A:$A,TEXT(W$2,\"yyyymm\"))","v":0},{"$f":"SUMIFS(shukei!$C:$C,shukei!$B:$B,\"=\"&getsuji!$B44,shukei!$A:$A,TEXT(X$2,\"yyyymm\"))","v":0},{"$f":"SUMIFS(shukei!$C:$C,shukei!$B:$B,\"=\"&getsuji!$B44,shukei!$A:$A,TEXT(Y$2,\"yyyymm\"))","v":0},{"$f":"SUMIFS(shukei!$C:$C,shukei!$B:$B,\"=\"&getsuji!$B44,shukei!$A:$A,TEXT(Z$2,\"yyyymm\"))","v":0},{"$f":"SUMIFS(shukei!$C:$C,shukei!$B:$B,\"=\"&getsuji!$B44,shukei!$A:$A,TEXT(AA$2,\"yyyymm\"))","v":0},{"$f":"SUMIFS(shukei!$C:$C,shukei!$B:$B,\"=\"&getsuji!$B44,shukei!$A:$A,TEXT(AB$2,\"yyyymm\"))","v":0},{"$f":"SUMIFS(shukei!$C:$C,shukei!$B:$B,\"=\"&getsuji!$B44,shukei!$A:$A,TEXT(AC$2,\"yyyy\")&\"13\")","v":0},{"$f":"SUMIFS(shukei!$C:$C,shukei!$B:$B,\"=\"&getsuji!$B44,shukei!$A:$A,TEXT(AD$2,\"yyyymm\"))","v":0},{"$f":"SUMIFS(shukei!$C:$C,shukei!$B:$B,\"=\"&getsuji!$B44,shukei!$A:$A,TEXT(AE$2,\"yyyymm\"))","v":0},{"$f":"SUMIFS(shukei!$C:$C,shukei!$B:$B,\"=\"&getsuji!$B44,shukei!$A:$A,TEXT(AF$2,\"yyyymm\"))","v":0},{"$f":"SUMIFS(shukei!$C:$C,shukei!$B:$B,\"=\"&getsuji!$B44,shukei!$A:$A,TEXT(AG$2,\"yyyymm\"))","v":0},{"$f":"SUMIFS(shukei!$C:$C,shukei!$B:$B,\"=\"&getsuji!$B44,shukei!$A:$A,TEXT(AH$2,\"yyyymm\"))","v":0},{"$f":"SUMIFS(shukei!$C:$C,shukei!$B:$B,\"=\"&getsuji!$B44,shukei!$A:$A,TEXT(AI$2,\"yyyymm\"))","v":0},{"$f":"SUMIFS(shukei!$C:$C,shukei!$B:$B,\"=\"&getsuji!$B44,shukei!$A:$A,TEXT(AJ$2,\"yyyymm\"))","v":0},{"$f":"SUMIFS(shukei!$C:$C,shukei!$B:$B,\"=\"&getsuji!$B44,shukei!$A:$A,TEXT(AK$2,\"yyyymm\"))","v":0},{"$f":"SUMIFS(shukei!$C:$C,shukei!$B:$B,\"=\"&getsuji!$B44,shukei!$A:$A,TEXT(AL$2,\"yyyymm\"))","v":0},{"$f":"SUMIFS(shukei!$C:$C,shukei!$B:$B,\"=\"&getsuji!$B44,shukei!$A:$A,TEXT(AM$2,\"yyyymm\"))","v":0},{"$f":"SUMIFS(shukei!$C:$C,shukei!$B:$B,\"=\"&getsuji!$B44,shukei!$A:$A,TEXT(AN$2,\"yyyymm\"))","v":0},{"$f":"SUMIFS(shukei!$C:$C,shukei!$B:$B,\"=\"&getsuji!$B44,shukei!$A:$A,TEXT(AO$2,\"yyyymm\"))","v":0},{"$f":"SUMIFS(shukei!$C:$C,shukei!$B:$B,\"=\"&getsuji!$B44,shukei!$A:$A,TEXT(AP$2,\"yyyy\")&\"13\")","v":0}]